BEGIN:VCALENDAR
VERSION:2.0
PRODID:-//Rockford University - ECPv6.15.20//NONSGML v1.0//EN
CALSCALE:GREGORIAN
METHOD:PUBLISH
X-ORIGINAL-URL:https://www.rockford.edu
X-WR-CALDESC:Events for Rockford University
REFRESH-INTERVAL;VALUE=DURATION:PT1H
X-Robots-Tag:noindex
X-PUBLISHED-TTL:PT1H
BEGIN:VTIMEZONE
TZID:America/New_York
BEGIN:DAYLIGHT
TZOFFSETFROM:-0500
TZOFFSETTO:-0400
TZNAME:EDT
DTSTART:20170312T070000
END:DAYLIGHT
BEGIN:STANDARD
TZOFFSETFROM:-0400
TZOFFSETTO:-0500
TZNAME:EST
DTSTART:20171105T060000
END:STANDARD
BEGIN:DAYLIGHT
TZOFFSETFROM:-0500
TZOFFSETTO:-0400
TZNAME:EDT
DTSTART:20180311T070000
END:DAYLIGHT
BEGIN:STANDARD
TZOFFSETFROM:-0400
TZOFFSETTO:-0500
TZNAME:EST
DTSTART:20181104T060000
END:STANDARD
BEGIN:DAYLIGHT
TZOFFSETFROM:-0500
TZOFFSETTO:-0400
TZNAME:EDT
DTSTART:20190310T070000
END:DAYLIGHT
BEGIN:STANDARD
TZOFFSETFROM:-0400
TZOFFSETTO:-0500
TZNAME:EST
DTSTART:20191103T060000
END:STANDARD
END:VTIMEZONE
BEGIN:VEVENT
DTSTART;TZID=America/New_York:20180305T000000
DTEND;TZID=America/New_York:20180305T235900
DTSTAMP:20260424T005535
CREATED:20170629T163917Z
LAST-MODIFIED:20170629T163917Z
UID:10007126-1520208000-1520294340@www.rockford.edu
SUMMARY:Mid-term grades due in Registrar's Office
DESCRIPTION:Mid-term grades are due by 11:59pm\nView the full Academic Calendar 2017-18
URL:https://www.rockford.edu/calendar-item/mid-term-grades-due-registrars-office/
LOCATION:Rockford University\, 5050 E. State St. \, Rockford\, IL\, 61108\, United States
CATEGORIES:Academic Calendar,Campus Wide Event (Public)
GEO:42.2640342;-89.0197305
X-APPLE-STRUCTURED-LOCATION;VALUE=URI;X-ADDRESS=Rockford University 5050 E. State St.  Rockford IL 61108 United States;X-APPLE-RADIUS=500;X-TITLE=5050 E. State St.:geo:-89.0197305,42.2640342
END:VEVENT
BEGIN:VEVENT
DTSTART;VALUE=DATE:20180305
DTEND;VALUE=DATE:20180309
DTSTAMP:20260424T005535
CREATED:20170629T164159Z
LAST-MODIFIED:20180213T185740Z
UID:10007128-1520208000-1520553599@www.rockford.edu
SUMMARY:Spring Break-no classes\, offices open
DESCRIPTION:View the full Academic Calendar 2017-18
URL:https://www.rockford.edu/calendar-item/spring-break-no-classes-offices-open/
LOCATION:Rockford University\, 5050 E. State St. \, Rockford\, IL\, 61108\, United States
CATEGORIES:Academic Calendar,Campus Wide Event (Public)
GEO:42.2640342;-89.0197305
X-APPLE-STRUCTURED-LOCATION;VALUE=URI;X-ADDRESS=Rockford University 5050 E. State St.  Rockford IL 61108 United States;X-APPLE-RADIUS=500;X-TITLE=5050 E. State St.:geo:-89.0197305,42.2640342
END:VEVENT
BEGIN:VEVENT
DTSTART;VALUE=DATE:20180306
DTEND;VALUE=DATE:20180307
DTSTAMP:20260424T005535
CREATED:20170629T164039Z
LAST-MODIFIED:20170629T164039Z
UID:10007127-1520294400-1520380799@www.rockford.edu
SUMMARY:Mid-term grades available on Self Service
DESCRIPTION:View the full Academic Calendar 2017-18
URL:https://www.rockford.edu/calendar-item/mid-term-grades-available-self-service/
LOCATION:Rockford University\, 5050 E. State St. \, Rockford\, IL\, 61108\, United States
CATEGORIES:Academic Calendar,Campus Wide Event (Public)
GEO:42.2640342;-89.0197305
X-APPLE-STRUCTURED-LOCATION;VALUE=URI;X-ADDRESS=Rockford University 5050 E. State St.  Rockford IL 61108 United States;X-APPLE-RADIUS=500;X-TITLE=5050 E. State St.:geo:-89.0197305,42.2640342
END:VEVENT
BEGIN:VEVENT
DTSTART;TZID=America/New_York:20180307T150000
DTEND;TZID=America/New_York:20180307T180000
DTSTAMP:20260424T005535
CREATED:20180116T174940Z
LAST-MODIFIED:20180220T205329Z
UID:10007054-1520434800-1520445600@www.rockford.edu
SUMMARY:Gallery Hours
DESCRIPTION:Man in a Tree – David Driesbach\n Exhibition Dates: February 9 – March 16\, 2018*\n *exhibition will be closed March 5-9 during Spring Break\n Friday\, February 23 – 6:00 – 8:00 p.m. Public reception\, artist will be present \nDavid Driesbach\, a highly respected artist and educator\, is known internationally as an expert in the printmaking field\, has been exhibiting since 1949 in hundreds of solo and group exhibitions\, and is included in over 500 museum and public collections. A Man in a Tree is a survey of his work from the collections of the NIU Art Museum and a private collector. \nDriesbach’s attention to minute detail draws from artists such as Albrecht Dürer and Hieronymus Bosch as well as illuminated manuscripts and iconography of Medieval Art. He uses innovative printmaking techniques to layer pattern\, color\, and meaning\, and crowds each piece with whimsical characters\, meaningful motifs\, and political imagery. The exhibition includes early figure drawings\, self-portraits\, copper printing plates\, and prints depicting humorous scenes of human figures\, animals\, and architectural landmarks including Rockford’s own Coronado Theater.
URL:https://www.rockford.edu/calendar-item/gallery-hours-15/2018-03-07/
LOCATION:Rockford University\, 5050 E. State St. \, Rockford\, IL\, 61108\, United States
CATEGORIES:Art Gallery Event,Campus Wide Event (Public)
ORGANIZER;CN="Art Gallery":MAILTO:cwarzecha@rockford.edu
GEO:42.2640342;-89.0197305
X-APPLE-STRUCTURED-LOCATION;VALUE=URI;X-ADDRESS=Rockford University 5050 E. State St.  Rockford IL 61108 United States;X-APPLE-RADIUS=500;X-TITLE=5050 E. State St.:geo:-89.0197305,42.2640342
END:VEVENT
BEGIN:VEVENT
DTSTART;VALUE=DATE:20180309
DTEND;VALUE=DATE:20180310
DTSTAMP:20260424T005535
CREATED:20180213T190013Z
LAST-MODIFIED:20180213T190013Z
UID:10007503-1520553600-1520639999@www.rockford.edu
SUMMARY:Spring Break-no classes\, offices closed
DESCRIPTION:View the full Academic Calendar 2017-18
URL:https://www.rockford.edu/calendar-item/spring-break-no-classes-offices-closed/
LOCATION:Rockford University\, 5050 E. State St. \, Rockford\, IL\, 61108\, United States
CATEGORIES:Campus Closed,Campus Wide Event (Public)
GEO:42.2640342;-89.0197305
X-APPLE-STRUCTURED-LOCATION;VALUE=URI;X-ADDRESS=Rockford University 5050 E. State St.  Rockford IL 61108 United States;X-APPLE-RADIUS=500;X-TITLE=5050 E. State St.:geo:-89.0197305,42.2640342
END:VEVENT
END:VCALENDAR