BEGIN:VCALENDAR
VERSION:2.0
PRODID:-//Rockford University - ECPv6.15.20//NONSGML v1.0//EN
CALSCALE:GREGORIAN
METHOD:PUBLISH
X-ORIGINAL-URL:https://www.rockford.edu
X-WR-CALDESC:Events for Rockford University
REFRESH-INTERVAL;VALUE=DURATION:PT1H
X-Robots-Tag:noindex
X-PUBLISHED-TTL:PT1H
BEGIN:VTIMEZONE
TZID:America/New_York
BEGIN:DAYLIGHT
TZOFFSETFROM:-0500
TZOFFSETTO:-0400
TZNAME:EDT
DTSTART:20170312T070000
END:DAYLIGHT
BEGIN:STANDARD
TZOFFSETFROM:-0400
TZOFFSETTO:-0500
TZNAME:EST
DTSTART:20171105T060000
END:STANDARD
BEGIN:DAYLIGHT
TZOFFSETFROM:-0500
TZOFFSETTO:-0400
TZNAME:EDT
DTSTART:20180311T070000
END:DAYLIGHT
BEGIN:STANDARD
TZOFFSETFROM:-0400
TZOFFSETTO:-0500
TZNAME:EST
DTSTART:20181104T060000
END:STANDARD
BEGIN:DAYLIGHT
TZOFFSETFROM:-0500
TZOFFSETTO:-0400
TZNAME:EDT
DTSTART:20190310T070000
END:DAYLIGHT
BEGIN:STANDARD
TZOFFSETFROM:-0400
TZOFFSETTO:-0500
TZNAME:EST
DTSTART:20191103T060000
END:STANDARD
END:VTIMEZONE
BEGIN:VEVENT
DTSTART;VALUE=DATE:20180225
DTEND;VALUE=DATE:20180226
DTSTAMP:20260423T215205
CREATED:20170629T163339Z
LAST-MODIFIED:20170629T163339Z
UID:10007122-1519516800-1519603199@www.rockford.edu
SUMMARY:Anniversary of Signing of Charter - February 25\, 1847
DESCRIPTION:View the full Academic Calendar 2017-18
URL:https://www.rockford.edu/calendar-item/anniversary-signing-charter-february-25-1847/
LOCATION:Rockford University\, 5050 E. State St. \, Rockford\, IL\, 61108\, United States
CATEGORIES:Academic Calendar,Campus Wide Event (Public)
GEO:42.2640342;-89.0197305
X-APPLE-STRUCTURED-LOCATION;VALUE=URI;X-ADDRESS=Rockford University 5050 E. State St.  Rockford IL 61108 United States;X-APPLE-RADIUS=500;X-TITLE=5050 E. State St.:geo:-89.0197305,42.2640342
END:VEVENT
BEGIN:VEVENT
DTSTART;TZID=America/New_York:20180225T140000
DTEND;TZID=America/New_York:20180225T153000
DTSTAMP:20260423T215205
CREATED:20170831T150340Z
LAST-MODIFIED:20170831T150340Z
UID:10007255-1519567200-1519572600@www.rockford.edu
SUMMARY:Richard III
DESCRIPTION:Rockford University’s Performing Arts Department presents Richard III at 7:30 p.m. Thursday through Saturday\, Feb. 22-24\, and at 2 p.m. on Sunday\, Feb. 25.
URL:https://www.rockford.edu/calendar-item/richard-iii-2/
LOCATION:Maddox Theatre – Clark Arts Center\, 5050 E. State St. \, Rockford\, IL\, 61108\, United States
CATEGORIES:Campus Wide Event (Public),PA Performance
GEO:42.2640342;-89.0197305
X-APPLE-STRUCTURED-LOCATION;VALUE=URI;X-ADDRESS=Maddox Theatre – Clark Arts Center 5050 E. State St.  Rockford IL 61108 United States;X-APPLE-RADIUS=500;X-TITLE=5050 E. State St.:geo:-89.0197305,42.2640342
END:VEVENT
BEGIN:VEVENT
DTSTART;TZID=America/New_York:20180226T080000
DTEND;TZID=America/New_York:20180302T170000
DTSTAMP:20260423T215205
CREATED:20170629T163531Z
LAST-MODIFIED:20170629T163752Z
UID:10007124-1519632000-1520010000@www.rockford.edu
SUMMARY:Mid-term Exams
DESCRIPTION:View the full Academic Calendar 2017-18
URL:https://www.rockford.edu/calendar-item/midterm-exams-2/
LOCATION:Rockford University\, 5050 E. State St. \, Rockford\, IL\, 61108\, United States
CATEGORIES:Academic Calendar,Campus Wide Event (Public)
GEO:42.2640342;-89.0197305
X-APPLE-STRUCTURED-LOCATION;VALUE=URI;X-ADDRESS=Rockford University 5050 E. State St.  Rockford IL 61108 United States;X-APPLE-RADIUS=500;X-TITLE=5050 E. State St.:geo:-89.0197305,42.2640342
END:VEVENT
BEGIN:VEVENT
DTSTART;TZID=America/New_York:20180226T160000
DTEND;TZID=America/New_York:20180226T170000
DTSTAMP:20260423T215205
CREATED:20170629T163644Z
LAST-MODIFIED:20180221T234237Z
UID:10007125-1519660800-1519664400@www.rockford.edu
SUMMARY:Forum Series: Charter Day Convocation
DESCRIPTION:This year’s Charter Day Convocation welcomes Rockford Mayor Tom McNamara as special speaker and commemorates the 171st anniversary of the signing of the charter for Rockford University. The annual event typically includes an academic procession of faculty in traditional robes depicting their rank\, with stoles representing their respective alma maters and degrees.
URL:https://www.rockford.edu/calendar-item/charter-day-convocation-2/
LOCATION:Maddox Theatre – Clark Arts Center\, 5050 E. State St. \, Rockford\, IL\, 61108\, United States
CATEGORIES:Academic Calendar,Campus Wide Event (Public)
GEO:42.2640342;-89.0197305
X-APPLE-STRUCTURED-LOCATION;VALUE=URI;X-ADDRESS=Maddox Theatre – Clark Arts Center 5050 E. State St.  Rockford IL 61108 United States;X-APPLE-RADIUS=500;X-TITLE=5050 E. State St.:geo:-89.0197305,42.2640342
END:VEVENT
BEGIN:VEVENT
DTSTART;TZID=America/New_York:20180227T150000
DTEND;TZID=America/New_York:20180227T170000
DTSTAMP:20260423T215205
CREATED:20180125T200234Z
LAST-MODIFIED:20180221T235518Z
UID:10007059-1519743600-1519750800@www.rockford.edu
SUMMARY:Forum Series - Fascinating Algorithms: Pianist Dan Tepper
DESCRIPTION:New York City-based jazz pianist Dan Tepper will discuss the intersection of science and art in music\, in particular the balance of intuition and emotion with the mathematical and algorithmic. At a more personal level\, he will talk about how\, as a performer and composer\, he has opened up new avenues of creativity in his work by integrating mathematical structures\, from simple processes to fractals\, into his music.
URL:https://www.rockford.edu/calendar-item/fascinating-algorithms-pianist-dan-tepper/
LOCATION:Rockford University\, 5050 E. State St. \, Rockford\, IL\, 61108\, United States
CATEGORIES:Campus Wide Event (Public)
ORGANIZER;CN="Student Involvement and Orientation":MAILTO:LKeller@Rockford.edu
GEO:42.2640342;-89.0197305
X-APPLE-STRUCTURED-LOCATION;VALUE=URI;X-ADDRESS=Rockford University 5050 E. State St.  Rockford IL 61108 United States;X-APPLE-RADIUS=500;X-TITLE=5050 E. State St.:geo:-89.0197305,42.2640342
END:VEVENT
BEGIN:VEVENT
DTSTART;TZID=America/New_York:20180227T163000
DTEND;TZID=America/New_York:20180227T180000
DTSTAMP:20260423T215205
CREATED:20180201T205445Z
LAST-MODIFIED:20180213T000744Z
UID:10007501-1519749000-1519754400@www.rockford.edu
SUMMARY:Bloomberg Business Lab Open House
DESCRIPTION:Rockford University is pleased to announce the addition of the Bloomberg Professional service to its business curriculum. The new Bloomberg Business Lab\, featuring 11 state-of-the-art terminals\, is now part of the Puri School of Business at Rockford University and is the only academic institution with this level of global business resources in the Rockford area. Students will use the Bloomberg Professional service to further develop industry leading skills for careers in finance\, economics\, accounting and business. The Bloomberg Professional service has more than 320\,000 leading business and financial subscribers worldwide. – read more –  \nTo RSVP for the event: https://RUBloomberg.eventbrite.com or call 815.226.3374. \n  \n  \n 
URL:https://www.rockford.edu/calendar-item/bloomberg-business-lab-open-house/
LOCATION:Puri School of Business\, 5100 East State St\, Rockford\, IL\, 61108\, United States
CATEGORIES:Campus Wide Event (Public)
ATTACH;FMTTYPE=image/jpeg:https://www.rockford.edu/wp-content/uploads/2017/08/1-PSOB-Logo-PMS266-web-small.jpg
GEO:42.264752;-89.018728
X-APPLE-STRUCTURED-LOCATION;VALUE=URI;X-ADDRESS=Puri School of Business 5100 East State St Rockford IL 61108 United States;X-APPLE-RADIUS=500;X-TITLE=5100 East State St:geo:-89.018728,42.264752
END:VEVENT
BEGIN:VEVENT
DTSTART;TZID=America/New_York:20180228T150000
DTEND;TZID=America/New_York:20180228T180000
DTSTAMP:20260423T215205
CREATED:20180116T174940Z
LAST-MODIFIED:20180220T205329Z
UID:10007053-1519830000-1519840800@www.rockford.edu
SUMMARY:Gallery Hours
DESCRIPTION:Man in a Tree – David Driesbach\n Exhibition Dates: February 9 – March 16\, 2018*\n *exhibition will be closed March 5-9 during Spring Break\n Friday\, February 23 – 6:00 – 8:00 p.m. Public reception\, artist will be present \nDavid Driesbach\, a highly respected artist and educator\, is known internationally as an expert in the printmaking field\, has been exhibiting since 1949 in hundreds of solo and group exhibitions\, and is included in over 500 museum and public collections. A Man in a Tree is a survey of his work from the collections of the NIU Art Museum and a private collector. \nDriesbach’s attention to minute detail draws from artists such as Albrecht Dürer and Hieronymus Bosch as well as illuminated manuscripts and iconography of Medieval Art. He uses innovative printmaking techniques to layer pattern\, color\, and meaning\, and crowds each piece with whimsical characters\, meaningful motifs\, and political imagery. The exhibition includes early figure drawings\, self-portraits\, copper printing plates\, and prints depicting humorous scenes of human figures\, animals\, and architectural landmarks including Rockford’s own Coronado Theater.
URL:https://www.rockford.edu/calendar-item/gallery-hours-15/2018-02-28/
LOCATION:Rockford University\, 5050 E. State St. \, Rockford\, IL\, 61108\, United States
CATEGORIES:Art Gallery Event,Campus Wide Event (Public)
ORGANIZER;CN="Art Gallery":MAILTO:cwarzecha@rockford.edu
GEO:42.2640342;-89.0197305
X-APPLE-STRUCTURED-LOCATION;VALUE=URI;X-ADDRESS=Rockford University 5050 E. State St.  Rockford IL 61108 United States;X-APPLE-RADIUS=500;X-TITLE=5050 E. State St.:geo:-89.0197305,42.2640342
END:VEVENT
BEGIN:VEVENT
DTSTART;TZID=America/New_York:20180228T200000
DTEND;TZID=America/New_York:20180228T220000
DTSTAMP:20260423T215205
CREATED:20171213T175248Z
LAST-MODIFIED:20180130T184859Z
UID:10007413-1519848000-1519855200@www.rockford.edu
SUMMARY:Trivia Night
DESCRIPTION:*This is a Student Activities sponsored event and is only open to the Rockford University campus community.​​
URL:https://www.rockford.edu/calendar-item/trivia-night-4/
LOCATION:The Den – Burpee Student Center\, IL
CATEGORIES:Campus Wide Event (Public),Student Activities
ORGANIZER;CN="Student Activities":MAILTO:APJohnson@rockford.edu
GEO:40.6331249;-89.3985283
END:VEVENT
END:VCALENDAR