BEGIN:VCALENDAR
VERSION:2.0
PRODID:-//Rockford University - ECPv6.15.20//NONSGML v1.0//EN
CALSCALE:GREGORIAN
METHOD:PUBLISH
X-ORIGINAL-URL:https://www.rockford.edu
X-WR-CALDESC:Events for Rockford University
REFRESH-INTERVAL;VALUE=DURATION:PT1H
X-Robots-Tag:noindex
X-PUBLISHED-TTL:PT1H
BEGIN:VTIMEZONE
TZID:America/New_York
BEGIN:DAYLIGHT
TZOFFSETFROM:-0500
TZOFFSETTO:-0400
TZNAME:EDT
DTSTART:20170312T070000
END:DAYLIGHT
BEGIN:STANDARD
TZOFFSETFROM:-0400
TZOFFSETTO:-0500
TZNAME:EST
DTSTART:20171105T060000
END:STANDARD
BEGIN:DAYLIGHT
TZOFFSETFROM:-0500
TZOFFSETTO:-0400
TZNAME:EDT
DTSTART:20180311T070000
END:DAYLIGHT
BEGIN:STANDARD
TZOFFSETFROM:-0400
TZOFFSETTO:-0500
TZNAME:EST
DTSTART:20181104T060000
END:STANDARD
BEGIN:DAYLIGHT
TZOFFSETFROM:-0500
TZOFFSETTO:-0400
TZNAME:EDT
DTSTART:20190310T070000
END:DAYLIGHT
BEGIN:STANDARD
TZOFFSETFROM:-0400
TZOFFSETTO:-0500
TZNAME:EST
DTSTART:20191103T060000
END:STANDARD
END:VTIMEZONE
BEGIN:VEVENT
DTSTART;VALUE=DATE:20180212
DTEND;VALUE=DATE:20180213
DTSTAMP:20260424T005533
CREATED:20170720T160644Z
LAST-MODIFIED:20170720T160644Z
UID:10007175-1518393600-1518479999@www.rockford.edu
SUMMARY:BSMS Spring Session 2 Begins
DESCRIPTION:View the full Academic Calendar 2017-18
URL:https://www.rockford.edu/calendar-item/bsms-spring-session-2-begins-2/
LOCATION:Rockford University\, 5050 E. State St. \, Rockford\, IL\, 61108\, United States
CATEGORIES:Academic Calendar,Campus Wide Event (Public)
GEO:42.2640342;-89.0197305
X-APPLE-STRUCTURED-LOCATION;VALUE=URI;X-ADDRESS=Rockford University 5050 E. State St.  Rockford IL 61108 United States;X-APPLE-RADIUS=500;X-TITLE=5050 E. State St.:geo:-89.0197305,42.2640342
END:VEVENT
BEGIN:VEVENT
DTSTART;TZID=America/New_York:20180214T150000
DTEND;TZID=America/New_York:20180214T180000
DTSTAMP:20260424T005533
CREATED:20180116T174940Z
LAST-MODIFIED:20180220T205329Z
UID:10007051-1518620400-1518631200@www.rockford.edu
SUMMARY:Gallery Hours
DESCRIPTION:Man in a Tree – David Driesbach\n Exhibition Dates: February 9 – March 16\, 2018*\n *exhibition will be closed March 5-9 during Spring Break\n Friday\, February 23 – 6:00 – 8:00 p.m. Public reception\, artist will be present \nDavid Driesbach\, a highly respected artist and educator\, is known internationally as an expert in the printmaking field\, has been exhibiting since 1949 in hundreds of solo and group exhibitions\, and is included in over 500 museum and public collections. A Man in a Tree is a survey of his work from the collections of the NIU Art Museum and a private collector. \nDriesbach’s attention to minute detail draws from artists such as Albrecht Dürer and Hieronymus Bosch as well as illuminated manuscripts and iconography of Medieval Art. He uses innovative printmaking techniques to layer pattern\, color\, and meaning\, and crowds each piece with whimsical characters\, meaningful motifs\, and political imagery. The exhibition includes early figure drawings\, self-portraits\, copper printing plates\, and prints depicting humorous scenes of human figures\, animals\, and architectural landmarks including Rockford’s own Coronado Theater.
URL:https://www.rockford.edu/calendar-item/gallery-hours-15/2018-02-14/
LOCATION:Rockford University\, 5050 E. State St. \, Rockford\, IL\, 61108\, United States
CATEGORIES:Art Gallery Event,Campus Wide Event (Public)
ORGANIZER;CN="Art Gallery":MAILTO:cwarzecha@rockford.edu
GEO:42.2640342;-89.0197305
X-APPLE-STRUCTURED-LOCATION;VALUE=URI;X-ADDRESS=Rockford University 5050 E. State St.  Rockford IL 61108 United States;X-APPLE-RADIUS=500;X-TITLE=5050 E. State St.:geo:-89.0197305,42.2640342
END:VEVENT
BEGIN:VEVENT
DTSTART;TZID=America/New_York:20180215T190000
DTEND;TZID=America/New_York:20180215T210000
DTSTAMP:20260424T005533
CREATED:20180125T195335Z
LAST-MODIFIED:20180125T195335Z
UID:10007058-1518721200-1518728400@www.rockford.edu
SUMMARY:The Surprising Effect of Stories in Sane (and Crazy) People: Jacquelyn Mitchard\, '73
DESCRIPTION:The thing that authors want most is connection\, which is the whole reason they write stories. The New York Times bestselling author Jacquelyn Mitchard recounts some of the most moving\, and scary\, stories about the way readers feel about her stories. A Chicago native and graduate of Rockford College (now Rockford University)\, Mitchard is a professor of creative writing in Miami University of Ohio’s low-residency Masters of Fine Arts program\, and lives on Cape Cod with her husband and their nine children. She was the first author to be featured in Oprah’s Book Club.
URL:https://www.rockford.edu/calendar-item/surprising-effect-stories-sane-crazy-people-jacquelyn-mitchard-73/
LOCATION:Severson Auditorium – Scarborough Hall\, IL
CATEGORIES:Campus Wide Event (Public)
GEO:40.6331249;-89.3985283
END:VEVENT
BEGIN:VEVENT
DTSTART;TZID=America/New_York:20180216T200000
DTEND;TZID=America/New_York:20180216T220000
DTSTAMP:20260424T005533
CREATED:20171213T175143Z
LAST-MODIFIED:20180214T175103Z
UID:10007411-1518811200-1518818400@www.rockford.edu
SUMMARY:Movie Night
DESCRIPTION:Want to watch Batman\, Wonder Woman\, Aquaman\, Cyborg\, and The Flash team up to save the planet from an assault of catastrophic proportions? Well\, great news—you CAN! \nWatch The Justice League (not yet released on DVD!) with us and we will provide the popcorn\, pizza\, and drinks. See you Friday night at 8:00 PM in Scarborough Auditorium! \n*This is a Student Activities sponsored event and is only open to the Rockford University campus community.​​
URL:https://www.rockford.edu/calendar-item/movie-night-2/
LOCATION:Severson Auditorium – Scarborough Hall\, IL
CATEGORIES:Campus Wide Event (Public),Student Activities
ORGANIZER;CN="Student Activities":MAILTO:APJohnson@rockford.edu
GEO:40.6331249;-89.3985283
END:VEVENT
BEGIN:VEVENT
DTSTART;TZID=America/New_York:20180217T173000
DTEND;TZID=America/New_York:20180217T230000
DTSTAMP:20260424T005533
CREATED:20180109T230840Z
LAST-MODIFIED:20180109T231302Z
UID:10007045-1518888600-1518908400@www.rockford.edu
SUMMARY:Gala 2018: Ready\, Set\, Go! A Race to the Finish.
DESCRIPTION:Rockford University is heading down the final stretch! \nRock Solid and Ready: the Campaign for Rockford University is nearly complete. With only months to go\, you can help us make a dash for the checkered flag to provide a total of $17.3 million in capital and programmatic advancements that help make our students’ experience exceptional. \nOn Saturday\, February 17\, 2018\, we will host our annual gala\, “Ready. Set. Go! A Race to the Finish.” \nSo\, mark the date\, gather up your favorite racing team\, and take us into victory lane. #RURaceToFinish \nMore information about the event >>
URL:https://www.rockford.edu/calendar-item/gala-2018-ready-set-go-race-finish/
LOCATION:Regents Hall – Burpee Student Center\, 5050 E. State St. \, Rockford\, IL\, 61108\, United States
CATEGORIES:Campus Wide Event (Public)
GEO:42.2640342;-89.0197305
X-APPLE-STRUCTURED-LOCATION;VALUE=URI;X-ADDRESS=Regents Hall – Burpee Student Center 5050 E. State St.  Rockford IL 61108 United States;X-APPLE-RADIUS=500;X-TITLE=5050 E. State St.:geo:-89.0197305,42.2640342
END:VEVENT
END:VCALENDAR