BEGIN:VCALENDAR
VERSION:2.0
PRODID:-//Rockford University - ECPv6.15.20//NONSGML v1.0//EN
CALSCALE:GREGORIAN
METHOD:PUBLISH
X-ORIGINAL-URL:https://www.rockford.edu
X-WR-CALDESC:Events for Rockford University
REFRESH-INTERVAL;VALUE=DURATION:PT1H
X-Robots-Tag:noindex
X-PUBLISHED-TTL:PT1H
BEGIN:VTIMEZONE
TZID:America/New_York
BEGIN:DAYLIGHT
TZOFFSETFROM:-0500
TZOFFSETTO:-0400
TZNAME:EDT
DTSTART:20170312T070000
END:DAYLIGHT
BEGIN:STANDARD
TZOFFSETFROM:-0400
TZOFFSETTO:-0500
TZNAME:EST
DTSTART:20171105T060000
END:STANDARD
BEGIN:DAYLIGHT
TZOFFSETFROM:-0500
TZOFFSETTO:-0400
TZNAME:EDT
DTSTART:20180311T070000
END:DAYLIGHT
BEGIN:STANDARD
TZOFFSETFROM:-0400
TZOFFSETTO:-0500
TZNAME:EST
DTSTART:20181104T060000
END:STANDARD
BEGIN:DAYLIGHT
TZOFFSETFROM:-0500
TZOFFSETTO:-0400
TZNAME:EDT
DTSTART:20190310T070000
END:DAYLIGHT
BEGIN:STANDARD
TZOFFSETFROM:-0400
TZOFFSETTO:-0500
TZNAME:EST
DTSTART:20191103T060000
END:STANDARD
END:VTIMEZONE
BEGIN:VEVENT
DTSTART;VALUE=DATE:20180204
DTEND;VALUE=DATE:20180205
DTSTAMP:20260424T022255
CREATED:20171213T173411Z
LAST-MODIFIED:20180130T184743Z
UID:10007404-1517702400-1517788799@www.rockford.edu
SUMMARY:Superbowl Party
DESCRIPTION:*This is a Student Activities sponsored event and is only open to the Rockford University campus community.​​
URL:https://www.rockford.edu/calendar-item/superbowl-party/
LOCATION:Severson Auditorium – Scarborough Hall\, IL
CATEGORIES:Campus Wide Event (Public),Student Activities
ORGANIZER;CN="Student Activities":MAILTO:APJohnson@rockford.edu
GEO:40.6331249;-89.3985283
END:VEVENT
BEGIN:VEVENT
DTSTART;VALUE=DATE:20180205
DTEND;VALUE=DATE:20180206
DTSTAMP:20260424T022255
CREATED:20170629T163202Z
LAST-MODIFIED:20170629T163202Z
UID:10007121-1517788800-1517875199@www.rockford.edu
SUMMARY:Spring Census
DESCRIPTION:View the full Academic Calendar 2017-18
URL:https://www.rockford.edu/calendar-item/spring-census-2/
LOCATION:Rockford University\, 5050 E. State St. \, Rockford\, IL\, 61108\, United States
CATEGORIES:Academic Calendar,Campus Wide Event (Public)
GEO:42.2640342;-89.0197305
X-APPLE-STRUCTURED-LOCATION;VALUE=URI;X-ADDRESS=Rockford University 5050 E. State St.  Rockford IL 61108 United States;X-APPLE-RADIUS=500;X-TITLE=5050 E. State St.:geo:-89.0197305,42.2640342
END:VEVENT
BEGIN:VEVENT
DTSTART;TZID=America/New_York:20180206T150000
DTEND;TZID=America/New_York:20180206T170000
DTSTAMP:20260424T022255
CREATED:20180125T194931Z
LAST-MODIFIED:20180125T194931Z
UID:10007057-1517929200-1517936400@www.rockford.edu
SUMMARY:Not Your Typical Sex Talk: Justine Shuey
DESCRIPTION:Dr. Justine Marie Shuey of Philadelphia shares a hilarious\, honest\, no-holds-barred approach to sexuality education that uses puppets\, props\, interactive activities and audience participation to address misinformation head-on while enhancing sexual awareness. You will leave educated\, informed\, and empowered to take charge of your sexuality in safe\, appropriate ways. Dr. Shuey has a Ph.D. in human sexuality and is working on a second doctorate degree.
URL:https://www.rockford.edu/calendar-item/not-typical-sex-talk-justine-shuey/
LOCATION:Maddox Theatre – Clark Arts Center\, 5050 E. State St. \, Rockford\, IL\, 61108\, United States
CATEGORIES:Campus Wide Event (Public)
GEO:42.2640342;-89.0197305
X-APPLE-STRUCTURED-LOCATION;VALUE=URI;X-ADDRESS=Maddox Theatre – Clark Arts Center 5050 E. State St.  Rockford IL 61108 United States;X-APPLE-RADIUS=500;X-TITLE=5050 E. State St.:geo:-89.0197305,42.2640342
END:VEVENT
BEGIN:VEVENT
DTSTART;TZID=America/New_York:20180207T190000
DTEND;TZID=America/New_York:20180207T220000
DTSTAMP:20260424T022255
CREATED:20171213T173628Z
LAST-MODIFIED:20180130T184759Z
UID:10007406-1518030000-1518040800@www.rockford.edu
SUMMARY:Craft Night
DESCRIPTION:*This is a Student Activities sponsored event and is only open to the Rockford University campus community.​​
URL:https://www.rockford.edu/calendar-item/craft-night/
LOCATION:The Den – Burpee Student Center\, IL
CATEGORIES:Campus Wide Event (Public),Student Activities
ORGANIZER;CN="Student Activities":MAILTO:APJohnson@rockford.edu
GEO:40.6331249;-89.3985283
END:VEVENT
BEGIN:VEVENT
DTSTART;TZID=America/New_York:20180209T190000
DTEND;TZID=America/New_York:20180209T220000
DTSTAMP:20260424T022255
CREATED:20180126T231052Z
LAST-MODIFIED:20180126T231052Z
UID:10007432-1518202800-1518213600@www.rockford.edu
SUMMARY:Pack the Night PURPLE! RU Night with the IceHogs
DESCRIPTION:Pack the Night PURPLE! RU Night with the IceHogs – Feb. 9!\nEveryone is invited to turn the BMO Harris Bank Center the perfect shade of RU Purple on Friday\, Feb. 9 for the IceHogs vs. Milwaukee Admirals hockey game. Faculty\, staff\, students\, alumni\, family and friends – invite them all. There’s 5\,895 seats to fill and the more purple\, the better!  \nThere will be some special fun for RU supporter at the game and Hammy and Reggie will be joining in on the fun\, too.  \nGet your discounted tickets\, invite others\, and share the fun via this special RU link: https://www.fevo.com/edp/Rockford-IceHogs-Rockford-University-Night-ICC4GFnG. Tickets must be reserved in advance.
URL:https://www.rockford.edu/calendar-item/pack-night-purple-ru-night-icehogs/
LOCATION:BMO Harris Bank Center\, 300 Elm St.\, Rockford\, IL\, 61101\, United States
CATEGORIES:Campus Wide Event (Public)
ATTACH;FMTTYPE=image/png:https://www.rockford.edu/wp-content/uploads/2018/01/icehogs-primary-logo-8-color-3-e1516299965996.png
GEO:42.2702374;-89.0960536
X-APPLE-STRUCTURED-LOCATION;VALUE=URI;X-ADDRESS=BMO Harris Bank Center 300 Elm St. Rockford IL 61101 United States;X-APPLE-RADIUS=500;X-TITLE=300 Elm St.:geo:-89.0960536,42.2702374
END:VEVENT
BEGIN:VEVENT
DTSTART;VALUE=DATE:20180210
DTEND;VALUE=DATE:20180211
DTSTAMP:20260424T022255
CREATED:20170720T160549Z
LAST-MODIFIED:20170720T160549Z
UID:10007171-1518220800-1518307199@www.rockford.edu
SUMMARY:BSMS Spring Session 1 Ends
DESCRIPTION:View the full Academic Calendar 2017-18
URL:https://www.rockford.edu/calendar-item/bsms-spring-session-1-ends-2/
LOCATION:Rockford University\, 5050 E. State St. \, Rockford\, IL\, 61108\, United States
CATEGORIES:Academic Calendar,Campus Wide Event (Public)
GEO:42.2640342;-89.0197305
X-APPLE-STRUCTURED-LOCATION;VALUE=URI;X-ADDRESS=Rockford University 5050 E. State St.  Rockford IL 61108 United States;X-APPLE-RADIUS=500;X-TITLE=5050 E. State St.:geo:-89.0197305,42.2640342
END:VEVENT
BEGIN:VEVENT
DTSTART;VALUE=DATE:20180210
DTEND;VALUE=DATE:20180211
DTSTAMP:20260424T022255
CREATED:20171213T174034Z
LAST-MODIFIED:20180130T184817Z
UID:10007409-1518220800-1518307199@www.rockford.edu
SUMMARY:Tentative Ski Trip
DESCRIPTION:*This is a Student Activities sponsored event and is only open to the Rockford University campus community.​​
URL:https://www.rockford.edu/calendar-item/tentative-ski-trip/
LOCATION:IL
CATEGORIES:Campus Wide Event (Public),Student Activities
ORGANIZER;CN="Student Activities":MAILTO:APJohnson@rockford.edu
END:VEVENT
BEGIN:VEVENT
DTSTART;TZID=America/New_York:20180210T103000
DTEND;TZID=America/New_York:20180210T140000
DTSTAMP:20260424T022255
CREATED:20180131T211129Z
LAST-MODIFIED:20180131T211129Z
UID:10007500-1518258600-1518271200@www.rockford.edu
SUMMARY:Admitted Student Day/Competitive Scholarship Interviews
DESCRIPTION:Newly admitted RU students earning Founders Awards\, Academic Excellence Scholarships\, Phi Theta Kappa Awards\, and Dean’s Scholarships are invited to a special day on campus. Understand more about what our faculty are passionate about teaching\, meet current students and hear about their research\, chat with faculty\, staff\, students\, and alumni during lunch\, and so much more. Competitive Scholarship applicants will also interview throughout the day. Experience RU in a different way\, see where you fit in. Follow the day up by cheering on the Regents men’s and women’s basketball teams.\n \nRSVP now >>
URL:https://www.rockford.edu/calendar-item/admitted-student-day-competitive-scholarship-interviews/
LOCATION:Regents Hall – Burpee Student Center\, 5050 E. State St. \, Rockford\, IL\, 61108\, United States
CATEGORIES:Admissions,Campus Wide Event (Public)
ORGANIZER;CN="Student Involvement and Orientation":MAILTO:LKeller@Rockford.edu
GEO:42.2640342;-89.0197305
X-APPLE-STRUCTURED-LOCATION;VALUE=URI;X-ADDRESS=Regents Hall – Burpee Student Center 5050 E. State St.  Rockford IL 61108 United States;X-APPLE-RADIUS=500;X-TITLE=5050 E. State St.:geo:-89.0197305,42.2640342
END:VEVENT
END:VCALENDAR