BEGIN:VCALENDAR
VERSION:2.0
PRODID:-//Rockford University - ECPv6.15.20//NONSGML v1.0//EN
CALSCALE:GREGORIAN
METHOD:PUBLISH
X-WR-CALNAME:Rockford University
X-ORIGINAL-URL:https://www.rockford.edu
X-WR-CALDESC:Events for Rockford University
REFRESH-INTERVAL;VALUE=DURATION:PT1H
X-Robots-Tag:noindex
X-PUBLISHED-TTL:PT1H
BEGIN:VTIMEZONE
TZID:America/New_York
BEGIN:DAYLIGHT
TZOFFSETFROM:-0500
TZOFFSETTO:-0400
TZNAME:EDT
DTSTART:20170312T070000
END:DAYLIGHT
BEGIN:STANDARD
TZOFFSETFROM:-0400
TZOFFSETTO:-0500
TZNAME:EST
DTSTART:20171105T060000
END:STANDARD
BEGIN:DAYLIGHT
TZOFFSETFROM:-0500
TZOFFSETTO:-0400
TZNAME:EDT
DTSTART:20180311T070000
END:DAYLIGHT
BEGIN:STANDARD
TZOFFSETFROM:-0400
TZOFFSETTO:-0500
TZNAME:EST
DTSTART:20181104T060000
END:STANDARD
BEGIN:DAYLIGHT
TZOFFSETFROM:-0500
TZOFFSETTO:-0400
TZNAME:EDT
DTSTART:20190310T070000
END:DAYLIGHT
BEGIN:STANDARD
TZOFFSETFROM:-0400
TZOFFSETTO:-0500
TZNAME:EST
DTSTART:20191103T060000
END:STANDARD
END:VTIMEZONE
BEGIN:VEVENT
DTSTART;TZID=America/New_York:20180131T190000
DTEND;TZID=America/New_York:20180131T210000
DTSTAMP:20260424T041347
CREATED:20180125T194515Z
LAST-MODIFIED:20180125T194515Z
UID:10007056-1517425200-1517432400@www.rockford.edu
SUMMARY:Nurse Practitioner Katie Duke
DESCRIPTION:Nurse practitioner\, media consultant\, and social media influencer Katie Duke illustrates how we can turn bad decisions into success\, losses into lessons\, and be proud of our path. Don’t miss one of the most prominent public figures in nursing as she shares her own story of personal and professional journey.
URL:https://www.rockford.edu/calendar-item/nurse-practitioner-katie-duke/
LOCATION:Maddox Theatre – Clark Arts Center\, 5050 E. State St. \, Rockford\, IL\, 61108\, United States
CATEGORIES:Campus Wide Event (Public),Nursing
ORGANIZER;CN="Student Involvement and Orientation":MAILTO:LKeller@Rockford.edu
GEO:42.2640342;-89.0197305
X-APPLE-STRUCTURED-LOCATION;VALUE=URI;X-ADDRESS=Maddox Theatre – Clark Arts Center 5050 E. State St.  Rockford IL 61108 United States;X-APPLE-RADIUS=500;X-TITLE=5050 E. State St.:geo:-89.0197305,42.2640342
END:VEVENT
BEGIN:VEVENT
DTSTART;TZID=America/New_York:20180131T200000
DTEND;TZID=America/New_York:20180131T220000
DTSTAMP:20260424T041347
CREATED:20171213T172958Z
LAST-MODIFIED:20180130T184704Z
UID:10007389-1517428800-1517436000@www.rockford.edu
SUMMARY:Trivia Night
DESCRIPTION:*This is a Student Activities sponsored event and is only open to the Rockford University campus community.​​
URL:https://www.rockford.edu/calendar-item/trivia-night-3/
LOCATION:The Den – Burpee Student Center\, IL
CATEGORIES:Campus Wide Event (Public),Student Activities
ORGANIZER;CN="Student Activities":MAILTO:APJohnson@rockford.edu
GEO:40.6331249;-89.3985283
END:VEVENT
BEGIN:VEVENT
DTSTART;TZID=America/New_York:20180203T180000
DTEND;TZID=America/New_York:20180203T210000
DTSTAMP:20260424T041347
CREATED:20180131T194243Z
LAST-MODIFIED:20180131T194638Z
UID:10007498-1517680800-1517691600@www.rockford.edu
SUMMARY:Heart Art - Gallery Benefit Auction
DESCRIPTION:Please join the art department at Heart Art – a benefit auction featuring art from over 50 artists. The event will take place on Saturday\, February 3 from 6-9pm in the Clark Arts Center at Rockford University. There will be a silent auction featuring art from alumni of the Rockford University art department\, Rockford area artists\, artists from past gallery exhibitions\, and artists from the Northern Illinois region. Food\, music\, and a cash bar will be provided. Tickets are available for purchase from the Rockford University Box Office (call 815-226-4100) for $15\, student tickets are $5. Tickets will also be available for purchase at the door on the day of the event. All proceeds benefit the Rockford University Art Department.
URL:https://www.rockford.edu/calendar-item/heart-art-gallery-benefit-auction/
LOCATION:Rockford University\, 5050 E. State St. \, Rockford\, IL\, 61108\, United States
CATEGORIES:Art Gallery Event,Campus Wide Event (Public)
ORGANIZER;CN="Art Gallery":MAILTO:cwarzecha@rockford.edu
GEO:42.2640342;-89.0197305
X-APPLE-STRUCTURED-LOCATION;VALUE=URI;X-ADDRESS=Rockford University 5050 E. State St.  Rockford IL 61108 United States;X-APPLE-RADIUS=500;X-TITLE=5050 E. State St.:geo:-89.0197305,42.2640342
END:VEVENT
BEGIN:VEVENT
DTSTART;TZID=America/New_York:20180203T200000
DTEND;TZID=America/New_York:20180203T220000
DTSTAMP:20260424T041347
CREATED:20171213T173217Z
LAST-MODIFIED:20180130T184733Z
UID:10007403-1517688000-1517695200@www.rockford.edu
SUMMARY:RU's Got Talent
DESCRIPTION:*This is a Student Activities sponsored event and is only open to the Rockford University campus community.​​
URL:https://www.rockford.edu/calendar-item/rus-got-talent/
LOCATION:Severson Auditorium – Scarborough Hall\, IL
CATEGORIES:Campus Wide Event (Public),Student Activities
ORGANIZER;CN="Student Activities":MAILTO:APJohnson@rockford.edu
GEO:40.6331249;-89.3985283
END:VEVENT
END:VCALENDAR