BEGIN:VCALENDAR
VERSION:2.0
PRODID:-//Rockford University - ECPv6.15.20//NONSGML v1.0//EN
CALSCALE:GREGORIAN
METHOD:PUBLISH
X-WR-CALNAME:Rockford University
X-ORIGINAL-URL:https://www.rockford.edu
X-WR-CALDESC:Events for Rockford University
REFRESH-INTERVAL;VALUE=DURATION:PT1H
X-Robots-Tag:noindex
X-PUBLISHED-TTL:PT1H
BEGIN:VTIMEZONE
TZID:America/New_York
BEGIN:DAYLIGHT
TZOFFSETFROM:-0500
TZOFFSETTO:-0400
TZNAME:EDT
DTSTART:20160313T070000
END:DAYLIGHT
BEGIN:STANDARD
TZOFFSETFROM:-0400
TZOFFSETTO:-0500
TZNAME:EST
DTSTART:20161106T060000
END:STANDARD
BEGIN:DAYLIGHT
TZOFFSETFROM:-0500
TZOFFSETTO:-0400
TZNAME:EDT
DTSTART:20170312T070000
END:DAYLIGHT
BEGIN:STANDARD
TZOFFSETFROM:-0400
TZOFFSETTO:-0500
TZNAME:EST
DTSTART:20171105T060000
END:STANDARD
BEGIN:DAYLIGHT
TZOFFSETFROM:-0500
TZOFFSETTO:-0400
TZNAME:EDT
DTSTART:20180311T070000
END:DAYLIGHT
BEGIN:STANDARD
TZOFFSETFROM:-0400
TZOFFSETTO:-0500
TZNAME:EST
DTSTART:20181104T060000
END:STANDARD
END:VTIMEZONE
BEGIN:VEVENT
DTSTART;TZID=America/New_York:20171119T140000
DTEND;TZID=America/New_York:20171119T153000
DTSTAMP:20260424T103643
CREATED:20170831T143926Z
LAST-MODIFIED:20170831T143926Z
UID:10007244-1511100000-1511105400@www.rockford.edu
SUMMARY:Deathtrap
DESCRIPTION:Rockford University’s Performing Arts Department presents “Deathtrap” at 7:30 p.m. Thursday\, Nov. 16 through Saturday\, Nov. 18\, and at 2 p.m. on Sunday\, Nov. 19.
URL:https://www.rockford.edu/calendar-item/deathtrap/
LOCATION:Cheek Theatre – Clark Arts Center\, 5050 E. State St. \, Rockford\, IL\, 61108\, United States
CATEGORIES:Campus Wide Event (Public),PA Performance
GEO:42.2640342;-89.0197305
X-APPLE-STRUCTURED-LOCATION;VALUE=URI;X-ADDRESS=Cheek Theatre – Clark Arts Center 5050 E. State St.  Rockford IL 61108 United States;X-APPLE-RADIUS=500;X-TITLE=5050 E. State St.:geo:-89.0197305,42.2640342
END:VEVENT
BEGIN:VEVENT
DTSTART;TZID=America/New_York:20171122T000000
DTEND;TZID=America/New_York:20171124T235900
DTSTAMP:20260424T103643
CREATED:20170629T160615Z
LAST-MODIFIED:20170629T160615Z
UID:10007106-1511308800-1511567940@www.rockford.edu
SUMMARY:Thanksgiving Holiday-no classes
DESCRIPTION:View the full Academic Calendar 2017-18
URL:https://www.rockford.edu/calendar-item/thanksgiving-holiday-no-classes/
LOCATION:Rockford University\, 5050 E. State St. \, Rockford\, IL\, 61108\, United States
CATEGORIES:Academic Calendar,Campus Wide Event (Public)
GEO:42.2640342;-89.0197305
X-APPLE-STRUCTURED-LOCATION;VALUE=URI;X-ADDRESS=Rockford University 5050 E. State St.  Rockford IL 61108 United States;X-APPLE-RADIUS=500;X-TITLE=5050 E. State St.:geo:-89.0197305,42.2640342
END:VEVENT
BEGIN:VEVENT
DTSTART;TZID=America/New_York:20171122T150000
DTEND;TZID=America/New_York:20171122T180000
DTSTAMP:20260424T103643
CREATED:20171025T215016Z
LAST-MODIFIED:20171025T215216Z
UID:10007354-1511362800-1511373600@www.rockford.edu
SUMMARY:Art Gallery Hours
DESCRIPTION:Visit the gallery from 3-6pm to see Erin Furimsky’s solo exhibition\, “Beneath Repetition” at the Rockford University Art Gallery in the Clark Arts Center. \nErin Furimsky’s meticulous details reflect elements of domesticity\, floral motifs\, and calligraphy. The fullness of the ceramic sculptures give the illusion of buoyancy\, complementing the vivid surface treatment. Fragments and layers accumulate organically across the bulbous surfaces of Furimsky’s sculptures\, leaving a sense of order remaining as the embellishments are coupled with linear patterns and blocks of solid color.
URL:https://www.rockford.edu/calendar-item/art-gallery-hours-2/2017-11-22/
LOCATION:Rockford University\, 5050 E. State St. \, Rockford\, IL\, 61108\, United States
CATEGORIES:Campus Wide Event (Public)
ATTACH;FMTTYPE=image/jpeg:https://www.rockford.edu/wp-content/uploads/2017/10/Her-Labor.jpg
ORGANIZER;CN="Art Gallery":MAILTO:cwarzecha@rockford.edu
GEO:42.2640342;-89.0197305
X-APPLE-STRUCTURED-LOCATION;VALUE=URI;X-ADDRESS=Rockford University 5050 E. State St.  Rockford IL 61108 United States;X-APPLE-RADIUS=500;X-TITLE=5050 E. State St.:geo:-89.0197305,42.2640342
END:VEVENT
BEGIN:VEVENT
DTSTART;TZID=America/New_York:20171123T000000
DTEND;TZID=America/New_York:20171124T235900
DTSTAMP:20260424T103643
CREATED:20170629T160722Z
LAST-MODIFIED:20170629T160722Z
UID:10004307-1511395200-1511567940@www.rockford.edu
SUMMARY:Thanksgiving Holiday-offices closed
DESCRIPTION:View the full Academic Calendar 2017-18
URL:https://www.rockford.edu/calendar-item/thanksgiving-holiday-offices-closed/
LOCATION:Rockford University\, 5050 E. State St. \, Rockford\, IL\, 61108\, United States
CATEGORIES:Academic Calendar,Campus Wide Event (Public)
GEO:42.2640342;-89.0197305
X-APPLE-STRUCTURED-LOCATION;VALUE=URI;X-ADDRESS=Rockford University 5050 E. State St.  Rockford IL 61108 United States;X-APPLE-RADIUS=500;X-TITLE=5050 E. State St.:geo:-89.0197305,42.2640342
END:VEVENT
END:VCALENDAR