BEGIN:VCALENDAR
VERSION:2.0
PRODID:-//Rockford University - ECPv6.15.20//NONSGML v1.0//EN
CALSCALE:GREGORIAN
METHOD:PUBLISH
X-WR-CALNAME:Rockford University
X-ORIGINAL-URL:https://www.rockford.edu
X-WR-CALDESC:Events for Rockford University
REFRESH-INTERVAL;VALUE=DURATION:PT1H
X-Robots-Tag:noindex
X-PUBLISHED-TTL:PT1H
BEGIN:VTIMEZONE
TZID:America/New_York
BEGIN:DAYLIGHT
TZOFFSETFROM:-0500
TZOFFSETTO:-0400
TZNAME:EDT
DTSTART:20160313T070000
END:DAYLIGHT
BEGIN:STANDARD
TZOFFSETFROM:-0400
TZOFFSETTO:-0500
TZNAME:EST
DTSTART:20161106T060000
END:STANDARD
BEGIN:DAYLIGHT
TZOFFSETFROM:-0500
TZOFFSETTO:-0400
TZNAME:EDT
DTSTART:20170312T070000
END:DAYLIGHT
BEGIN:STANDARD
TZOFFSETFROM:-0400
TZOFFSETTO:-0500
TZNAME:EST
DTSTART:20171105T060000
END:STANDARD
BEGIN:DAYLIGHT
TZOFFSETFROM:-0500
TZOFFSETTO:-0400
TZNAME:EDT
DTSTART:20180311T070000
END:DAYLIGHT
BEGIN:STANDARD
TZOFFSETFROM:-0400
TZOFFSETTO:-0500
TZNAME:EST
DTSTART:20181104T060000
END:STANDARD
END:VTIMEZONE
BEGIN:VEVENT
DTSTART;TZID=America/New_York:20171022T173000
DTEND;TZID=America/New_York:20171022T210000
DTSTAMP:20260424T102048
CREATED:20170829T155345Z
LAST-MODIFIED:20170829T155345Z
UID:10007213-1508693400-1508706000@www.rockford.edu
SUMMARY:Fall Phone-a-thon
DESCRIPTION:Fall Phone-a-thon connects current students with alumni and friends of Rockford University.
URL:https://www.rockford.edu/calendar-item/fall-phone-thon/2017-10-22/
LOCATION:Rockford University\, 5050 E. State St. \, Rockford\, IL\, 61108\, United States
CATEGORIES:Campus Wide Event (Public)
GEO:42.2640342;-89.0197305
X-APPLE-STRUCTURED-LOCATION;VALUE=URI;X-ADDRESS=Rockford University 5050 E. State St.  Rockford IL 61108 United States;X-APPLE-RADIUS=500;X-TITLE=5050 E. State St.:geo:-89.0197305,42.2640342
END:VEVENT
BEGIN:VEVENT
DTSTART;TZID=America/New_York:20171023T150000
DTEND;TZID=America/New_York:20171023T180000
DTSTAMP:20260424T102048
CREATED:20170831T193152Z
LAST-MODIFIED:20171004T190506Z
UID:10007274-1508770800-1508781600@www.rockford.edu
SUMMARY:Art Gallery Hours
DESCRIPTION:Visit the gallery from 3-6pm to see Stephen Cartwright’s solo exhibition\, “Surface Elements” at the Rockford University Art Gallery in the Clark Arts Center. \nFor 18 years\, Stephen Cartwright has recorded his exact latitude\, longitude and elevation for every hour of every day. He incorporates this data into digital and sculptural work that intersects the realms of science and art. Using this and other self-recorded data\, Cartwright creates bold\, minimal landscape sculptures and digital media projects that explore topography\, temperature\, light\, and movement.
URL:https://www.rockford.edu/calendar-item/art-gallery-hours/2017-10-23/
LOCATION:Clark Arts Center\, 5050 E. State St. \, Rockford\, IL\, 61108\, United States
CATEGORIES:Campus Wide Event (Public)
ATTACH;FMTTYPE=image/jpeg:https://www.rockford.edu/wp-content/uploads/2017/08/IMG_9673edited.jpg
ORGANIZER;CN="Art Gallery":MAILTO:cwarzecha@rockford.edu
GEO:42.2640342;-89.0197305
X-APPLE-STRUCTURED-LOCATION;VALUE=URI;X-ADDRESS=Clark Arts Center 5050 E. State St.  Rockford IL 61108 United States;X-APPLE-RADIUS=500;X-TITLE=5050 E. State St.:geo:-89.0197305,42.2640342
END:VEVENT
BEGIN:VEVENT
DTSTART;TZID=America/New_York:20171023T173000
DTEND;TZID=America/New_York:20171023T210000
DTSTAMP:20260424T102048
CREATED:20170829T155345Z
LAST-MODIFIED:20170829T155345Z
UID:10007214-1508779800-1508792400@www.rockford.edu
SUMMARY:Fall Phone-a-thon
DESCRIPTION:Fall Phone-a-thon connects current students with alumni and friends of Rockford University.
URL:https://www.rockford.edu/calendar-item/fall-phone-thon/2017-10-23/
LOCATION:Rockford University\, 5050 E. State St. \, Rockford\, IL\, 61108\, United States
CATEGORIES:Campus Wide Event (Public)
GEO:42.2640342;-89.0197305
X-APPLE-STRUCTURED-LOCATION;VALUE=URI;X-ADDRESS=Rockford University 5050 E. State St.  Rockford IL 61108 United States;X-APPLE-RADIUS=500;X-TITLE=5050 E. State St.:geo:-89.0197305,42.2640342
END:VEVENT
BEGIN:VEVENT
DTSTART;TZID=America/New_York:20171024T173000
DTEND;TZID=America/New_York:20171024T210000
DTSTAMP:20260424T102048
CREATED:20170829T155345Z
LAST-MODIFIED:20170829T155345Z
UID:10007215-1508866200-1508878800@www.rockford.edu
SUMMARY:Fall Phone-a-thon
DESCRIPTION:Fall Phone-a-thon connects current students with alumni and friends of Rockford University.
URL:https://www.rockford.edu/calendar-item/fall-phone-thon/2017-10-24/
LOCATION:Rockford University\, 5050 E. State St. \, Rockford\, IL\, 61108\, United States
CATEGORIES:Campus Wide Event (Public)
GEO:42.2640342;-89.0197305
X-APPLE-STRUCTURED-LOCATION;VALUE=URI;X-ADDRESS=Rockford University 5050 E. State St.  Rockford IL 61108 United States;X-APPLE-RADIUS=500;X-TITLE=5050 E. State St.:geo:-89.0197305,42.2640342
END:VEVENT
BEGIN:VEVENT
DTSTART;TZID=America/New_York:20171025T150000
DTEND;TZID=America/New_York:20171025T180000
DTSTAMP:20260424T102048
CREATED:20170831T193152Z
LAST-MODIFIED:20171004T190506Z
UID:10007275-1508943600-1508954400@www.rockford.edu
SUMMARY:Art Gallery Hours
DESCRIPTION:Visit the gallery from 3-6pm to see Stephen Cartwright’s solo exhibition\, “Surface Elements” at the Rockford University Art Gallery in the Clark Arts Center. \nFor 18 years\, Stephen Cartwright has recorded his exact latitude\, longitude and elevation for every hour of every day. He incorporates this data into digital and sculptural work that intersects the realms of science and art. Using this and other self-recorded data\, Cartwright creates bold\, minimal landscape sculptures and digital media projects that explore topography\, temperature\, light\, and movement.
URL:https://www.rockford.edu/calendar-item/art-gallery-hours/2017-10-25/
LOCATION:Clark Arts Center\, 5050 E. State St. \, Rockford\, IL\, 61108\, United States
CATEGORIES:Campus Wide Event (Public)
ATTACH;FMTTYPE=image/jpeg:https://www.rockford.edu/wp-content/uploads/2017/08/IMG_9673edited.jpg
ORGANIZER;CN="Art Gallery":MAILTO:cwarzecha@rockford.edu
GEO:42.2640342;-89.0197305
X-APPLE-STRUCTURED-LOCATION;VALUE=URI;X-ADDRESS=Clark Arts Center 5050 E. State St.  Rockford IL 61108 United States;X-APPLE-RADIUS=500;X-TITLE=5050 E. State St.:geo:-89.0197305,42.2640342
END:VEVENT
BEGIN:VEVENT
DTSTART;TZID=America/New_York:20171025T173000
DTEND;TZID=America/New_York:20171025T210000
DTSTAMP:20260424T102048
CREATED:20170829T155345Z
LAST-MODIFIED:20170829T155345Z
UID:10007216-1508952600-1508965200@www.rockford.edu
SUMMARY:Fall Phone-a-thon
DESCRIPTION:Fall Phone-a-thon connects current students with alumni and friends of Rockford University.
URL:https://www.rockford.edu/calendar-item/fall-phone-thon/2017-10-25/
LOCATION:Rockford University\, 5050 E. State St. \, Rockford\, IL\, 61108\, United States
CATEGORIES:Campus Wide Event (Public)
GEO:42.2640342;-89.0197305
X-APPLE-STRUCTURED-LOCATION;VALUE=URI;X-ADDRESS=Rockford University 5050 E. State St.  Rockford IL 61108 United States;X-APPLE-RADIUS=500;X-TITLE=5050 E. State St.:geo:-89.0197305,42.2640342
END:VEVENT
BEGIN:VEVENT
DTSTART;TZID=America/New_York:20171026T173000
DTEND;TZID=America/New_York:20171026T210000
DTSTAMP:20260424T102048
CREATED:20170829T155345Z
LAST-MODIFIED:20170829T155345Z
UID:10007217-1509039000-1509051600@www.rockford.edu
SUMMARY:Fall Phone-a-thon
DESCRIPTION:Fall Phone-a-thon connects current students with alumni and friends of Rockford University.
URL:https://www.rockford.edu/calendar-item/fall-phone-thon/2017-10-26/
LOCATION:Rockford University\, 5050 E. State St. \, Rockford\, IL\, 61108\, United States
CATEGORIES:Campus Wide Event (Public)
GEO:42.2640342;-89.0197305
X-APPLE-STRUCTURED-LOCATION;VALUE=URI;X-ADDRESS=Rockford University 5050 E. State St.  Rockford IL 61108 United States;X-APPLE-RADIUS=500;X-TITLE=5050 E. State St.:geo:-89.0197305,42.2640342
END:VEVENT
BEGIN:VEVENT
DTSTART;TZID=America/New_York:20171027T150000
DTEND;TZID=America/New_York:20171027T180000
DTSTAMP:20260424T102048
CREATED:20170831T193152Z
LAST-MODIFIED:20171004T190506Z
UID:10007276-1509116400-1509127200@www.rockford.edu
SUMMARY:Art Gallery Hours
DESCRIPTION:Visit the gallery from 3-6pm to see Stephen Cartwright’s solo exhibition\, “Surface Elements” at the Rockford University Art Gallery in the Clark Arts Center. \nFor 18 years\, Stephen Cartwright has recorded his exact latitude\, longitude and elevation for every hour of every day. He incorporates this data into digital and sculptural work that intersects the realms of science and art. Using this and other self-recorded data\, Cartwright creates bold\, minimal landscape sculptures and digital media projects that explore topography\, temperature\, light\, and movement.
URL:https://www.rockford.edu/calendar-item/art-gallery-hours/2017-10-27/
LOCATION:Clark Arts Center\, 5050 E. State St. \, Rockford\, IL\, 61108\, United States
CATEGORIES:Campus Wide Event (Public)
ATTACH;FMTTYPE=image/jpeg:https://www.rockford.edu/wp-content/uploads/2017/08/IMG_9673edited.jpg
ORGANIZER;CN="Art Gallery":MAILTO:cwarzecha@rockford.edu
GEO:42.2640342;-89.0197305
X-APPLE-STRUCTURED-LOCATION;VALUE=URI;X-ADDRESS=Clark Arts Center 5050 E. State St.  Rockford IL 61108 United States;X-APPLE-RADIUS=500;X-TITLE=5050 E. State St.:geo:-89.0197305,42.2640342
END:VEVENT
END:VCALENDAR