BEGIN:VCALENDAR
VERSION:2.0
PRODID:-//Rockford University - ECPv6.15.20//NONSGML v1.0//EN
CALSCALE:GREGORIAN
METHOD:PUBLISH
X-WR-CALNAME:Rockford University
X-ORIGINAL-URL:https://www.rockford.edu
X-WR-CALDESC:Events for Rockford University
REFRESH-INTERVAL;VALUE=DURATION:PT1H
X-Robots-Tag:noindex
X-PUBLISHED-TTL:PT1H
BEGIN:VTIMEZONE
TZID:America/New_York
BEGIN:DAYLIGHT
TZOFFSETFROM:-0500
TZOFFSETTO:-0400
TZNAME:EDT
DTSTART:20160313T070000
END:DAYLIGHT
BEGIN:STANDARD
TZOFFSETFROM:-0400
TZOFFSETTO:-0500
TZNAME:EST
DTSTART:20161106T060000
END:STANDARD
BEGIN:DAYLIGHT
TZOFFSETFROM:-0500
TZOFFSETTO:-0400
TZNAME:EDT
DTSTART:20170312T070000
END:DAYLIGHT
BEGIN:STANDARD
TZOFFSETFROM:-0400
TZOFFSETTO:-0500
TZNAME:EST
DTSTART:20171105T060000
END:STANDARD
BEGIN:DAYLIGHT
TZOFFSETFROM:-0500
TZOFFSETTO:-0400
TZNAME:EDT
DTSTART:20180311T070000
END:DAYLIGHT
BEGIN:STANDARD
TZOFFSETFROM:-0400
TZOFFSETTO:-0500
TZNAME:EST
DTSTART:20181104T060000
END:STANDARD
END:VTIMEZONE
BEGIN:VEVENT
DTSTART;TZID=America/New_York:20171011T000000
DTEND;TZID=America/New_York:20171017T233000
DTSTAMP:20260424T144513
CREATED:20170629T155206Z
LAST-MODIFIED:20170629T155206Z
UID:10007098-1507680000-1508283000@www.rockford.edu
SUMMARY:Midterm Exams
DESCRIPTION:View the full Academic Calendar 2017-18
URL:https://www.rockford.edu/calendar-item/midterm-exams/
LOCATION:Rockford University\, 5050 E. State St. \, Rockford\, IL\, 61108\, United States
CATEGORIES:Academic Calendar,Campus Wide Event (Public)
GEO:42.2640342;-89.0197305
X-APPLE-STRUCTURED-LOCATION;VALUE=URI;X-ADDRESS=Rockford University 5050 E. State St.  Rockford IL 61108 United States;X-APPLE-RADIUS=500;X-TITLE=5050 E. State St.:geo:-89.0197305,42.2640342
END:VEVENT
BEGIN:VEVENT
DTSTART;TZID=America/New_York:20171016T150000
DTEND;TZID=America/New_York:20171016T180000
DTSTAMP:20260424T144513
CREATED:20170831T193152Z
LAST-MODIFIED:20171004T190506Z
UID:10007271-1508166000-1508176800@www.rockford.edu
SUMMARY:Art Gallery Hours
DESCRIPTION:Visit the gallery from 3-6pm to see Stephen Cartwright’s solo exhibition\, “Surface Elements” at the Rockford University Art Gallery in the Clark Arts Center. \nFor 18 years\, Stephen Cartwright has recorded his exact latitude\, longitude and elevation for every hour of every day. He incorporates this data into digital and sculptural work that intersects the realms of science and art. Using this and other self-recorded data\, Cartwright creates bold\, minimal landscape sculptures and digital media projects that explore topography\, temperature\, light\, and movement.
URL:https://www.rockford.edu/calendar-item/art-gallery-hours/2017-10-16/
LOCATION:Clark Arts Center\, 5050 E. State St. \, Rockford\, IL\, 61108\, United States
CATEGORIES:Campus Wide Event (Public)
ATTACH;FMTTYPE=image/jpeg:https://www.rockford.edu/wp-content/uploads/2017/08/IMG_9673edited.jpg
ORGANIZER;CN="Art Gallery":MAILTO:cwarzecha@rockford.edu
GEO:42.2640342;-89.0197305
X-APPLE-STRUCTURED-LOCATION;VALUE=URI;X-ADDRESS=Clark Arts Center 5050 E. State St.  Rockford IL 61108 United States;X-APPLE-RADIUS=500;X-TITLE=5050 E. State St.:geo:-89.0197305,42.2640342
END:VEVENT
BEGIN:VEVENT
DTSTART;TZID=America/New_York:20171018T000000
DTEND;TZID=America/New_York:20171019T235900
DTSTAMP:20260424T144513
CREATED:20170629T155738Z
LAST-MODIFIED:20170629T155738Z
UID:10007102-1508284800-1508457540@www.rockford.edu
SUMMARY:Fall break-no classes\, offices open
DESCRIPTION:View the full Academic Calendar 2017-18
URL:https://www.rockford.edu/calendar-item/fall-break-no-classes-offices-open/
LOCATION:Rockford University\, 5050 E. State St. \, Rockford\, IL\, 61108\, United States
CATEGORIES:Academic Calendar,Campus Wide Event (Public)
GEO:42.2640342;-89.0197305
X-APPLE-STRUCTURED-LOCATION;VALUE=URI;X-ADDRESS=Rockford University 5050 E. State St.  Rockford IL 61108 United States;X-APPLE-RADIUS=500;X-TITLE=5050 E. State St.:geo:-89.0197305,42.2640342
END:VEVENT
BEGIN:VEVENT
DTSTART;TZID=America/New_York:20171018T150000
DTEND;TZID=America/New_York:20171018T180000
DTSTAMP:20260424T144513
CREATED:20170831T193152Z
LAST-MODIFIED:20171004T190506Z
UID:10007272-1508338800-1508349600@www.rockford.edu
SUMMARY:Art Gallery Hours
DESCRIPTION:Visit the gallery from 3-6pm to see Stephen Cartwright’s solo exhibition\, “Surface Elements” at the Rockford University Art Gallery in the Clark Arts Center. \nFor 18 years\, Stephen Cartwright has recorded his exact latitude\, longitude and elevation for every hour of every day. He incorporates this data into digital and sculptural work that intersects the realms of science and art. Using this and other self-recorded data\, Cartwright creates bold\, minimal landscape sculptures and digital media projects that explore topography\, temperature\, light\, and movement.
URL:https://www.rockford.edu/calendar-item/art-gallery-hours/2017-10-18/
LOCATION:Clark Arts Center\, 5050 E. State St. \, Rockford\, IL\, 61108\, United States
CATEGORIES:Campus Wide Event (Public)
ATTACH;FMTTYPE=image/jpeg:https://www.rockford.edu/wp-content/uploads/2017/08/IMG_9673edited.jpg
ORGANIZER;CN="Art Gallery":MAILTO:cwarzecha@rockford.edu
GEO:42.2640342;-89.0197305
X-APPLE-STRUCTURED-LOCATION;VALUE=URI;X-ADDRESS=Clark Arts Center 5050 E. State St.  Rockford IL 61108 United States;X-APPLE-RADIUS=500;X-TITLE=5050 E. State St.:geo:-89.0197305,42.2640342
END:VEVENT
BEGIN:VEVENT
DTSTART;VALUE=DATE:20171020
DTEND;VALUE=DATE:20171021
DTSTAMP:20260424T144513
CREATED:20170629T155600Z
LAST-MODIFIED:20170629T155600Z
UID:10007101-1508457600-1508543999@www.rockford.edu
SUMMARY:Midterm grades available on Self Service
DESCRIPTION:View the full Academic Calendar 2017-18
URL:https://www.rockford.edu/calendar-item/midterm-grades-available-self-service/
LOCATION:Rockford University\, 5050 E. State St. \, Rockford\, IL\, 61108\, United States
CATEGORIES:Academic Calendar,Campus Wide Event (Public)
GEO:42.2640342;-89.0197305
X-APPLE-STRUCTURED-LOCATION;VALUE=URI;X-ADDRESS=Rockford University 5050 E. State St.  Rockford IL 61108 United States;X-APPLE-RADIUS=500;X-TITLE=5050 E. State St.:geo:-89.0197305,42.2640342
END:VEVENT
BEGIN:VEVENT
DTSTART;VALUE=DATE:20171020
DTEND;VALUE=DATE:20171021
DTSTAMP:20260424T144513
CREATED:20170629T155832Z
LAST-MODIFIED:20170629T155832Z
UID:10007103-1508457600-1508543999@www.rockford.edu
SUMMARY:Fall break-no classes\, offices closed
DESCRIPTION:View the full Academic Calendar 2017-18
URL:https://www.rockford.edu/calendar-item/fall-break-no-classes-offices-closed/
LOCATION:Rockford University\, 5050 E. State St. \, Rockford\, IL\, 61108\, United States
CATEGORIES:Academic Calendar,Campus Wide Event (Public)
ORGANIZER;CN="Student Involvement and Orientation":MAILTO:LKeller@Rockford.edu
GEO:42.2640342;-89.0197305
X-APPLE-STRUCTURED-LOCATION;VALUE=URI;X-ADDRESS=Rockford University 5050 E. State St.  Rockford IL 61108 United States;X-APPLE-RADIUS=500;X-TITLE=5050 E. State St.:geo:-89.0197305,42.2640342
END:VEVENT
BEGIN:VEVENT
DTSTART;TZID=America/New_York:20171020T150000
DTEND;TZID=America/New_York:20171020T180000
DTSTAMP:20260424T144513
CREATED:20170831T193152Z
LAST-MODIFIED:20171004T190506Z
UID:10007273-1508511600-1508522400@www.rockford.edu
SUMMARY:Art Gallery Hours
DESCRIPTION:Visit the gallery from 3-6pm to see Stephen Cartwright’s solo exhibition\, “Surface Elements” at the Rockford University Art Gallery in the Clark Arts Center. \nFor 18 years\, Stephen Cartwright has recorded his exact latitude\, longitude and elevation for every hour of every day. He incorporates this data into digital and sculptural work that intersects the realms of science and art. Using this and other self-recorded data\, Cartwright creates bold\, minimal landscape sculptures and digital media projects that explore topography\, temperature\, light\, and movement.
URL:https://www.rockford.edu/calendar-item/art-gallery-hours/2017-10-20/
LOCATION:Clark Arts Center\, 5050 E. State St. \, Rockford\, IL\, 61108\, United States
CATEGORIES:Campus Wide Event (Public)
ATTACH;FMTTYPE=image/jpeg:https://www.rockford.edu/wp-content/uploads/2017/08/IMG_9673edited.jpg
ORGANIZER;CN="Art Gallery":MAILTO:cwarzecha@rockford.edu
GEO:42.2640342;-89.0197305
X-APPLE-STRUCTURED-LOCATION;VALUE=URI;X-ADDRESS=Clark Arts Center 5050 E. State St.  Rockford IL 61108 United States;X-APPLE-RADIUS=500;X-TITLE=5050 E. State St.:geo:-89.0197305,42.2640342
END:VEVENT
END:VCALENDAR