BEGIN:VCALENDAR
VERSION:2.0
PRODID:-//Rockford University - ECPv6.15.20//NONSGML v1.0//EN
CALSCALE:GREGORIAN
METHOD:PUBLISH
X-ORIGINAL-URL:https://www.rockford.edu
X-WR-CALDESC:Events for Rockford University
REFRESH-INTERVAL;VALUE=DURATION:PT1H
X-Robots-Tag:noindex
X-PUBLISHED-TTL:PT1H
BEGIN:VTIMEZONE
TZID:America/Chicago
BEGIN:DAYLIGHT
TZOFFSETFROM:-0600
TZOFFSETTO:-0500
TZNAME:CDT
DTSTART:20160313T080000
END:DAYLIGHT
BEGIN:STANDARD
TZOFFSETFROM:-0500
TZOFFSETTO:-0600
TZNAME:CST
DTSTART:20161106T070000
END:STANDARD
BEGIN:DAYLIGHT
TZOFFSETFROM:-0600
TZOFFSETTO:-0500
TZNAME:CDT
DTSTART:20170312T080000
END:DAYLIGHT
BEGIN:STANDARD
TZOFFSETFROM:-0500
TZOFFSETTO:-0600
TZNAME:CST
DTSTART:20171105T070000
END:STANDARD
BEGIN:DAYLIGHT
TZOFFSETFROM:-0600
TZOFFSETTO:-0500
TZNAME:CDT
DTSTART:20180311T080000
END:DAYLIGHT
BEGIN:STANDARD
TZOFFSETFROM:-0500
TZOFFSETTO:-0600
TZNAME:CST
DTSTART:20181104T070000
END:STANDARD
END:VTIMEZONE
BEGIN:VEVENT
DTSTART;VALUE=DATE:20170424
DTEND;VALUE=DATE:20170425
DTSTAMP:20260424T225917
CREATED:20161012T203032Z
LAST-MODIFIED:20161207T205303Z
UID:10004240-1492992000-1493078399@www.rockford.edu
SUMMARY:BSMS Spring Session 4 Begins
DESCRIPTION:View the full Academic Calendar 2016-17
URL:https://www.rockford.edu/calendar-item/bsms-spring-session-4-begins/
LOCATION:IL
CATEGORIES:Academic Calendar,Campus Wide Event (Public)
END:VEVENT
BEGIN:VEVENT
DTSTART;TZID=America/Chicago:20170424T100000
DTEND;TZID=America/Chicago:20170424T113000
DTSTAMP:20260424T225917
CREATED:20170404T145937Z
LAST-MODIFIED:20170404T145937Z
UID:10006995-1493028000-1493033400@www.rockford.edu
SUMMARY:Register: Title IX Responsible Employee Training
DESCRIPTION:All Employees of Rockford University are required to complete Responsible Employee Training surrounding Title IX/Sexual Misconduct and Gender-Based Discrimination. This workshop will cover response\, intervention\, and referral for persons harmed or wrong as a result of sex and gender-based concerns\, including harassment and retaliation. We will look beyond Title IX and other compliance areas to Creating a Responsive and Supportive Environment: Through Timely Responses\, Equitable Processes and Support Services. Questions\, contact Compliance and Title IX Officer\, LaShun McGhee\, 815-226-2842.
URL:https://www.rockford.edu/calendar-item/register-title-ix-responsible-employee-training-4/2017-04-24/
LOCATION:Faculty Dining Room – Burpee Student Center\, 5050 E. State St. \, Rockford\, IL\, 61108\, United States
CATEGORIES:Campus Wide Event (Public),Title IX
GEO:42.2640342;-89.0197305
X-APPLE-STRUCTURED-LOCATION;VALUE=URI;X-ADDRESS=Faculty Dining Room – Burpee Student Center 5050 E. State St.  Rockford IL 61108 United States;X-APPLE-RADIUS=500;X-TITLE=5050 E. State St.:geo:-89.0197305,42.2640342
END:VEVENT
BEGIN:VEVENT
DTSTART;VALUE=DATE:20170426
DTEND;VALUE=DATE:20170427
DTSTAMP:20260424T225917
CREATED:20170414T174523Z
LAST-MODIFIED:20170414T174607Z
UID:10004263-1493164800-1493251199@www.rockford.edu
SUMMARY:Day of Giving 2017
DESCRIPTION:Calling all alumni and friends of Rockford University! Join us for our third annual Day of Giving on April 26. This is a day for all Regents to band together and support a rock solid future for those who may not be able to afford a RU education on their own. #WeAreReady2017 and we hope YOU are ready to step up and give today to support student scholarships! With your help\, we can provide deserving students a rock solid education and make our community stronger one student at a time. As a special bonus this year\, every gift made will automatically double in value. Check out our special Day of Giving site for more details and updates.
URL:https://www.rockford.edu/calendar-item/day-giving-2017/
LOCATION:Rockford University\, 5050 E. State St. \, Rockford\, IL\, 61108\, United States
CATEGORIES:Campus Wide Event (Public)
ATTACH;FMTTYPE=image/jpeg:https://www.rockford.edu/wp-content/uploads/2017/04/17-0216-DOG-2017-thank-you-web-banner-1200x410-pixels.jpg
GEO:42.2640342;-89.0197305
X-APPLE-STRUCTURED-LOCATION;VALUE=URI;X-ADDRESS=Rockford University 5050 E. State St.  Rockford IL 61108 United States;X-APPLE-RADIUS=500;X-TITLE=5050 E. State St.:geo:-89.0197305,42.2640342
END:VEVENT
BEGIN:VEVENT
DTSTART;TZID=America/Chicago:20170426T150000
DTEND;TZID=America/Chicago:20170426T163000
DTSTAMP:20260424T225917
CREATED:20170404T145937Z
LAST-MODIFIED:20170404T145937Z
UID:10006996-1493218800-1493224200@www.rockford.edu
SUMMARY:Register: Title IX Responsible Employee Training
DESCRIPTION:All Employees of Rockford University are required to complete Responsible Employee Training surrounding Title IX/Sexual Misconduct and Gender-Based Discrimination. This workshop will cover response\, intervention\, and referral for persons harmed or wrong as a result of sex and gender-based concerns\, including harassment and retaliation. We will look beyond Title IX and other compliance areas to Creating a Responsive and Supportive Environment: Through Timely Responses\, Equitable Processes and Support Services. Questions\, contact Compliance and Title IX Officer\, LaShun McGhee\, 815-226-2842.
URL:https://www.rockford.edu/calendar-item/register-title-ix-responsible-employee-training-4/2017-04-26/
LOCATION:Faculty Dining Room – Burpee Student Center\, 5050 E. State St. \, Rockford\, IL\, 61108\, United States
CATEGORIES:Campus Wide Event (Public),Title IX
GEO:42.2640342;-89.0197305
X-APPLE-STRUCTURED-LOCATION;VALUE=URI;X-ADDRESS=Faculty Dining Room – Burpee Student Center 5050 E. State St.  Rockford IL 61108 United States;X-APPLE-RADIUS=500;X-TITLE=5050 E. State St.:geo:-89.0197305,42.2640342
END:VEVENT
BEGIN:VEVENT
DTSTART;TZID=America/Chicago:20170427T193000
DTEND;TZID=America/Chicago:20170430T140000
DTSTAMP:20260424T225917
CREATED:20161012T203032Z
LAST-MODIFIED:20170411T184012Z
UID:10004242-1493321400-1493560800@www.rockford.edu
SUMMARY:Forum Series - "A Flea in Her Ear"\, by Georges Feydeau
DESCRIPTION:A Flea in Her Ear (farse)\nApr. 27-30-2017\, Thu-Sat @ 7:30 PM\, Sun. @ 2:00 PM\nMaddox Theatre\, Clark Arts Center\n$12 adults\, $9 students and seniors\nDirected by Deborah Mogford\, Performing Arts Chair\, Professor of Performing Arts \nParanoia\, infidelity\, and lechery take center stage in this raucous bedroom farce. An hysterical cocktail of chaos that could only have been devised by the master of comic stagecraft\, Feydeau. \nContact the Box Office at 815-226-4100 or boxoffice@rockford.edu to reserve your ticket(s). The Clark Arts Center is accessible.
URL:https://www.rockford.edu/calendar-item/a-flea-in-her-ear-by-georges-feydeau/
LOCATION:Maddox Theatre\, 5050 E. State St. \, Rockford\, IL\, 61108\, United States
CATEGORIES:Academic Calendar,Campus Wide Event (Public),Forum Series,PA Performance
ORGANIZER;CN="Box Office":MAILTO:boxoffice@rockford.edu
GEO:42.264048;-89.0197327
X-APPLE-STRUCTURED-LOCATION;VALUE=URI;X-ADDRESS=Maddox Theatre 5050 E. State St.  Rockford IL 61108 United States;X-APPLE-RADIUS=500;X-TITLE=5050 E. State St.:geo:-89.0197327,42.264048
END:VEVENT
END:VCALENDAR