BEGIN:VCALENDAR
VERSION:2.0
PRODID:-//Rockford University - ECPv6.15.20//NONSGML v1.0//EN
CALSCALE:GREGORIAN
METHOD:PUBLISH
X-WR-CALNAME:Rockford University
X-ORIGINAL-URL:https://www.rockford.edu
X-WR-CALDESC:Events for Rockford University
REFRESH-INTERVAL;VALUE=DURATION:PT1H
X-Robots-Tag:noindex
X-PUBLISHED-TTL:PT1H
BEGIN:VTIMEZONE
TZID:America/Chicago
BEGIN:DAYLIGHT
TZOFFSETFROM:-0600
TZOFFSETTO:-0500
TZNAME:CDT
DTSTART:20160313T080000
END:DAYLIGHT
BEGIN:STANDARD
TZOFFSETFROM:-0500
TZOFFSETTO:-0600
TZNAME:CST
DTSTART:20161106T070000
END:STANDARD
BEGIN:DAYLIGHT
TZOFFSETFROM:-0600
TZOFFSETTO:-0500
TZNAME:CDT
DTSTART:20170312T080000
END:DAYLIGHT
BEGIN:STANDARD
TZOFFSETFROM:-0500
TZOFFSETTO:-0600
TZNAME:CST
DTSTART:20171105T070000
END:STANDARD
BEGIN:DAYLIGHT
TZOFFSETFROM:-0600
TZOFFSETTO:-0500
TZNAME:CDT
DTSTART:20180311T080000
END:DAYLIGHT
BEGIN:STANDARD
TZOFFSETFROM:-0500
TZOFFSETTO:-0600
TZNAME:CST
DTSTART:20181104T070000
END:STANDARD
END:VTIMEZONE
BEGIN:VEVENT
DTSTART;VALUE=DATE:20170320
DTEND;VALUE=DATE:20170415
DTSTAMP:20260424T230633
CREATED:20161117T171640Z
LAST-MODIFIED:20170411T174902Z
UID:10004300-1489968000-1492214399@www.rockford.edu
SUMMARY:Fall Registration Open
DESCRIPTION:View the full Academic Calendar 2016-17 \nRegistration for fall semester for all continuing graduate\, undergraduate and BSMS students is open 03/20/17 – 04/14/17.
URL:https://www.rockford.edu/calendar-item/registration-for-fall-semester-for-all-continuing-graduate-undergraduate-and-bsms-students-032017-041417/
LOCATION:IL
CATEGORIES:Academic Calendar,Campus Wide Event (Public)
END:VEVENT
BEGIN:VEVENT
DTSTART;TZID=America/Chicago:20170327T130000
DTEND;TZID=America/Chicago:20170327T143000
DTSTAMP:20260424T230633
CREATED:20170324T211121Z
LAST-MODIFIED:20170324T211121Z
UID:10006974-1490619600-1490625000@www.rockford.edu
SUMMARY:Title IX Responsible Employee Training
DESCRIPTION:ll Employees of Rockford University are required to complete Responsible Employee Training surrounding Title IX/Sexual Misconduct and Gender-Based Discrimination response and intervention to persons harmed or wrong as a result of sex-based concerns. The workshop will focus on Moving Beyond Compliance to Creating a Responsive and Supportive Environment: Through Timely Responses\, Equitable Processes and Support Services.  Questions\, contact Compliance and Title IX Officer\, LaShun McGhee
URL:https://www.rockford.edu/calendar-item/title-ix-responsible-employee-training/
LOCATION:Faculty Dining Room – Burpee Student Center\, 5050 E. State St. \, Rockford\, IL\, 61108\, United States
CATEGORIES:Academic Calendar,Campus Wide Event (Public),Title IX
GEO:42.2640342;-89.0197305
X-APPLE-STRUCTURED-LOCATION;VALUE=URI;X-ADDRESS=Faculty Dining Room – Burpee Student Center 5050 E. State St.  Rockford IL 61108 United States;X-APPLE-RADIUS=500;X-TITLE=5050 E. State St.:geo:-89.0197305,42.2640342
END:VEVENT
BEGIN:VEVENT
DTSTART;TZID=America/Chicago:20170327T161500
DTEND;TZID=America/Chicago:20170327T181500
DTSTAMP:20260424T230633
CREATED:20170315T205453Z
LAST-MODIFIED:20170315T205453Z
UID:10004376-1490631300-1490638500@www.rockford.edu
SUMMARY:ACT Plus Writing Test Preparation Workshop
DESCRIPTION:Rockford University Center for Learning Strategies Office is offering ACT Plus Writing Test Preparation Workshops for the April 8\, 2017 test. Here is the Schedule:\nWednesday\, March 15\, 2017 – (Reading) – 4:15 – 6:15 pm\nMonday\, March 20\, 2017 – (English) – 4:15 – 6:15 pm\nWednesday\, March 22\, 2017 – (Reading) – 4:15 – 6:15 pm\nMonday\, March 27\, 2017 – (Science) – 4:15 – 6:15 pm\nWednesday\, March 29\, 2017 – (Science) – 4:15 – 6:15 pm\nMonday\, April 3\, 2017 – (Math) – 4:15 – 6:15 pm\nWednesday\, April 5\, 2017 – (Math) – 4:15 – 6:15 pm\nContact the Center for Learning Strategies Office at 815-226-4087 or email EBergstrom@Rockford.edu to register or for more information.
URL:https://www.rockford.edu/calendar-item/act-plus-writing-test-preparation-workshop/2017-03-27/
LOCATION:Starr Science Center\, 5050 E. State St. \, Rockford\, IL\, 61108\, United States
CATEGORIES:Academic Calendar,Campus Activities Board,Campus Wide Event (Public),Graduate Office,Student Activities
ORGANIZER;CN="Education":MAILTO:mlagunas@rockford.edu
GEO:42.2640342;-89.0197305
X-APPLE-STRUCTURED-LOCATION;VALUE=URI;X-ADDRESS=Starr Science Center 5050 E. State St.  Rockford IL 61108 United States;X-APPLE-RADIUS=500;X-TITLE=5050 E. State St.:geo:-89.0197305,42.2640342
END:VEVENT
BEGIN:VEVENT
DTSTART;TZID=America/Chicago:20170329T161500
DTEND;TZID=America/Chicago:20170329T181500
DTSTAMP:20260424T230633
CREATED:20170315T205453Z
LAST-MODIFIED:20170315T205453Z
UID:10004377-1490804100-1490811300@www.rockford.edu
SUMMARY:ACT Plus Writing Test Preparation Workshop
DESCRIPTION:Rockford University Center for Learning Strategies Office is offering ACT Plus Writing Test Preparation Workshops for the April 8\, 2017 test. Here is the Schedule:\nWednesday\, March 15\, 2017 – (Reading) – 4:15 – 6:15 pm\nMonday\, March 20\, 2017 – (English) – 4:15 – 6:15 pm\nWednesday\, March 22\, 2017 – (Reading) – 4:15 – 6:15 pm\nMonday\, March 27\, 2017 – (Science) – 4:15 – 6:15 pm\nWednesday\, March 29\, 2017 – (Science) – 4:15 – 6:15 pm\nMonday\, April 3\, 2017 – (Math) – 4:15 – 6:15 pm\nWednesday\, April 5\, 2017 – (Math) – 4:15 – 6:15 pm\nContact the Center for Learning Strategies Office at 815-226-4087 or email EBergstrom@Rockford.edu to register or for more information.
URL:https://www.rockford.edu/calendar-item/act-plus-writing-test-preparation-workshop/2017-03-29/
LOCATION:Starr Science Center\, 5050 E. State St. \, Rockford\, IL\, 61108\, United States
CATEGORIES:Academic Calendar,Campus Activities Board,Campus Wide Event (Public),Graduate Office,Student Activities
ORGANIZER;CN="Education":MAILTO:mlagunas@rockford.edu
GEO:42.2640342;-89.0197305
X-APPLE-STRUCTURED-LOCATION;VALUE=URI;X-ADDRESS=Starr Science Center 5050 E. State St.  Rockford IL 61108 United States;X-APPLE-RADIUS=500;X-TITLE=5050 E. State St.:geo:-89.0197305,42.2640342
END:VEVENT
BEGIN:VEVENT
DTSTART;TZID=America/Chicago:20170330T120000
DTEND;TZID=America/Chicago:20170330T130000
DTSTAMP:20260424T230633
CREATED:20170324T211120Z
LAST-MODIFIED:20170324T211120Z
UID:10004389-1490875200-1490878800@www.rockford.edu
SUMMARY:Stress Free Zone
DESCRIPTION:Join the Lang Health Center for a stress relief workshop. Thursdays (3/30\, 4/6\, 4/13\, 4/20) at 12 noon in the Lang Health Center. Join us each week for a different activity to relax and cope with stress. Ahhhhhhhhhhh I feel better already.
URL:https://www.rockford.edu/calendar-item/stress-free-zone/2017-03-30/
LOCATION:Rockford University\, 5050 E. State St. \, Rockford\, IL\, 61108\, United States
CATEGORIES:Campus Wide Event (Public)
ORGANIZER;CN="Student Involvement and Orientation":MAILTO:LKeller@Rockford.edu
GEO:42.2640342;-89.0197305
X-APPLE-STRUCTURED-LOCATION;VALUE=URI;X-ADDRESS=Rockford University 5050 E. State St.  Rockford IL 61108 United States;X-APPLE-RADIUS=500;X-TITLE=5050 E. State St.:geo:-89.0197305,42.2640342
END:VEVENT
BEGIN:VEVENT
DTSTART;TZID=America/Chicago:20170331T093000
DTEND;TZID=America/Chicago:20170331T120000
DTSTAMP:20260424T230633
CREATED:20170316T212659Z
LAST-MODIFIED:20170316T212659Z
UID:10004385-1490952600-1490961600@www.rockford.edu
SUMMARY:Entrepreneurial Education Conference
DESCRIPTION:The Center for Ethics and Entrepreneurship will be hosting a conference at Rockford University\, March 31\, 2017\, on Entrepreneurial Education. \nInvited speakers include: T.K. Coleman (Praxis)\, María Marty (Fundación para la Responsabilidad Intelectual)\, Nicholas Capaldi (Loyola University New Orleans)\, Kevin Currie-Knight (East Carolina University)\, Marsha Familaro Enright (The Great Connections Seminars)\, Terry Noel (Illinois State University)\, Jed Hopkins (Edgewood College)\, Amy Willis (Liberty Fund)\, and Peggy O’Neil (University of Western Ontario). \nThe event is free to attend\, and everyone is welcome! \nFor more information visit our website (ethicsandentrepreneurship.org) or email Jennifer Harrolle (jharrolle@rockford.edu).
URL:https://www.rockford.edu/calendar-item/entrepreneurial-education-conference/
LOCATION:Regents Hall – Burpee Student Center\, 5050 E. State St. \, Rockford\, IL\, 61108\, United States
CATEGORIES:Campus Wide Event (Public)
ORGANIZER;CN="Center for Ethics and Entrepreneurship":MAILTO:jharrolle@rockford.edu
GEO:42.2640342;-89.0197305
X-APPLE-STRUCTURED-LOCATION;VALUE=URI;X-ADDRESS=Regents Hall – Burpee Student Center 5050 E. State St.  Rockford IL 61108 United States;X-APPLE-RADIUS=500;X-TITLE=5050 E. State St.:geo:-89.0197305,42.2640342
END:VEVENT
END:VCALENDAR