BEGIN:VCALENDAR
VERSION:2.0
PRODID:-//Rockford University - ECPv6.15.20//NONSGML v1.0//EN
CALSCALE:GREGORIAN
METHOD:PUBLISH
X-WR-CALNAME:Rockford University
X-ORIGINAL-URL:https://www.rockford.edu
X-WR-CALDESC:Events for Rockford University
REFRESH-INTERVAL;VALUE=DURATION:PT1H
X-Robots-Tag:noindex
X-PUBLISHED-TTL:PT1H
BEGIN:VTIMEZONE
TZID:America/Chicago
BEGIN:DAYLIGHT
TZOFFSETFROM:-0600
TZOFFSETTO:-0500
TZNAME:CDT
DTSTART:20220313T080000
END:DAYLIGHT
BEGIN:STANDARD
TZOFFSETFROM:-0500
TZOFFSETTO:-0600
TZNAME:CST
DTSTART:20221106T070000
END:STANDARD
BEGIN:DAYLIGHT
TZOFFSETFROM:-0600
TZOFFSETTO:-0500
TZNAME:CDT
DTSTART:20230312T080000
END:DAYLIGHT
BEGIN:STANDARD
TZOFFSETFROM:-0500
TZOFFSETTO:-0600
TZNAME:CST
DTSTART:20231105T070000
END:STANDARD
BEGIN:DAYLIGHT
TZOFFSETFROM:-0600
TZOFFSETTO:-0500
TZNAME:CDT
DTSTART:20240310T080000
END:DAYLIGHT
BEGIN:STANDARD
TZOFFSETFROM:-0500
TZOFFSETTO:-0600
TZNAME:CST
DTSTART:20241103T070000
END:STANDARD
END:VTIMEZONE
BEGIN:VEVENT
DTSTART;TZID=America/Chicago:20230825T120000
DTEND;TZID=America/Chicago:20230825T130000
DTSTAMP:20260425T231453
CREATED:20230531T193101Z
LAST-MODIFIED:20230814T194503Z
UID:10008300-1692964800-1692968400@www.rockford.edu
SUMMARY:PRESIDENT'S OPENING CONVOCATION
DESCRIPTION:Forum series to kick off the new Academic year! This event will be Friday\, Aug. 25\, 2023 from 12 to 1 p.m. \nStudents who attend could win one of two book scholarships! Free books for a semester (up to $500) sponsored by President Lynott. Attending staff will be entered to win other prize drawings\, including free lunch in the dining hall. \n 
URL:https://www.rockford.edu/calendar-item/presidents-opening-convocation-5/
LOCATION:Maddox Theatre – Clark Arts Center\, 5050 E. State St. \, Rockford\, IL\, 61108\, United States
CATEGORIES:Campus Activities Board,Campus Wide Event (Public),Forum Series
ORGANIZER;CN="Tara Vanden Branden":MAILTO:tvandenbranden@rockford.edu
GEO:42.2640342;-89.0197305
X-APPLE-STRUCTURED-LOCATION;VALUE=URI;X-ADDRESS=Maddox Theatre – Clark Arts Center 5050 E. State St.  Rockford IL 61108 United States;X-APPLE-RADIUS=500;X-TITLE=5050 E. State St.:geo:-89.0197305,42.2640342
END:VEVENT
BEGIN:VEVENT
DTSTART;TZID=America/Chicago:20230831T170000
DTEND;TZID=America/Chicago:20230831T183000
DTSTAMP:20260425T231453
CREATED:20230814T195504Z
LAST-MODIFIED:20230814T195504Z
UID:10008327-1693501200-1693506600@www.rockford.edu
SUMMARY:MBA Welcome Event
DESCRIPTION:Who: All new\, current\, alumni\, and interested MBA students\nWhen: August 31 5-6:30\nEvents\n-Hot Appetizers\n-Digital Business Card Creation\n-Panel of Successful Rockfordians discussing why they love to live\, work\, and play in Rockford.\n-Prizes
URL:https://www.rockford.edu/calendar-item/mba-welcome-event/
LOCATION:Rockford University Johnson Alumni Center\, 5050 East State Street\, Rockford\, IL\, 61108\, United States
CATEGORIES:Campus Wide Event (Public)
ATTACH;FMTTYPE=image/png:https://www.rockford.edu/wp-content/uploads/2023/08/MBA-WELCOME-NIGHT-PORTAL-UPLOAD-1.png
END:VEVENT
END:VCALENDAR