BEGIN:VCALENDAR
VERSION:2.0
PRODID:-//Rockford University - ECPv6.15.20//NONSGML v1.0//EN
CALSCALE:GREGORIAN
METHOD:PUBLISH
X-WR-CALNAME:Rockford University
X-ORIGINAL-URL:https://www.rockford.edu
X-WR-CALDESC:Events for Rockford University
REFRESH-INTERVAL;VALUE=DURATION:PT1H
X-Robots-Tag:noindex
X-PUBLISHED-TTL:PT1H
BEGIN:VTIMEZONE
TZID:America/Chicago
BEGIN:DAYLIGHT
TZOFFSETFROM:-0600
TZOFFSETTO:-0500
TZNAME:CDT
DTSTART:20220313T080000
END:DAYLIGHT
BEGIN:STANDARD
TZOFFSETFROM:-0500
TZOFFSETTO:-0600
TZNAME:CST
DTSTART:20221106T070000
END:STANDARD
BEGIN:DAYLIGHT
TZOFFSETFROM:-0600
TZOFFSETTO:-0500
TZNAME:CDT
DTSTART:20230312T080000
END:DAYLIGHT
BEGIN:STANDARD
TZOFFSETFROM:-0500
TZOFFSETTO:-0600
TZNAME:CST
DTSTART:20231105T070000
END:STANDARD
BEGIN:DAYLIGHT
TZOFFSETFROM:-0600
TZOFFSETTO:-0500
TZNAME:CDT
DTSTART:20240310T080000
END:DAYLIGHT
BEGIN:STANDARD
TZOFFSETFROM:-0500
TZOFFSETTO:-0600
TZNAME:CST
DTSTART:20241103T070000
END:STANDARD
END:VTIMEZONE
BEGIN:VEVENT
DTSTART;TZID=America/Chicago:20230210T183000
DTEND;TZID=America/Chicago:20230210T210000
DTSTAMP:20260425T133115
CREATED:20230210T165852Z
LAST-MODIFIED:20230210T165852Z
UID:10008288-1676053800-1676062800@www.rockford.edu
SUMMARY:Black Student Union presents Black History Month Movie Night
DESCRIPTION:Film: Judas and the Black Messiah  \nFood from Da Catch\, as well as snacks and drinks to enjoy during the movie  \n 
URL:https://www.rockford.edu/calendar-item/black-student-union-presents-black-history-month-movie-night/
LOCATION:Severson Auditorium – Scarborough Hall\, IL
CATEGORIES:Campus Wide Event (Public),Student Activities
GEO:40.6331249;-89.3985283
END:VEVENT
BEGIN:VEVENT
DTSTART;TZID=America/Chicago:20230221T180000
DTEND;TZID=America/Chicago:20230221T200000
DTSTAMP:20260425T133115
CREATED:20230210T170150Z
LAST-MODIFIED:20230210T170150Z
UID:10008289-1677002400-1677009600@www.rockford.edu
SUMMARY:Black Student Union presents Bowling Night
DESCRIPTION:BSU will hold a Bowling Night on Feb. 21 to celebrate Black History Month. Food and Drinks will be available.
URL:https://www.rockford.edu/calendar-item/black-student-union-presents-bowling-night/
LOCATION:Don Carter Lanes\, 4007 E. State Street\, Rockford\, IL\, 61108\, United States
CATEGORIES:Campus Wide Event (Public),Student Activities
END:VEVENT
BEGIN:VEVENT
DTSTART;TZID=America/Chicago:20230225T210000
DTEND;TZID=America/Chicago:20230225T230000
DTSTAMP:20260425T133115
CREATED:20230210T170428Z
LAST-MODIFIED:20230221T181212Z
UID:10008290-1677358800-1677366000@www.rockford.edu
SUMMARY:Black Student Union presents the Third Annual Juke Jam
DESCRIPTION:
URL:https://www.rockford.edu/calendar-item/black-student-union-presents-the-third-annual-juke-jam/
LOCATION:Severson Auditorium – Scarborough Hall\, IL
CATEGORIES:Campus Wide Event (Public),Student Activities
GEO:40.6331249;-89.3985283
END:VEVENT
BEGIN:VEVENT
DTSTART;TZID=America/Chicago:20230227T160000
DTEND;TZID=America/Chicago:20230227T170000
DTSTAMP:20260425T133115
CREATED:20230206T213110Z
LAST-MODIFIED:20230207T205055Z
UID:10008287-1677513600-1677517200@www.rockford.edu
SUMMARY:Charter Day Convocation Ceremony
DESCRIPTION:Rockford University’s Forum Series\nMaddox Theatre\nMonday\, February 27\, 2023\n4:00 p.m.\nFeaturing Dr. Patricia Lynott\, Interim President\n“Rockford Female Seminary: A Legacy of Progress”
URL:https://www.rockford.edu/calendar-item/charter-day-convocation-ceremony/
LOCATION:Maddox Theatre – Clark Arts Center\, 5050 E. State St. \, Rockford\, IL\, 61108\, United States
CATEGORIES:Campus Wide Event (Public)
ORGANIZER;CN="Tara Vanden Branden":MAILTO:tvandenbranden@rockford.edu
GEO:42.2640342;-89.0197305
X-APPLE-STRUCTURED-LOCATION;VALUE=URI;X-ADDRESS=Maddox Theatre – Clark Arts Center 5050 E. State St.  Rockford IL 61108 United States;X-APPLE-RADIUS=500;X-TITLE=5050 E. State St.:geo:-89.0197305,42.2640342
END:VEVENT
END:VCALENDAR