BEGIN:VCALENDAR
VERSION:2.0
PRODID:-//Rockford University - ECPv6.15.20//NONSGML v1.0//EN
CALSCALE:GREGORIAN
METHOD:PUBLISH
X-WR-CALNAME:Rockford University
X-ORIGINAL-URL:https://www.rockford.edu
X-WR-CALDESC:Events for Rockford University
REFRESH-INTERVAL;VALUE=DURATION:PT1H
X-Robots-Tag:noindex
X-PUBLISHED-TTL:PT1H
BEGIN:VTIMEZONE
TZID:America/Chicago
BEGIN:DAYLIGHT
TZOFFSETFROM:-0600
TZOFFSETTO:-0500
TZNAME:CDT
DTSTART:20210314T080000
END:DAYLIGHT
BEGIN:STANDARD
TZOFFSETFROM:-0500
TZOFFSETTO:-0600
TZNAME:CST
DTSTART:20211107T070000
END:STANDARD
BEGIN:DAYLIGHT
TZOFFSETFROM:-0600
TZOFFSETTO:-0500
TZNAME:CDT
DTSTART:20220313T080000
END:DAYLIGHT
BEGIN:STANDARD
TZOFFSETFROM:-0500
TZOFFSETTO:-0600
TZNAME:CST
DTSTART:20221106T070000
END:STANDARD
BEGIN:DAYLIGHT
TZOFFSETFROM:-0600
TZOFFSETTO:-0500
TZNAME:CDT
DTSTART:20230312T080000
END:DAYLIGHT
BEGIN:STANDARD
TZOFFSETFROM:-0500
TZOFFSETTO:-0600
TZNAME:CST
DTSTART:20231105T070000
END:STANDARD
END:VTIMEZONE
BEGIN:VEVENT
DTSTART;TZID=America/Chicago:20221103T193000
DTEND;TZID=America/Chicago:20221103T213000
DTSTAMP:20260425T071027
CREATED:20221025T183533Z
LAST-MODIFIED:20221025T183533Z
UID:10007660-1667503800-1667511000@www.rockford.edu
SUMMARY:These Shining Lives
DESCRIPTION:Event is free to students\, faculty\, and staff! Just show us your ID at the box office! Non-RU people may purchase tickets at the door. \nNovember 3-6\, 2022\, (Thursday-Saturday\, 7:30 p.m.; Sunday 2 p.m.)\nMaddox Theatre\, Clark Arts Center\nDirector\, Deborah Mogford\nThese Shining Lives is based on the true story of Catherine Donahue and her friends who worked for the Radium Dial Company\, a watch factory\, in Ottawa\, Illinois. The play chronicles the strength and determination of the women from the 1922 to 1938 as their lives are changed by the right to vote and the possibilities of jobs for women. This is an awe-inspiring story of survival and the fight to improve the working conditions for all in light of new scientific developments.
URL:https://www.rockford.edu/calendar-item/these-shining-lives/
LOCATION:Rockford University\, 5050 E. State St. \, Rockford\, IL\, 61108\, United States
CATEGORIES:Campus Wide Event (Public),PA Performance
ATTACH;FMTTYPE=image/jpeg:https://www.rockford.edu/wp-content/uploads/2022/10/TSL_11x17_Bleed_Final-1-scaled.jpg
GEO:42.2640342;-89.0197305
X-APPLE-STRUCTURED-LOCATION;VALUE=URI;X-ADDRESS=Rockford University 5050 E. State St.  Rockford IL 61108 United States;X-APPLE-RADIUS=500;X-TITLE=5050 E. State St.:geo:-89.0197305,42.2640342
END:VEVENT
BEGIN:VEVENT
DTSTART;TZID=America/Chicago:20221110T120000
DTEND;TZID=America/Chicago:20221110T130000
DTSTAMP:20260425T071027
CREATED:20221103T133824Z
LAST-MODIFIED:20221104T153439Z
UID:10007668-1668081600-1668085200@www.rockford.edu
SUMMARY:Peer Tutor/SI Leader Info Sessions
DESCRIPTION:Are you curious about becoming a Peer Tutor or Supplemental Instruction (SI) Leader\, but have a lot of questions or just want to learn a little bit more about what these jobs entail? \nCome have a snack and chat with Jessica Morris\, the Academic Support coordinator for CLS\, and find out more about the best jobs on campus!
URL:https://www.rockford.edu/calendar-item/peer-tutor-si-leader-info-sessions/
LOCATION:CLS Study Lounge (Starr 114)
CATEGORIES:Campus Wide Event (Public),Center for Learning Strategies
END:VEVENT
BEGIN:VEVENT
DTSTART;TZID=America/Chicago:20221118T193000
DTEND;TZID=America/Chicago:20221118T213000
DTSTAMP:20260425T071027
CREATED:20221025T184410Z
LAST-MODIFIED:20221025T184428Z
UID:10007665-1668799800-1668807000@www.rockford.edu
SUMMARY:And the Angels Sang Choir Concert
DESCRIPTION:Free for RU students\, Faculty\, and Staff. Tickets can be purchased at ticketor.com/rockforduniversity for non-RU attendees \nNovember 18\, 2022\, 7:30 p.m.\nMaddox Theatre\, Clark Arts Center\nDirectors\, Prof. Timm Adams & Tim Anderson \nJoin Rockford University choirs and special guest Camerata Emanon in a glorious fall concert celebrating the power of singing to uplift and inspire. This mostly sacred program features Vivaldi’s exuberant Gloria (RV 589) for chorus and soloists with chamber orchestra. Mendelssohn’s Psalm 98\, Pablo Casals’ “O vos omnes\,” and an array of Spanish songs\, early hymns\, and spirituals rounds out this celestial collection of songs.
URL:https://www.rockford.edu/calendar-item/and-the-angels-sang-choir-concert/
LOCATION:Rockford University\, 5050 E. State St. \, Rockford\, IL\, 61108\, United States
CATEGORIES:Campus Wide Event (Public),PA Performance
ATTACH;FMTTYPE=image/jpeg:https://www.rockford.edu/wp-content/uploads/2022/10/And-the-Angels-sing-draft2-2-scaled.jpg
GEO:42.2640342;-89.0197305
X-APPLE-STRUCTURED-LOCATION;VALUE=URI;X-ADDRESS=Rockford University 5050 E. State St.  Rockford IL 61108 United States;X-APPLE-RADIUS=500;X-TITLE=5050 E. State St.:geo:-89.0197305,42.2640342
END:VEVENT
BEGIN:VEVENT
DTSTART;TZID=America/Chicago:20221123T080000
DTEND;TZID=America/Chicago:20221125T170000
DTSTAMP:20260425T071027
CREATED:20220701T155510Z
LAST-MODIFIED:20220701T162620Z
UID:10007644-1669190400-1669395600@www.rockford.edu
SUMMARY:Thanksgiving Holiday-No classes/Offices closed
DESCRIPTION:View the full Academic Calendar 2022-2023.
URL:https://www.rockford.edu/calendar-item/thanksgiving-holiday-no-classes-offices-closed-3/
LOCATION:Rockford University\, 5050 E. State St. \, Rockford\, IL\, 61108\, United States
CATEGORIES:Academic Calendar,Campus Closed,Campus Wide Event (Public)
ATTACH;FMTTYPE=image/jpeg:https://www.rockford.edu/wp-content/uploads/2018/04/Academic-Calendar.jpg
GEO:42.2640342;-89.0197305
X-APPLE-STRUCTURED-LOCATION;VALUE=URI;X-ADDRESS=Rockford University 5050 E. State St.  Rockford IL 61108 United States;X-APPLE-RADIUS=500;X-TITLE=5050 E. State St.:geo:-89.0197305,42.2640342
END:VEVENT
END:VCALENDAR