BEGIN:VCALENDAR
VERSION:2.0
PRODID:-//Rockford University - ECPv6.15.20//NONSGML v1.0//EN
CALSCALE:GREGORIAN
METHOD:PUBLISH
X-WR-CALNAME:Rockford University
X-ORIGINAL-URL:https://www.rockford.edu
X-WR-CALDESC:Events for Rockford University
REFRESH-INTERVAL;VALUE=DURATION:PT1H
X-Robots-Tag:noindex
X-PUBLISHED-TTL:PT1H
BEGIN:VTIMEZONE
TZID:America/Chicago
BEGIN:DAYLIGHT
TZOFFSETFROM:-0600
TZOFFSETTO:-0500
TZNAME:CDT
DTSTART:20210314T080000
END:DAYLIGHT
BEGIN:STANDARD
TZOFFSETFROM:-0500
TZOFFSETTO:-0600
TZNAME:CST
DTSTART:20211107T070000
END:STANDARD
BEGIN:DAYLIGHT
TZOFFSETFROM:-0600
TZOFFSETTO:-0500
TZNAME:CDT
DTSTART:20220313T080000
END:DAYLIGHT
BEGIN:STANDARD
TZOFFSETFROM:-0500
TZOFFSETTO:-0600
TZNAME:CST
DTSTART:20221106T070000
END:STANDARD
BEGIN:DAYLIGHT
TZOFFSETFROM:-0600
TZOFFSETTO:-0500
TZNAME:CDT
DTSTART:20230312T080000
END:DAYLIGHT
BEGIN:STANDARD
TZOFFSETFROM:-0500
TZOFFSETTO:-0600
TZNAME:CST
DTSTART:20231105T070000
END:STANDARD
END:VTIMEZONE
BEGIN:VEVENT
DTSTART;TZID=America/Chicago:20220405T190000
DTEND;TZID=America/Chicago:20220405T203000
DTSTAMP:20260424T210819
CREATED:20220113T205145Z
LAST-MODIFIED:20220113T205145Z
UID:10008052-1649185200-1649190600@www.rockford.edu
SUMMARY:Forum Series - Lead Without Limits\, Yeonmi Park
DESCRIPTION:Yeonmi Park\, author of In Order to Live: A North Korean Girl’s Journey to Freedom\, is a human rights activist and TED Speaker. She made a daring escape from North Korea to China at the age of 13 and is a voice of oppressed people around the world. Join us for the opening event of April’s Lead Without Limits Forum Series.
URL:https://www.rockford.edu/calendar-item/forum-series-lead-without-limits-yeonmi-park/
LOCATION:Regents Hall – Burpee Student Center\, 5050 E. State St. \, Rockford\, IL\, 61108\, United States
CATEGORIES:Campus Wide Event (Public),Forum Series
ATTACH;FMTTYPE=image/jpeg:https://www.rockford.edu/wp-content/uploads/2018/04/Forum-Series-1.jpg
ORGANIZER;CN="Forum Series":MAILTO:boxoffice@rockford.edu
GEO:42.2640342;-89.0197305
X-APPLE-STRUCTURED-LOCATION;VALUE=URI;X-ADDRESS=Regents Hall – Burpee Student Center 5050 E. State St.  Rockford IL 61108 United States;X-APPLE-RADIUS=500;X-TITLE=5050 E. State St.:geo:-89.0197305,42.2640342
END:VEVENT
BEGIN:VEVENT
DTSTART;TZID=America/Chicago:20220413T110000
DTEND;TZID=America/Chicago:20220413T130000
DTSTAMP:20260424T210819
CREATED:20220404T183143Z
LAST-MODIFIED:20220404T183143Z
UID:10008070-1649847600-1649854800@www.rockford.edu
SUMMARY:Voter Registration Drive
DESCRIPTION:The League of Women Voters\, sponsored by the Jane Addams Center for Civic Engagement\, will be conducting a voter registration drive in Burpee from 11 am.. to 1 p.m. on Wednesday\, April 13. They will also be recording student perspectives for a special video project.
URL:https://www.rockford.edu/calendar-item/voter-registration-drive/
LOCATION:Blanche Walker Burpee Student Center\, 5050 East State St.\, Rockford\, IL\, 61108\, United States
CATEGORIES:Campus Wide Event (Public),Jane Adams Center for Civic Engagement (JACCE)
ATTACH;FMTTYPE=image/png:https://www.rockford.edu/wp-content/uploads/2022/04/Updated_Get-out-the-vote.png
ORGANIZER;CN="Jane Addams Center for Civic Engagment":MAILTO:jacce@rockford.edu
GEO:42.2696337;-89.0184645
X-APPLE-STRUCTURED-LOCATION;VALUE=URI;X-ADDRESS=Blanche Walker Burpee Student Center 5050 East State St. Rockford IL 61108 United States;X-APPLE-RADIUS=500;X-TITLE=5050 East State St.:geo:-89.0184645,42.2696337
END:VEVENT
BEGIN:VEVENT
DTSTART;TZID=America/Chicago:20220413T120000
DTEND;TZID=America/Chicago:20220413T130000
DTSTAMP:20260424T210819
CREATED:20220113T205356Z
LAST-MODIFIED:20220314T150526Z
UID:10008054-1649851200-1649854800@www.rockford.edu
SUMMARY:Forum Series – Lead Without Limits\, Financial Empowerment Panel
DESCRIPTION:Join us as we continue the month-long Forum Series – Lead Without Limits for a panel to discuss Financial Empowerment with local Rockford community members.\nWednesday\, April 13\, 2022\nTime: 12:00 p.m.\nPlace: Regents Hall\nLunch will be provided.\nModerator: Mandolen Mull
URL:https://www.rockford.edu/calendar-item/forum-series-lead-without-limits-financial-empowerment-panel/
LOCATION:Regents Hall – Burpee Student Center\, 5050 E. State St. \, Rockford\, IL\, 61108\, United States
CATEGORIES:Campus Wide Event (Public),Forum Series
ORGANIZER;CN="Forum Series":MAILTO:boxoffice@rockford.edu
GEO:42.2640342;-89.0197305
X-APPLE-STRUCTURED-LOCATION;VALUE=URI;X-ADDRESS=Regents Hall – Burpee Student Center 5050 E. State St.  Rockford IL 61108 United States;X-APPLE-RADIUS=500;X-TITLE=5050 E. State St.:geo:-89.0197305,42.2640342
END:VEVENT
BEGIN:VEVENT
DTSTART;TZID=America/Chicago:20220418T080000
DTEND;TZID=America/Chicago:20220418T170000
DTSTAMP:20260424T210819
CREATED:20220113T205306Z
LAST-MODIFIED:20220113T205306Z
UID:10008055-1650268800-1650301200@www.rockford.edu
SUMMARY:Forum Series - Lead Without Limits\, Clothesline Project
DESCRIPTION:Join us the week of April 18th as we continue the Forum Series – Lead Without Limits series. This week will focus on the Clothesline Project; watch for further details.
URL:https://www.rockford.edu/calendar-item/forum-series-lead-without-limits-clothesline-project/
LOCATION:Rockford University\, 5050 E. State St. \, Rockford\, IL\, 61108\, United States
CATEGORIES:Campus Wide Event (Public),Forum Series
ATTACH;FMTTYPE=image/jpeg:https://www.rockford.edu/wp-content/uploads/2018/04/Forum-Series-1.jpg
ORGANIZER;CN="Forum Series":MAILTO:boxoffice@rockford.edu
GEO:42.2640342;-89.0197305
X-APPLE-STRUCTURED-LOCATION;VALUE=URI;X-ADDRESS=Rockford University 5050 E. State St.  Rockford IL 61108 United States;X-APPLE-RADIUS=500;X-TITLE=5050 E. State St.:geo:-89.0197305,42.2640342
END:VEVENT
BEGIN:VEVENT
DTSTART;TZID=America/Chicago:20220420T113000
DTEND;TZID=America/Chicago:20220420T130000
DTSTAMP:20260424T210819
CREATED:20220404T183511Z
LAST-MODIFIED:20220404T183511Z
UID:10008069-1650454200-1650459600@www.rockford.edu
SUMMARY:Community Engagement Fair
DESCRIPTION:Interested in summer volunteer and internship opportunities at local nonprofits? Learn more about the Jane Addams Center’s Community Partners and how you can become involved in their efforts! They will be tabling in Burpee from 11:30 a.m. to 1 p.m. on Wednesday\, April 20.
URL:https://www.rockford.edu/calendar-item/community-engagement-fair-2/
LOCATION:Blanche Walker Burpee Student Center\, 5050 East State St.\, Rockford\, IL\, 61108\, United States
CATEGORIES:Campus Wide Event (Public),Jane Adams Center for Civic Engagement (JACCE)
ATTACH;FMTTYPE=image/png:https://www.rockford.edu/wp-content/uploads/2022/04/Community-Fair-Poster-11-×-17-in.png
ORGANIZER;CN="Jane Addams Center for Civic Engagment":MAILTO:jacce@rockford.edu
GEO:42.2696337;-89.0184645
X-APPLE-STRUCTURED-LOCATION;VALUE=URI;X-ADDRESS=Blanche Walker Burpee Student Center 5050 East State St. Rockford IL 61108 United States;X-APPLE-RADIUS=500;X-TITLE=5050 East State St.:geo:-89.0184645,42.2696337
END:VEVENT
BEGIN:VEVENT
DTSTART;TZID=America/Chicago:20220420T130000
DTEND;TZID=America/Chicago:20220420T140000
DTSTAMP:20260424T210819
CREATED:20220404T181919Z
LAST-MODIFIED:20220404T181919Z
UID:10008067-1650459600-1650463200@www.rockford.edu
SUMMARY:AmeriCorps Info Session
DESCRIPTION:Join the Jane Addams Center in learning about AmeriCorps\, a federal government agency that places volunteers in public service positions all over the country. Hear the perspectives of AmeriCorps volunteers located across northern Illinois. This event will take place via Zoom from 1 to 2 p.m. on Wednesday\, April 20. Register at tinyurl.com/jaccepublicservice or by scanning the QR code in the attached graphic.
URL:https://www.rockford.edu/calendar-item/americorps-info-session/
LOCATION:Zoom\, IL\, United States
CATEGORIES:Campus Wide Event (Public),Jane Adams Center for Civic Engagement (JACCE)
ATTACH;FMTTYPE=image/png:https://www.rockford.edu/wp-content/uploads/2022/04/Public-Service-Info-Session-Instagram-Graphic.png
ORGANIZER;CN="Jane Addams Center for Civic Engagment":MAILTO:jacce@rockford.edu
END:VEVENT
BEGIN:VEVENT
DTSTART;TZID=America/Chicago:20220421T193000
DTEND;TZID=America/Chicago:20220423T220000
DTSTAMP:20260424T210819
CREATED:20210722T153300Z
LAST-MODIFIED:20210922T164616Z
UID:10008021-1650569400-1650751200@www.rockford.edu
SUMMARY:Bullets over Broadway The Musical
DESCRIPTION:Bullets over Broadway The Musical\nApril\, 21 – 24\, 2022\, (Thursday-Saturday\, 7:30 p.m.; Sunday 2 p.m.)\nMaddox Theatre\, Clark Arts Center\nDirector\, Prof. Jeff Hendry \nBullets over Broadway: The Musical is a love letter to the Golden Age of Broadway\, loaded with big laughs\, colorful characters\, and the songs that made the ’20s roar. Based on the screenplay of the acclaimed 1994 film by Woody Allen and Douglas McGrath. Bullets over Broadway brings musical comedy back with a bang with hits such “Let’s Misbehave\,” “‘T’ain’t Nobody’s Biz-ness If I Do”\, and “There’s a New Day Comin’!” and “Yes\, We Have No Bananas.”\nWritten by Woody Allen\, based on the screenplay for the film\, Bullets over Broadway by Woody Allen and Douglas McGrath\, Original Broadway Production Direction and Choreography by Susan Stroman\nFor a list of all our performances please visit the Performing Arts webpage. https://www.rockford.edu/artslectures/performingarts/\nFor tickets\, call the Rockford University Box Office at (815) 226-4100. Adults $12\, Students & Seniors $9\nAll Rockford University students may receive one free ticket to each RU Performing Arts show.
URL:https://www.rockford.edu/calendar-item/bullets-over-broadway-the-musical/
LOCATION:Rockford University\, 5050 E. State St. \, Rockford\, IL\, 61108\, United States
CATEGORIES:Campus Wide Event (Public),PA Performance
ATTACH;FMTTYPE=image/png:https://www.rockford.edu/wp-content/uploads/2021/07/PA.png
GEO:42.2640342;-89.0197305
X-APPLE-STRUCTURED-LOCATION;VALUE=URI;X-ADDRESS=Rockford University 5050 E. State St.  Rockford IL 61108 United States;X-APPLE-RADIUS=500;X-TITLE=5050 E. State St.:geo:-89.0197305,42.2640342
END:VEVENT
BEGIN:VEVENT
DTSTART;TZID=America/Chicago:20220424T140000
DTEND;TZID=America/Chicago:20220424T163000
DTSTAMP:20260424T210819
CREATED:20210722T153406Z
LAST-MODIFIED:20220404T154013Z
UID:10007565-1650808800-1650817800@www.rockford.edu
SUMMARY:Bullets over Broadway The Musical
DESCRIPTION:Bullets over Broadway The Musical\nApril\, 21 – 24\, 2022\, (Thursday-Saturday\, 7:30 p.m.; Sunday 2 p.m.)\nMaddox Theatre\, Clark Arts Center\nDirector\, Prof. Jeff Hendry \nBullets over Broadway: The Musical is a love letter to the Golden Age of Broadway\, loaded with big laughs\, colorful characters and the songs that made the ’20s roar. Based on the screenplay of the acclaimed 1994 film by Woody Allen and Douglas McGrath. Bullets over Broadway brings musical comedy back with a bang with hits such “Let’s Misbehave\,” “‘T’ain’t Nobody’s Biz-ness If I Do”\, and “There’s a New Day Comin’!” and “Yes\, We Have No Bananas.”\nWritten by Woody Allen\, based on the screenplay for the film\, Bullets over Broadway by Woody Allen and Douglas McGrath\, Original Broadway Production Direction and Choreography by Susan Stroman\nFor a list of all our performances please visit the Performing Arts webpage. https://www.rockford.edu/artslectures/performingarts/\nFor tickets\, call the Rockford University Box Office at (815) 226-4100. Adults $12\, Students & Seniors $9\nAll Rockford University students may receive one free ticket to each RU Performing Arts show.
URL:https://www.rockford.edu/calendar-item/bullets-over-broadway-the-musical-2/
LOCATION:Rockford University\, 5050 E. State St. \, Rockford\, IL\, 61108\, United States
CATEGORIES:Campus Wide Event (Public),PA Performance
ATTACH;FMTTYPE=image/png:https://www.rockford.edu/wp-content/uploads/2021/07/PA.png
GEO:42.2640342;-89.0197305
X-APPLE-STRUCTURED-LOCATION;VALUE=URI;X-ADDRESS=Rockford University 5050 E. State St.  Rockford IL 61108 United States;X-APPLE-RADIUS=500;X-TITLE=5050 E. State St.:geo:-89.0197305,42.2640342
END:VEVENT
BEGIN:VEVENT
DTSTART;TZID=America/Chicago:20220425T170000
DTEND;TZID=America/Chicago:20220425T180000
DTSTAMP:20260424T210819
CREATED:20220412T141612Z
LAST-MODIFIED:20220419T154720Z
UID:10008073-1650906000-1650909600@www.rockford.edu
SUMMARY:New Graduate Toast
DESCRIPTION:The Rockford University Alumni Office would like to celebrate our graduates\, and welcome them as our newest alumni on Monday\, April 25\, 2022\, following the Last Lecture. \nLight hors d’oeuvres and refreshments will be served\, and President Fulcomer will lead a toast to celebrate the accomplishments of our graduates. Celebrate with your classmates and learn more on how the Rockford University Alumni Office and Office of Career Development can assist you before and after graduation. Each attendee will also receive a free gift. This is a FREE event to all members of the Class of 2022\, including both undergraduate and graduate students\, but we ask all graduates planning to attend to register here: https://docs.google.com/forms/d/1-uifJTmiuS7Sw34vWVavwnYYOKFBrZzrzkqHMzIH9K8/edit \nQuestions? Please contact alumni@rockford.edu
URL:https://www.rockford.edu/calendar-item/new-graduate-toast/
LOCATION:Rockford University Johnson Alumni Center\, 5050 East State Street\, Rockford\, IL\, 61108\, United States
CATEGORIES:Alumni,Campus Wide Event (Public)
ATTACH;FMTTYPE=image/png:https://www.rockford.edu/wp-content/uploads/2022/04/grad-toast-4.png
END:VEVENT
BEGIN:VEVENT
DTSTART;TZID=America/Chicago:20220426T130000
DTEND;TZID=America/Chicago:20220426T140000
DTSTAMP:20260424T210819
CREATED:20220404T182119Z
LAST-MODIFIED:20220404T182119Z
UID:10008068-1650978000-1650981600@www.rockford.edu
SUMMARY:Peace Corps Info Session
DESCRIPTION:Join the Jane Addams Center in learning about Peace Corps\, a federal government agency that places volunteers in public service positions all over the world. Hear the perspective of Megan Stoltenberg\, returned Peace Corps volunteer from Ukraine. This event will take place via Zoom from 1 to 2PM on Tuesday\, April 26. Register at tinyurl.com/jaccepublicservice or by scanning the QR code in the attached graphic.
URL:https://www.rockford.edu/calendar-item/peace-corps-info-session/
LOCATION:Zoom\, IL\, United States
CATEGORIES:Campus Wide Event (Public),Jane Adams Center for Civic Engagement (JACCE)
ATTACH;FMTTYPE=image/png:https://www.rockford.edu/wp-content/uploads/2022/04/Public-Service-Info-Session-Instagram-Graphic-1.png
ORGANIZER;CN="Jane Addams Center for Civic Engagment":MAILTO:jacce@rockford.edu
END:VEVENT
BEGIN:VEVENT
DTSTART;TZID=America/Chicago:20220427T110000
DTEND;TZID=America/Chicago:20220427T130000
DTSTAMP:20260424T210819
CREATED:20220113T205419Z
LAST-MODIFIED:20220314T202217Z
UID:10008056-1651057200-1651064400@www.rockford.edu
SUMMARY:Forum Series – Lead Without Limits\, Denim Day
DESCRIPTION:Join us on Wednesday\, April 27\, 2022 for Denim Day as the last event of April’s Forum Series Lead Without Limits. Denim Day will be represented through an Art Exhibit in Regents Hall from 11 am- 1pm with light refreshments. The gallery will remain open after 1 pm for those who would like to view the Art Exhibit. Art pieces and short stories will be on display that are representative of the survivor’s story and ongoing journey. Other additional community partners attending will be the Pregnancy Resource Center\, Rockford Sexual Assault Counseling\, Remedies Renewing Lives\, and the Family Peace Center. \nDenim Day will be sponsored by Rockford University\, City of Rockford\, and Rockford Area Arts Council.
URL:https://www.rockford.edu/calendar-item/forum-series-lead-without-limits-denim-day/
LOCATION:Regents Hall – Burpee Student Center\, 5050 E. State St. \, Rockford\, IL\, 61108\, United States
CATEGORIES:Campus Wide Event (Public),Forum Series
ATTACH;FMTTYPE=image/jpeg:https://www.rockford.edu/wp-content/uploads/2018/04/Forum-Series-1.jpg
ORGANIZER;CN="Forum Series":MAILTO:boxoffice@rockford.edu
GEO:42.2640342;-89.0197305
X-APPLE-STRUCTURED-LOCATION;VALUE=URI;X-ADDRESS=Regents Hall – Burpee Student Center 5050 E. State St.  Rockford IL 61108 United States;X-APPLE-RADIUS=500;X-TITLE=5050 E. State St.:geo:-89.0197305,42.2640342
END:VEVENT
BEGIN:VEVENT
DTSTART;TZID=America/Chicago:20220428T080000
DTEND;TZID=America/Chicago:20220428T170000
DTSTAMP:20260424T210819
CREATED:20220407T210411Z
LAST-MODIFIED:20220412T213833Z
UID:10008071-1651132800-1651165200@www.rockford.edu
SUMMARY:Day of Giving
DESCRIPTION:175 YEARS OF CREATING OPPORTUNITY \nFor 175 years\, scholarships made possible by individuals like you have created endless opportunities for our students to pursue their dreams and graduate as dynamic alumni. Such support allows us to serve every student despite their ability to pay\, as 99% of fulltime Rockford University students receive more than $10 million in scholarships\, grants\, and other financial aid each year. This year\, during our 175th year and 8th annual Day of Giving\, we celebrate the life-changing impact of scholarships for so many and seize the opportunity to pay it forward for our next generation of scholars. \nLearn more about Day of Giving here: https://www.rockford.edu/give/dayofgiving/
URL:https://www.rockford.edu/calendar-item/day-of-giving-4/
LOCATION:Rockford University\, 5050 E. State St. \, Rockford\, IL\, 61108\, United States
CATEGORIES:Campus Wide Event (Public)
GEO:42.2640342;-89.0197305
X-APPLE-STRUCTURED-LOCATION;VALUE=URI;X-ADDRESS=Rockford University 5050 E. State St.  Rockford IL 61108 United States;X-APPLE-RADIUS=500;X-TITLE=5050 E. State St.:geo:-89.0197305,42.2640342
END:VEVENT
BEGIN:VEVENT
DTSTART;TZID=America/Chicago:20220429T193000
DTEND;TZID=America/Chicago:20220429T210000
DTSTAMP:20260424T210819
CREATED:20210722T152759Z
LAST-MODIFIED:20210922T164534Z
UID:10008017-1651260600-1651266000@www.rockford.edu
SUMMARY:Spring Choral Concert
DESCRIPTION:Spring Choral Concert\nApril 29\, 2022\, 7:30 p.m.\nMaddox Theatre\, Clark Arts Center\nDirector/Conductor\, Timm Adams\nFree will donations will be accepted at the door.
URL:https://www.rockford.edu/calendar-item/spring-choral-concert-2/
LOCATION:Rockford University\, 5050 E. State St. \, Rockford\, IL\, 61108\, United States
CATEGORIES:Campus Wide Event (Public),PA Performance
ATTACH;FMTTYPE=image/png:https://www.rockford.edu/wp-content/uploads/2021/07/PA.png
GEO:42.2640342;-89.0197305
X-APPLE-STRUCTURED-LOCATION;VALUE=URI;X-ADDRESS=Rockford University 5050 E. State St.  Rockford IL 61108 United States;X-APPLE-RADIUS=500;X-TITLE=5050 E. State St.:geo:-89.0197305,42.2640342
END:VEVENT
END:VCALENDAR