BEGIN:VCALENDAR
VERSION:2.0
PRODID:-//Rockford University - ECPv6.15.20//NONSGML v1.0//EN
CALSCALE:GREGORIAN
METHOD:PUBLISH
X-WR-CALNAME:Rockford University
X-ORIGINAL-URL:https://www.rockford.edu
X-WR-CALDESC:Events for Rockford University
REFRESH-INTERVAL;VALUE=DURATION:PT1H
X-Robots-Tag:noindex
X-PUBLISHED-TTL:PT1H
BEGIN:VTIMEZONE
TZID:America/Chicago
BEGIN:DAYLIGHT
TZOFFSETFROM:-0600
TZOFFSETTO:-0500
TZNAME:CDT
DTSTART:20200308T080000
END:DAYLIGHT
BEGIN:STANDARD
TZOFFSETFROM:-0500
TZOFFSETTO:-0600
TZNAME:CST
DTSTART:20201101T070000
END:STANDARD
BEGIN:DAYLIGHT
TZOFFSETFROM:-0600
TZOFFSETTO:-0500
TZNAME:CDT
DTSTART:20210314T080000
END:DAYLIGHT
BEGIN:STANDARD
TZOFFSETFROM:-0500
TZOFFSETTO:-0600
TZNAME:CST
DTSTART:20211107T070000
END:STANDARD
BEGIN:DAYLIGHT
TZOFFSETFROM:-0600
TZOFFSETTO:-0500
TZNAME:CDT
DTSTART:20220313T080000
END:DAYLIGHT
BEGIN:STANDARD
TZOFFSETFROM:-0500
TZOFFSETTO:-0600
TZNAME:CST
DTSTART:20221106T070000
END:STANDARD
BEGIN:DAYLIGHT
TZOFFSETFROM:-0600
TZOFFSETTO:-0500
TZNAME:CDT
DTSTART:20230312T080000
END:DAYLIGHT
BEGIN:STANDARD
TZOFFSETFROM:-0500
TZOFFSETTO:-0600
TZNAME:CST
DTSTART:20231105T070000
END:STANDARD
END:VTIMEZONE
BEGIN:VEVENT
DTSTART;VALUE=DATE:20211224
DTEND;VALUE=DATE:20220103
DTSTAMP:20260424T165725
CREATED:20210914T140453Z
LAST-MODIFIED:20220701T162109Z
UID:10008030-1640304000-1641167999@www.rockford.edu
SUMMARY:Holiday Break - no classes\, offices closed
DESCRIPTION:University offices will be closed from Friday\, December 24 to Sunday\, January 2 in observance of winter break. \nNormal office hours will resume on Monday\, January 3.
URL:https://www.rockford.edu/calendar-item/holiday-break-no-classes-offices-closed-2/
LOCATION:Rockford University\, 5050 E. State St. \, Rockford\, IL\, 61108\, United States
CATEGORIES:Academic Calendar,Campus Closed,Campus Wide Event (Public)
ATTACH;FMTTYPE=image/jpeg:https://www.rockford.edu/wp-content/uploads/2018/04/Academic-Calendar.jpg
GEO:42.2640342;-89.0197305
X-APPLE-STRUCTURED-LOCATION;VALUE=URI;X-ADDRESS=Rockford University 5050 E. State St.  Rockford IL 61108 United States;X-APPLE-RADIUS=500;X-TITLE=5050 E. State St.:geo:-89.0197305,42.2640342
END:VEVENT
BEGIN:VEVENT
DTSTART;VALUE=DATE:20220118
DTEND;VALUE=DATE:20220119
DTSTAMP:20260424T165725
CREATED:20220106T211314Z
LAST-MODIFIED:20220106T215612Z
UID:10008044-1642464000-1642550399@www.rockford.edu
SUMMARY:Spring 2022 Classes Begin
DESCRIPTION:View full Academic Calendar 2021-22.
URL:https://www.rockford.edu/calendar-item/spring-2022-classes-begin/
LOCATION:Rockford University\, 5050 E. State St. \, Rockford\, IL\, 61108\, United States
CATEGORIES:Academic Calendar,Campus Wide Event (Public)
ATTACH;FMTTYPE=image/jpeg:https://www.rockford.edu/wp-content/uploads/2018/04/Academic-Calendar.jpg
GEO:42.2640342;-89.0197305
X-APPLE-STRUCTURED-LOCATION;VALUE=URI;X-ADDRESS=Rockford University 5050 E. State St.  Rockford IL 61108 United States;X-APPLE-RADIUS=500;X-TITLE=5050 E. State St.:geo:-89.0197305,42.2640342
END:VEVENT
BEGIN:VEVENT
DTSTART;TZID=America/Chicago:20220126T120000
DTEND;TZID=America/Chicago:20220126T130000
DTSTAMP:20260424T165725
CREATED:20220113T205231Z
LAST-MODIFIED:20220113T205231Z
UID:10008053-1643198400-1643202000@www.rockford.edu
SUMMARY:The Effects of the Pandemic on our Body\, Mind\, Behavior\, and How We Can Heal
DESCRIPTION:National Alliance on Mental Illness (NAMI)\nMary Gubbe Lee\, MS\, Licensed Social Worker\, Licensed Clinical Professional Counselor. \nMary provides information\, training\, and technical assistance to help communities respond appropriately to the needs of people with behavioral health disorders. Mary is active in community training and problem-solving court training. She is certified by SAMHSA as a trainer in Trauma. She provides community presentations for NAMI Northern Illinois as part of their community outreach. \nLearn more about how to heal after the effects of the pandemic.
URL:https://www.rockford.edu/calendar-item/the-effects-of-the-pandemic-on-our-body-mind-behavior-and-how-we-can-heal/
LOCATION:Fisher Memorial Chapel – Rockford University\, 5050 E. State St. \, Rockford\, IL\, 61108\, United States
CATEGORIES:Campus Wide Event (Public),Forum Series
ATTACH;FMTTYPE=image/jpeg:https://www.rockford.edu/wp-content/uploads/2018/04/Forum-Series-1.jpg
ORGANIZER;CN="Forum Series":MAILTO:boxoffice@rockford.edu
GEO:42.264048;-89.0197327
X-APPLE-STRUCTURED-LOCATION;VALUE=URI;X-ADDRESS=Fisher Memorial Chapel – Rockford University 5050 E. State St.  Rockford IL 61108 United States;X-APPLE-RADIUS=500;X-TITLE=5050 E. State St.:geo:-89.0197327,42.264048
END:VEVENT
END:VCALENDAR