BEGIN:VCALENDAR
VERSION:2.0
PRODID:-//Rockford University - ECPv6.15.20//NONSGML v1.0//EN
CALSCALE:GREGORIAN
METHOD:PUBLISH
X-WR-CALNAME:Rockford University
X-ORIGINAL-URL:https://www.rockford.edu
X-WR-CALDESC:Events for Rockford University
REFRESH-INTERVAL;VALUE=DURATION:PT1H
X-Robots-Tag:noindex
X-PUBLISHED-TTL:PT1H
BEGIN:VTIMEZONE
TZID:America/Chicago
BEGIN:DAYLIGHT
TZOFFSETFROM:-0600
TZOFFSETTO:-0500
TZNAME:CDT
DTSTART:20200308T080000
END:DAYLIGHT
BEGIN:STANDARD
TZOFFSETFROM:-0500
TZOFFSETTO:-0600
TZNAME:CST
DTSTART:20201101T070000
END:STANDARD
BEGIN:DAYLIGHT
TZOFFSETFROM:-0600
TZOFFSETTO:-0500
TZNAME:CDT
DTSTART:20210314T080000
END:DAYLIGHT
BEGIN:STANDARD
TZOFFSETFROM:-0500
TZOFFSETTO:-0600
TZNAME:CST
DTSTART:20211107T070000
END:STANDARD
BEGIN:DAYLIGHT
TZOFFSETFROM:-0600
TZOFFSETTO:-0500
TZNAME:CDT
DTSTART:20220313T080000
END:DAYLIGHT
BEGIN:STANDARD
TZOFFSETFROM:-0500
TZOFFSETTO:-0600
TZNAME:CST
DTSTART:20221106T070000
END:STANDARD
END:VTIMEZONE
BEGIN:VEVENT
DTSTART;TZID=America/Chicago:20210930T193000
DTEND;TZID=America/Chicago:20211002T220000
DTSTAMP:20260424T142043
CREATED:20210727T130012Z
LAST-MODIFIED:20210922T164847Z
UID:10007571-1633030200-1633212000@www.rockford.edu
SUMMARY:Hands on a Hardbody
DESCRIPTION:Hands on a Hardbody (musical theatre)\nSeptember 30 – October 3\, 2021 (Thursday-Saturday\, 7:30 pm; Sunday 2 pm)\nMaddox Theatre\, Clark Arts Center\nDirector\, Prof. Timm Adams \nFor 10 hard-luck Texans\, a new lease on life is so close they can touch it. Under a scorching sun for days on end\, armed with nothing but hope\, humor\, and ambition\, they’ll fight to keep at least one hand on a brand-new truck in order to win it. In the hilarious\, hard-fought contest that is Hands on a Hardbody only one winner can drive away with the American Dream. Inspired by the true events of the acclaimed 1997 documentary of the same name by S.R. Bindler\, produced by Kevin Morris and Bindler. \nFor a list of all our performances please visit the Performing Arts webpage: https://www.rockford.edu/artslectures/performingarts/\nFor tickets\, call the Rockford University Box Office at (815) 226-4100. Adults $12\, Students and Seniors $9.\nAll RU students may receive one free ticket per show.
URL:https://www.rockford.edu/calendar-item/hands-on-a-hardbody-3/
LOCATION:Maddox Theatre – Clark Arts Center\, 5050 E. State St. \, Rockford\, IL\, 61108\, United States
CATEGORIES:Campus Wide Event (Public),PA Performance
ATTACH;FMTTYPE=image/png:https://www.rockford.edu/wp-content/uploads/2021/07/PA.png
GEO:42.2640342;-89.0197305
X-APPLE-STRUCTURED-LOCATION;VALUE=URI;X-ADDRESS=Maddox Theatre – Clark Arts Center 5050 E. State St.  Rockford IL 61108 United States;X-APPLE-RADIUS=500;X-TITLE=5050 E. State St.:geo:-89.0197305,42.2640342
END:VEVENT
BEGIN:VEVENT
DTSTART;TZID=America/Chicago:20211003T140000
DTEND;TZID=America/Chicago:20211003T163000
DTSTAMP:20260424T142043
CREATED:20210727T130342Z
LAST-MODIFIED:20210922T164819Z
UID:10007573-1633269600-1633278600@www.rockford.edu
SUMMARY:Hands on a Hardbody
DESCRIPTION:Hands on a Hardbody (musical theatre)\nSeptember 30 – October 3\, 2021 (Thursday-Saturday\, 7:30 pm; Sunday 2 pm)\nMaddox Theatre\, Clark Arts Center\nDirector\, Prof. Timm Adams \nFor 10 hard-luck Texans\, a new lease on life is so close they can touch it. Under a scorching sun for days on end\, armed with nothing but hope\, humor and ambition\, they’ll fight to keep at least one hand on a brand-new truck in order to win it. In the hilarious\, hard-fought contest that is Hands on a Hardbody only one winner can drive away with the American Dream. Inspired by the true events of the acclaimed 1997 documentary of the same name by S.R. Bindler\, produced by Kevin Morris and Bindler. \nFor a list of all our performances please visit the Performing Arts webpage. https://www.rockford.edu/artslectures/performingarts/\nFor tickets\, call the Rockford University Box Office at (815) 226-4100. Adults $12\, Students & Seniors $9\nAll RU students may receive one free ticket per show.
URL:https://www.rockford.edu/calendar-item/hands-on-a-hardbody/
LOCATION:Rockford University\, 5050 E. State St. \, Rockford\, IL\, 61108\, United States
CATEGORIES:Campus Wide Event (Public),PA Performance
ATTACH;FMTTYPE=image/png:https://www.rockford.edu/wp-content/uploads/2021/07/PA.png
GEO:42.2640342;-89.0197305
X-APPLE-STRUCTURED-LOCATION;VALUE=URI;X-ADDRESS=Rockford University 5050 E. State St.  Rockford IL 61108 United States;X-APPLE-RADIUS=500;X-TITLE=5050 E. State St.:geo:-89.0197305,42.2640342
END:VEVENT
BEGIN:VEVENT
DTSTART;VALUE=DATE:20211008
DTEND;VALUE=DATE:20211011
DTSTAMP:20260424T142043
CREATED:20210810T160904Z
LAST-MODIFIED:20210810T160904Z
UID:10008024-1633651200-1633910399@www.rockford.edu
SUMMARY:Reunion 2021
DESCRIPTION:Reunion will be held October 8-10\, 2021. We look forward to welcoming all alumni back to campus while celebrating our milestone classes ending in 0\,1\,5\, or 6! More information can be found at https://www.rockford.edu/alumni/reunion/. \n* Please note that we will continue to monitor and follow all county health and safety protocols related to COVID-19.
URL:https://www.rockford.edu/calendar-item/reunion-2021/
LOCATION:Rockford University\, 5050 E. State St. \, Rockford\, IL\, 61108\, United States
CATEGORIES:Alumni,Campus Wide Event (Public)
ATTACH;FMTTYPE=image/png:https://www.rockford.edu/wp-content/uploads/2021/08/21_001-Reunion-PC-072820_01-1-1024x683-1.png
GEO:42.2640342;-89.0197305
X-APPLE-STRUCTURED-LOCATION;VALUE=URI;X-ADDRESS=Rockford University 5050 E. State St.  Rockford IL 61108 United States;X-APPLE-RADIUS=500;X-TITLE=5050 E. State St.:geo:-89.0197305,42.2640342
END:VEVENT
BEGIN:VEVENT
DTSTART;TZID=America/Chicago:20211010T103000
DTEND;TZID=America/Chicago:20211010T120000
DTSTAMP:20260424T142043
CREATED:20210824T154255Z
LAST-MODIFIED:20210824T154911Z
UID:10008026-1633861800-1633867200@www.rockford.edu
SUMMARY:Charles M. DeWild Hall Of Fame Brunch & Induction Ceremony
DESCRIPTION:Inductees into the Charles DeWild Hall of Fame include student-athletes\, coaches\, staff members\, and special contributors. Student-athletes must have received their degree from Rockford University\, graduated a minimum of five years before nomination\, and obtained a minimum of all-conference/all district honors. Coaches and staff members may be nominated based on winning\, awards received\, or contributions/distinction brought to Rockford University through their service to the school. Special contributors must have made a significant impact through their work in external areas related to the Rockford University Athletics Department. \nCongratulations to our 2021 Hall of Fame inductees! \nPaula Jones Zigler ’06/’09\nWomen’s Basketball: 2002-2005\, Women’s Volleyball: 2002-2005\, Softball: 2003-2006 \nNick Colon ’07\nFootball: 2003-2006 \nKristi Strunz Elgersma ’08\nWomen’s Basketball: 2004 & 2005 \nTimothy Rowe ’08\nBaseball: 2004-2007 \nShaun Dascher ’09/’12\nBaseball: 2007-2009 \nYou’re invited to join us during Reunion for our Charles M. DeWild Hall Of Fame Brunch & Induction Ceremony to celebrate these deserving recipients. \nMORE INFO/REGISTER: https://www.rockford.edu/alumni/awards/hall-of-fame/
URL:https://www.rockford.edu/calendar-item/charles-m-dewild-hall-of-fame-brunch-induction-ceremony/
LOCATION:Regents Hall – Burpee Student Center\, 5050 E. State St. \, Rockford\, IL\, 61108\, United States
CATEGORIES:Alumni,Campus Wide Event (Public)
ATTACH;FMTTYPE=image/jpeg:https://www.rockford.edu/wp-content/uploads/2021/08/RU-athletic-HOF-banner-1024x350-1.jpg
GEO:42.2640342;-89.0197305
X-APPLE-STRUCTURED-LOCATION;VALUE=URI;X-ADDRESS=Regents Hall – Burpee Student Center 5050 E. State St.  Rockford IL 61108 United States;X-APPLE-RADIUS=500;X-TITLE=5050 E. State St.:geo:-89.0197305,42.2640342
END:VEVENT
BEGIN:VEVENT
DTSTART;VALUE=DATE:20211013
DTEND;VALUE=DATE:20211014
DTSTAMP:20260424T142043
CREATED:20210714T214122Z
LAST-MODIFIED:20210714T214205Z
UID:10008004-1634083200-1634169599@www.rockford.edu
SUMMARY:Fall Break - no classes\, offices open
DESCRIPTION:View the full Academic Calendar for 2021-2022.
URL:https://www.rockford.edu/calendar-item/fall-break-no-classes-offices-open-3/
LOCATION:Rockford University\, 5050 E. State St. \, Rockford\, IL\, 61108\, United States
CATEGORIES:Academic Calendar,Campus Wide Event (Public)
ATTACH;FMTTYPE=image/jpeg:https://www.rockford.edu/wp-content/uploads/2018/04/Academic-Calendar.jpg
GEO:42.2640342;-89.0197305
X-APPLE-STRUCTURED-LOCATION;VALUE=URI;X-ADDRESS=Rockford University 5050 E. State St.  Rockford IL 61108 United States;X-APPLE-RADIUS=500;X-TITLE=5050 E. State St.:geo:-89.0197305,42.2640342
END:VEVENT
BEGIN:VEVENT
DTSTART;VALUE=DATE:20211014
DTEND;VALUE=DATE:20211015
DTSTAMP:20260424T142043
CREATED:20210714T214305Z
LAST-MODIFIED:20210714T214328Z
UID:10008005-1634169600-1634255999@www.rockford.edu
SUMMARY:Fall Break - no classes\, offices open
DESCRIPTION:View the full Academic Calendar for 2021-2022.
URL:https://www.rockford.edu/calendar-item/fall-break-no-classes-offices-open-4/
LOCATION:Rockford University\, 5050 E. State St. \, Rockford\, IL\, 61108\, United States
CATEGORIES:Academic Calendar,Campus Wide Event (Public)
ATTACH;FMTTYPE=image/jpeg:https://www.rockford.edu/wp-content/uploads/2018/04/Academic-Calendar.jpg
GEO:42.2640342;-89.0197305
X-APPLE-STRUCTURED-LOCATION;VALUE=URI;X-ADDRESS=Rockford University 5050 E. State St.  Rockford IL 61108 United States;X-APPLE-RADIUS=500;X-TITLE=5050 E. State St.:geo:-89.0197305,42.2640342
END:VEVENT
BEGIN:VEVENT
DTSTART;TZID=America/Chicago:20211015T080000
DTEND;TZID=America/Chicago:20211015T170000
DTSTAMP:20260424T142043
CREATED:20210714T213955Z
LAST-MODIFIED:20210714T213955Z
UID:10008003-1634284800-1634317200@www.rockford.edu
SUMMARY:Fall Break - no classes\, offices closed
DESCRIPTION:View the full Academic Calendar for 2021-2022.
URL:https://www.rockford.edu/calendar-item/fall-break-no-classes-offices-closed-3/
LOCATION:Rockford University\, 5050 E. State St. \, Rockford\, IL\, 61108\, United States
CATEGORIES:Academic Calendar,Campus Wide Event (Public)
ATTACH;FMTTYPE=image/jpeg:https://www.rockford.edu/wp-content/uploads/2018/04/Academic-Calendar.jpg
GEO:42.2640342;-89.0197305
X-APPLE-STRUCTURED-LOCATION;VALUE=URI;X-ADDRESS=Rockford University 5050 E. State St.  Rockford IL 61108 United States;X-APPLE-RADIUS=500;X-TITLE=5050 E. State St.:geo:-89.0197305,42.2640342
END:VEVENT
BEGIN:VEVENT
DTSTART;TZID=America/Chicago:20211018T080000
DTEND;TZID=America/Chicago:20211022T170000
DTSTAMP:20260424T142043
CREATED:20211008T193742Z
LAST-MODIFIED:20211008T193742Z
UID:10007587-1634544000-1634922000@www.rockford.edu
SUMMARY:SI Leader & Peer Tutor Appreciation Week
DESCRIPTION:Please join the CLS for a week-long celebration acknowledging our remarkable peer tutors & SI leaders for their positive impact on student success at Rockford University. \nDetails to follow via email from CLSTutor@rockford.edu. 
URL:https://www.rockford.edu/calendar-item/si-leader-peer-tutor-appreciation-week/
LOCATION:Rockford University\, 5050 E. State St. \, Rockford\, IL\, 61108\, United States
CATEGORIES:Academic Calendar,Campus Wide Event (Public),Center for Learning Strategies
ATTACH;FMTTYPE=image/png:https://www.rockford.edu/wp-content/uploads/2021/10/SIL-PT-Appreciation-Flyer-1.png
ORGANIZER;CN="Student Involvement and Orientation":MAILTO:LKeller@Rockford.edu
GEO:42.2640342;-89.0197305
X-APPLE-STRUCTURED-LOCATION;VALUE=URI;X-ADDRESS=Rockford University 5050 E. State St.  Rockford IL 61108 United States;X-APPLE-RADIUS=500;X-TITLE=5050 E. State St.:geo:-89.0197305,42.2640342
END:VEVENT
BEGIN:VEVENT
DTSTART;TZID=America/Chicago:20211020T183000
DTEND;TZID=America/Chicago:20211020T193000
DTSTAMP:20260424T142043
CREATED:20211008T193453Z
LAST-MODIFIED:20211008T193453Z
UID:10008043-1634754600-1634758200@www.rockford.edu
SUMMARY:CLS Success Workshop: Time Management
DESCRIPTION:Join the CLS for the Rock Solid Success Workshop Series focusing on Time Management. CLS peer tutors and fellow students will be sharing proven success strategies! *Counts toward study table hours*
URL:https://www.rockford.edu/calendar-item/cls-success-workshop-time-management/
LOCATION:Fisher Memorial Chapel – Rockford University\, 5050 E. State St. \, Rockford\, IL\, 61108\, United States
CATEGORIES:Academic Calendar,Campus Wide Event (Public),Center for Learning Strategies
ATTACH;FMTTYPE=image/png:https://www.rockford.edu/wp-content/uploads/2021/10/Time-Management-Flyer-1.png
GEO:42.264048;-89.0197327
X-APPLE-STRUCTURED-LOCATION;VALUE=URI;X-ADDRESS=Fisher Memorial Chapel – Rockford University 5050 E. State St.  Rockford IL 61108 United States;X-APPLE-RADIUS=500;X-TITLE=5050 E. State St.:geo:-89.0197327,42.264048
END:VEVENT
BEGIN:VEVENT
DTSTART;TZID=America/Chicago:20211023T193000
DTEND;TZID=America/Chicago:20211023T210000
DTSTAMP:20260424T142043
CREATED:20210722T153140Z
LAST-MODIFIED:20210922T164725Z
UID:10008020-1635017400-1635022800@www.rockford.edu
SUMMARY:SPOOKED Too: More Music for the Dead of Night
DESCRIPTION:SPOOKED Too: More Music for the Dead of Night  \nA choral concert\nSat.\, Oct. 23\, 2021\, 7:30 pm\nMaddox Theatre\, Clark Arts Center\nDirector/Conductor\, Timm Adams \nFree will donations are accepted at the door.\nFor more information\, call the Rockford University Box Office at (815) 226-4100 or visit our webpage at: https://www.rockford.edu/artslectures/performingarts/
URL:https://www.rockford.edu/calendar-item/spooked-ii-music-for-the-dead-of-night/
LOCATION:Maddox Theatre – Clark Arts Center\, 5050 E. State St. \, Rockford\, IL\, 61108\, United States
CATEGORIES:Campus Wide Event (Public),PA Performance
ATTACH;FMTTYPE=image/png:https://www.rockford.edu/wp-content/uploads/2021/07/PA.png
GEO:42.2640342;-89.0197305
X-APPLE-STRUCTURED-LOCATION;VALUE=URI;X-ADDRESS=Maddox Theatre – Clark Arts Center 5050 E. State St.  Rockford IL 61108 United States;X-APPLE-RADIUS=500;X-TITLE=5050 E. State St.:geo:-89.0197305,42.2640342
END:VEVENT
END:VCALENDAR