BEGIN:VCALENDAR
VERSION:2.0
PRODID:-//Rockford University - ECPv6.15.20//NONSGML v1.0//EN
CALSCALE:GREGORIAN
METHOD:PUBLISH
X-ORIGINAL-URL:https://www.rockford.edu
X-WR-CALDESC:Events for Rockford University
REFRESH-INTERVAL;VALUE=DURATION:PT1H
X-Robots-Tag:noindex
X-PUBLISHED-TTL:PT1H
BEGIN:VTIMEZONE
TZID:America/Chicago
BEGIN:DAYLIGHT
TZOFFSETFROM:-0600
TZOFFSETTO:-0500
TZNAME:CDT
DTSTART:20200308T080000
END:DAYLIGHT
BEGIN:STANDARD
TZOFFSETFROM:-0500
TZOFFSETTO:-0600
TZNAME:CST
DTSTART:20201101T070000
END:STANDARD
BEGIN:DAYLIGHT
TZOFFSETFROM:-0600
TZOFFSETTO:-0500
TZNAME:CDT
DTSTART:20210314T080000
END:DAYLIGHT
BEGIN:STANDARD
TZOFFSETFROM:-0500
TZOFFSETTO:-0600
TZNAME:CST
DTSTART:20211107T070000
END:STANDARD
BEGIN:DAYLIGHT
TZOFFSETFROM:-0600
TZOFFSETTO:-0500
TZNAME:CDT
DTSTART:20220313T080000
END:DAYLIGHT
BEGIN:STANDARD
TZOFFSETFROM:-0500
TZOFFSETTO:-0600
TZNAME:CST
DTSTART:20221106T070000
END:STANDARD
END:VTIMEZONE
BEGIN:VEVENT
DTSTART;TZID=America/Chicago:20210901T180000
DTEND;TZID=America/Chicago:20210901T200000
DTSTAMP:20260424T111756
CREATED:20210726T125857Z
LAST-MODIFIED:20210726T125857Z
UID:10007567-1630519200-1630526400@www.rockford.edu
SUMMARY:Education Club and Project Lead's "Ice Cream and S'mores Social"
DESCRIPTION:Leaders of the Education Club and Project Lead are kicking off their semester with an Ice Cream and S’mores Social outside Scarborough Hall at the firepit on Wednesday\, September 1 at 6 pm. We welcome Education majors and those interested in Education to join us for our first official club meeting as we get to know one another and unveil the new ” Ed. Lounge”. We hope to see you there!!
URL:https://www.rockford.edu/calendar-item/education-club-and-project-leads-ice-cream-and-smores-social/
LOCATION:Rockford University\, 5050 E. State St. \, Rockford\, IL\, 61108\, United States
CATEGORIES:Campus Wide Event (Public),Clubs & Orgs
ATTACH;FMTTYPE=image/jpeg:https://www.rockford.edu/wp-content/uploads/2018/04/Student-Activities-1.jpg
ORGANIZER;CN="Education":MAILTO:mlagunas@rockford.edu
GEO:42.2640342;-89.0197305
X-APPLE-STRUCTURED-LOCATION;VALUE=URI;X-ADDRESS=Rockford University 5050 E. State St.  Rockford IL 61108 United States;X-APPLE-RADIUS=500;X-TITLE=5050 E. State St.:geo:-89.0197305,42.2640342
END:VEVENT
BEGIN:VEVENT
DTSTART;TZID=America/Chicago:20210906T080000
DTEND;TZID=America/Chicago:20210906T170000
DTSTAMP:20260424T111756
CREATED:20210714T213658Z
LAST-MODIFIED:20210714T213658Z
UID:10008002-1630915200-1630947600@www.rockford.edu
SUMMARY:Labor Day- no classes\, offices closed
DESCRIPTION:View the full Academic Calendar for 2021-2022.
URL:https://www.rockford.edu/calendar-item/labor-day-no-classes-offices-closed-4/
LOCATION:Rockford University\, 5050 E. State St. \, Rockford\, IL\, 61108\, United States
CATEGORIES:Academic Calendar,Campus Closed,Campus Wide Event (Public)
ATTACH;FMTTYPE=image/jpeg:https://www.rockford.edu/wp-content/uploads/2018/04/Academic-Calendar.jpg
GEO:42.2640342;-89.0197305
X-APPLE-STRUCTURED-LOCATION;VALUE=URI;X-ADDRESS=Rockford University 5050 E. State St.  Rockford IL 61108 United States;X-APPLE-RADIUS=500;X-TITLE=5050 E. State St.:geo:-89.0197305,42.2640342
END:VEVENT
BEGIN:VEVENT
DTSTART;VALUE=DATE:20210910
DTEND;VALUE=DATE:20210913
DTSTAMP:20260424T111756
CREATED:20210722T152556Z
LAST-MODIFIED:20210722T152656Z
UID:10008015-1631232000-1631491199@www.rockford.edu
SUMMARY:IWBC/ SABR Women in Baseball Conference
DESCRIPTION:The IWBC and the Society for American Baseball Research (SABR) opened registration for the third annual SABR/IWBC Women in Baseball Conference on September 10-12\, 2021\, at Rockford University in Rockford\, Illinois. This year’s conference theme is “Breaking Barriers: Women in Baseball Around the World.” \nLearn more: http://www.internationalwomensbaseballcenter.org/iwbc-events
URL:https://www.rockford.edu/calendar-item/iwbc-sabr-women-in-baseball-conference/
LOCATION:Rockford University\, 5050 E. State St. \, Rockford\, IL\, 61108\, United States
CATEGORIES:Campus Wide Event (Public),Title IX
GEO:42.2640342;-89.0197305
X-APPLE-STRUCTURED-LOCATION;VALUE=URI;X-ADDRESS=Rockford University 5050 E. State St.  Rockford IL 61108 United States;X-APPLE-RADIUS=500;X-TITLE=5050 E. State St.:geo:-89.0197305,42.2640342
END:VEVENT
BEGIN:VEVENT
DTSTART;TZID=America/Chicago:20210910T080000
DTEND;TZID=America/Chicago:20210910T170000
DTSTAMP:20260424T111756
CREATED:20210726T180052Z
LAST-MODIFIED:20210726T180052Z
UID:10007569-1631260800-1631293200@www.rockford.edu
SUMMARY:Jane Addams Day of Service
DESCRIPTION:The Jane Addams Day of Service is a day where Rockford University students have the chance to go into the community and volunteer to make a difference. It is designed to honor the legacy of Jane Addams. For more information on how you volunteer please message the Jane Addams Center at jacce@rockford.edu.
URL:https://www.rockford.edu/calendar-item/jane-addams-day-of-service-2/
LOCATION:Rockford University\, 5050 E. State St. \, Rockford\, IL\, 61108\, United States
CATEGORIES:Campus Wide Event (Public),Jane Adams Center for Civic Engagement (JACCE)
ATTACH;FMTTYPE=image/jpeg:https://www.rockford.edu/wp-content/uploads/2021/07/2021-Day-of-Service-Web-Banner.jpg
ORGANIZER;CN="Jane Addams Center for Civic Engagment":MAILTO:jacce@rockford.edu
GEO:42.2640342;-89.0197305
X-APPLE-STRUCTURED-LOCATION;VALUE=URI;X-ADDRESS=Rockford University 5050 E. State St.  Rockford IL 61108 United States;X-APPLE-RADIUS=500;X-TITLE=5050 E. State St.:geo:-89.0197305,42.2640342
END:VEVENT
BEGIN:VEVENT
DTSTART;TZID=America/Chicago:20210910T093000
DTEND;TZID=America/Chicago:20210910T150000
DTSTAMP:20260424T111756
CREATED:20210722T152633Z
LAST-MODIFIED:20210722T152633Z
UID:10008016-1631266200-1631286000@www.rockford.edu
SUMMARY:IWBC/SABR Golf Scramble
DESCRIPTION:We proudly present our inaugural Golf Scramble\, sponsored by the International Women’s Baseball Center and the Society for American Baseball Research! \nMark your calendars for Friday\, September 10\, 2021\, at the beautiful Ingersoll Golf Course in Rockford\, Illinois. This wooded 18-hole course with narrow fairways and gently rolling terrain offer 6107 challenging yards on its par 71 course. \nFor more information or to register\, visit the official IWBC/SABR Golf Scramble Eventbrite Page. Contact IWBC Director Cathy Headley to learn more about sponsorship opportunities. If interested in participating virtually or organizing a scramble to support IWBC in your own community\, email IWBC Marketing Committee Chair Margaret Reardon.
URL:https://www.rockford.edu/calendar-item/iwbc-sabr-golf-scramble/
LOCATION:Rockford University\, 5050 E. State St. \, Rockford\, IL\, 61108\, United States
CATEGORIES:Campus Wide Event (Public)
ATTACH;FMTTYPE=image/jpeg:https://www.rockford.edu/wp-content/uploads/2021/07/IWBCSABRGolf.jpeg
GEO:42.2640342;-89.0197305
X-APPLE-STRUCTURED-LOCATION;VALUE=URI;X-ADDRESS=Rockford University 5050 E. State St.  Rockford IL 61108 United States;X-APPLE-RADIUS=500;X-TITLE=5050 E. State St.:geo:-89.0197305,42.2640342
END:VEVENT
BEGIN:VEVENT
DTSTART;TZID=America/Chicago:20210922T183000
DTEND;TZID=America/Chicago:20210922T193000
DTSTAMP:20260424T111756
CREATED:20210914T135354Z
LAST-MODIFIED:20210914T135405Z
UID:10008027-1632335400-1632339000@www.rockford.edu
SUMMARY:CLS Success Workshop: Be Kind to Your Mind
DESCRIPTION:The Center for Learning Strategies (CLS) is hosting a workshop to promote individual well-being and resilience. Guest speakers include Kara Boldt from Lang Health; Karyssa Myhres\, psychology peer tutor; Elisabeth Cogdill\, nursing peer tutor; and Dayshon Moore\, student-athlete.
URL:https://www.rockford.edu/calendar-item/cls-success-workshop-be-kind-to-your-mind/
LOCATION:Fisher Memorial Chapel – Rockford University\, 5050 E. State St. \, Rockford\, IL\, 61108\, United States
CATEGORIES:Campus Wide Event (Public),Center for Learning Strategies
ATTACH;FMTTYPE=image/png:https://www.rockford.edu/wp-content/uploads/2021/09/BE-KIND-TO-YOUR-MIND-Workshop-Flyer-1.png
GEO:42.264048;-89.0197327
X-APPLE-STRUCTURED-LOCATION;VALUE=URI;X-ADDRESS=Fisher Memorial Chapel – Rockford University 5050 E. State St.  Rockford IL 61108 United States;X-APPLE-RADIUS=500;X-TITLE=5050 E. State St.:geo:-89.0197327,42.264048
END:VEVENT
BEGIN:VEVENT
DTSTART;TZID=America/Chicago:20210930T193000
DTEND;TZID=America/Chicago:20211002T220000
DTSTAMP:20260424T111757
CREATED:20210727T130012Z
LAST-MODIFIED:20210922T164847Z
UID:10007571-1633030200-1633212000@www.rockford.edu
SUMMARY:Hands on a Hardbody
DESCRIPTION:Hands on a Hardbody (musical theatre)\nSeptember 30 – October 3\, 2021 (Thursday-Saturday\, 7:30 pm; Sunday 2 pm)\nMaddox Theatre\, Clark Arts Center\nDirector\, Prof. Timm Adams \nFor 10 hard-luck Texans\, a new lease on life is so close they can touch it. Under a scorching sun for days on end\, armed with nothing but hope\, humor\, and ambition\, they’ll fight to keep at least one hand on a brand-new truck in order to win it. In the hilarious\, hard-fought contest that is Hands on a Hardbody only one winner can drive away with the American Dream. Inspired by the true events of the acclaimed 1997 documentary of the same name by S.R. Bindler\, produced by Kevin Morris and Bindler. \nFor a list of all our performances please visit the Performing Arts webpage: https://www.rockford.edu/artslectures/performingarts/\nFor tickets\, call the Rockford University Box Office at (815) 226-4100. Adults $12\, Students and Seniors $9.\nAll RU students may receive one free ticket per show.
URL:https://www.rockford.edu/calendar-item/hands-on-a-hardbody-3/
LOCATION:Maddox Theatre – Clark Arts Center\, 5050 E. State St. \, Rockford\, IL\, 61108\, United States
CATEGORIES:Campus Wide Event (Public),PA Performance
ATTACH;FMTTYPE=image/png:https://www.rockford.edu/wp-content/uploads/2021/07/PA.png
GEO:42.2640342;-89.0197305
X-APPLE-STRUCTURED-LOCATION;VALUE=URI;X-ADDRESS=Maddox Theatre – Clark Arts Center 5050 E. State St.  Rockford IL 61108 United States;X-APPLE-RADIUS=500;X-TITLE=5050 E. State St.:geo:-89.0197305,42.2640342
END:VEVENT
END:VCALENDAR