BEGIN:VCALENDAR
VERSION:2.0
PRODID:-//Rockford University - ECPv6.15.20//NONSGML v1.0//EN
CALSCALE:GREGORIAN
METHOD:PUBLISH
X-ORIGINAL-URL:https://www.rockford.edu
X-WR-CALDESC:Events for Rockford University
REFRESH-INTERVAL;VALUE=DURATION:PT1H
X-Robots-Tag:noindex
X-PUBLISHED-TTL:PT1H
BEGIN:VTIMEZONE
TZID:America/Chicago
BEGIN:DAYLIGHT
TZOFFSETFROM:-0600
TZOFFSETTO:-0500
TZNAME:CDT
DTSTART:20200308T080000
END:DAYLIGHT
BEGIN:STANDARD
TZOFFSETFROM:-0500
TZOFFSETTO:-0600
TZNAME:CST
DTSTART:20201101T070000
END:STANDARD
BEGIN:DAYLIGHT
TZOFFSETFROM:-0600
TZOFFSETTO:-0500
TZNAME:CDT
DTSTART:20210314T080000
END:DAYLIGHT
BEGIN:STANDARD
TZOFFSETFROM:-0500
TZOFFSETTO:-0600
TZNAME:CST
DTSTART:20211107T070000
END:STANDARD
BEGIN:DAYLIGHT
TZOFFSETFROM:-0600
TZOFFSETTO:-0500
TZNAME:CDT
DTSTART:20220313T080000
END:DAYLIGHT
BEGIN:STANDARD
TZOFFSETFROM:-0500
TZOFFSETTO:-0600
TZNAME:CST
DTSTART:20221106T070000
END:STANDARD
END:VTIMEZONE
BEGIN:VEVENT
DTSTART;TZID=America/Chicago:20210303T110000
DTEND;TZID=America/Chicago:20210303T140000
DTSTAMP:20260423T215040
CREATED:20210202T215324Z
LAST-MODIFIED:20210225T190714Z
UID:10007991-1614769200-1614780000@www.rockford.edu
SUMMARY:Coffee Lover Craft & Snack with Commuter Council
DESCRIPTION:Stop by the Burpee Student Center Den every Wednesday from 11 am- 2 pm for a free craft and snack with Commuter Council! The theme for March 3rd we will be coffee\, featuring coffee bean art and a coffee-sugar scrub to help you feel refreshed! This weeks snack will feature various sweets and of course\, coffee! We hope to see you there! As always\, masks and social distancing are required.
URL:https://www.rockford.edu/calendar-item/craft-snack-with-commuter-council-2021-03-03/
LOCATION:Blanche Walker Burpee Student Center\, 5050 East State St.\, Rockford\, IL\, 61108\, United States
CATEGORIES:Campus Wide Event (Public),Clubs & Orgs,Regent Experience,Student Activities
ATTACH;FMTTYPE=image/png:https://www.rockford.edu/wp-content/uploads/2021/02/Coffee-craft.png
ORGANIZER;CN="Commuter Council":MAILTO:CommuterCouncil@rockford.edu
GEO:42.2696337;-89.0184645
X-APPLE-STRUCTURED-LOCATION;VALUE=URI;X-ADDRESS=Blanche Walker Burpee Student Center 5050 East State St. Rockford IL 61108 United States;X-APPLE-RADIUS=500;X-TITLE=5050 East State St.:geo:-89.0184645,42.2696337
END:VEVENT
BEGIN:VEVENT
DTSTART;TZID=America/Chicago:20210308T190000
DTEND;TZID=America/Chicago:20210308T200000
DTSTAMP:20260423T215040
CREATED:20210129T222412Z
LAST-MODIFIED:20210304T163722Z
UID:10007976-1615230000-1615233600@www.rockford.edu
SUMMARY:Non-Forum Series: "Preventing Burnout" by Louisha Barnette
DESCRIPTION:Louisha Barnette will present “Preventing Burnout” as part of our Non-Forum Series for the Spring 2021 semester. \nJoin us on Monday\, March 8\, 2021\, at 7 p.m. via Zoom. (https://rockford.zoom.us/j/96922296462)  There is no formal registration.  \nTalk Description:\nBurn out can cause unhappiness and detachment. In this interactive workshop\, Louisha Barnette teaches students how practicing good self-care that helps build resilience and reduce vulnerability to stress. While all students can benefit from learning self-care habits\, it is Ideal for students entering the fields of healthcare\, social work\, counseling\, and public service. \nBio:\nLouisha Barnette\, presenter of Self Care for Success\, is a Certified Holistic Health Coach\, Registered Yoga Teacher\, and Realtor with Bachelor of Science degrees in Biochemistry\, Microbiology\, and Multidisciplinary Studies with a concentration in African American History and Community. She is passionate about helping busy professionals find their happy place through self-care.
URL:https://www.rockford.edu/calendar-item/non-forum-series-preventing-burnout-by-louisha-barnette/
LOCATION:Rockford University\, 5050 E. State St. \, Rockford\, IL\, 61108\, United States
CATEGORIES:Academic Calendar,Campus Wide Event (Public),Forum Series,Student Activities
ATTACH;FMTTYPE=image/png:https://www.rockford.edu/wp-content/uploads/2021/01/Asset-1@3x-e1611592093873.png
ORGANIZER;CN="Forum Series":MAILTO:boxoffice@rockford.edu
GEO:42.2640342;-89.0197305
X-APPLE-STRUCTURED-LOCATION;VALUE=URI;X-ADDRESS=Rockford University 5050 E. State St.  Rockford IL 61108 United States;X-APPLE-RADIUS=500;X-TITLE=5050 E. State St.:geo:-89.0197305,42.2640342
END:VEVENT
BEGIN:VEVENT
DTSTART;TZID=America/Chicago:20210310T110000
DTEND;TZID=America/Chicago:20210310T140000
DTSTAMP:20260423T215040
CREATED:20210202T215324Z
LAST-MODIFIED:20210326T190749Z
UID:10007981-1615374000-1615384800@www.rockford.edu
SUMMARY:Craft & Snack with Commuter Council
DESCRIPTION:Each Wednesday from 11 am – 2 pm\, you are invited to come by the Burpee Student Center Den for a free craft and snack with Commuter Council. We hope to see you there! As always\, masks and social distancing are required. Please bring your Student ID to check in to this event.
URL:https://www.rockford.edu/calendar-item/craft-snack-with-commuter-council/2021-03-10/
LOCATION:Blanche Walker Burpee Student Center\, 5050 East State St.\, Rockford\, IL\, 61108\, United States
CATEGORIES:Campus Wide Event (Public),Clubs & Orgs,Regent Experience,Student Activities
ORGANIZER;CN="Commuter Council":MAILTO:CommuterCouncil@rockford.edu
GEO:42.2696337;-89.0184645
X-APPLE-STRUCTURED-LOCATION;VALUE=URI;X-ADDRESS=Blanche Walker Burpee Student Center 5050 East State St. Rockford IL 61108 United States;X-APPLE-RADIUS=500;X-TITLE=5050 East State St.:geo:-89.0184645,42.2696337
END:VEVENT
BEGIN:VEVENT
DTSTART;TZID=America/Chicago:20210317T110000
DTEND;TZID=America/Chicago:20210317T140000
DTSTAMP:20260423T215040
CREATED:20210202T215324Z
LAST-MODIFIED:20210326T190749Z
UID:10007982-1615978800-1615989600@www.rockford.edu
SUMMARY:Craft & Snack with Commuter Council
DESCRIPTION:Each Wednesday from 11 am – 2 pm\, you are invited to come by the Burpee Student Center Den for a free craft and snack with Commuter Council. We hope to see you there! As always\, masks and social distancing are required. Please bring your Student ID to check in to this event.
URL:https://www.rockford.edu/calendar-item/craft-snack-with-commuter-council/2021-03-17/
LOCATION:Blanche Walker Burpee Student Center\, 5050 East State St.\, Rockford\, IL\, 61108\, United States
CATEGORIES:Campus Wide Event (Public),Clubs & Orgs,Regent Experience,Student Activities
ORGANIZER;CN="Commuter Council":MAILTO:CommuterCouncil@rockford.edu
GEO:42.2696337;-89.0184645
X-APPLE-STRUCTURED-LOCATION;VALUE=URI;X-ADDRESS=Blanche Walker Burpee Student Center 5050 East State St. Rockford IL 61108 United States;X-APPLE-RADIUS=500;X-TITLE=5050 East State St.:geo:-89.0184645,42.2696337
END:VEVENT
BEGIN:VEVENT
DTSTART;TZID=America/Chicago:20210324T110000
DTEND;TZID=America/Chicago:20210324T140000
DTSTAMP:20260423T215040
CREATED:20210202T215324Z
LAST-MODIFIED:20210326T190749Z
UID:10007983-1616583600-1616594400@www.rockford.edu
SUMMARY:Craft & Snack with Commuter Council
DESCRIPTION:Each Wednesday from 11 am – 2 pm\, you are invited to come by the Burpee Student Center Den for a free craft and snack with Commuter Council. We hope to see you there! As always\, masks and social distancing are required. Please bring your Student ID to check in to this event.
URL:https://www.rockford.edu/calendar-item/craft-snack-with-commuter-council/2021-03-24/
LOCATION:Blanche Walker Burpee Student Center\, 5050 East State St.\, Rockford\, IL\, 61108\, United States
CATEGORIES:Campus Wide Event (Public),Clubs & Orgs,Regent Experience,Student Activities
ORGANIZER;CN="Commuter Council":MAILTO:CommuterCouncil@rockford.edu
GEO:42.2696337;-89.0184645
X-APPLE-STRUCTURED-LOCATION;VALUE=URI;X-ADDRESS=Blanche Walker Burpee Student Center 5050 East State St. Rockford IL 61108 United States;X-APPLE-RADIUS=500;X-TITLE=5050 East State St.:geo:-89.0184645,42.2696337
END:VEVENT
BEGIN:VEVENT
DTSTART;TZID=America/Chicago:20210331T110000
DTEND;TZID=America/Chicago:20210331T140000
DTSTAMP:20260423T215040
CREATED:20210202T215324Z
LAST-MODIFIED:20210326T190910Z
UID:10007990-1617188400-1617199200@www.rockford.edu
SUMMARY:Equal Pay Day Craft & Snack with Commuter Council
DESCRIPTION:Come out to the Burpee Student Center on March 31st from 11am – 2pm to honor Equal Pay Day! The Commuter Council invites you to decorate a piggy banks or coin purses. You will also have the opportunity to support RU Women’s Athletic Programs by purchasing items from a bake sale! The Career Closet and mock interviews will be offered from 11am- 2pm as well. \nBrought to you by the Commuter Council\, Office of Career Development\, Jane Addams Center for Civic Engagement\, and American Association of University Women! We hope to see you there! As always\, masks and social distancing are required. Please bring your Student ID to check in to this event.
URL:https://www.rockford.edu/calendar-item/craft-snack-with-commuter-council-2021-03-31/
LOCATION:Blanche Walker Burpee Student Center\, 5050 East State St.\, Rockford\, IL\, 61108\, United States
CATEGORIES:Campus Wide Event (Public),Clubs & Orgs,Regent Experience,Student Activities
ORGANIZER;CN="Commuter Council":MAILTO:CommuterCouncil@rockford.edu
GEO:42.2696337;-89.0184645
X-APPLE-STRUCTURED-LOCATION;VALUE=URI;X-ADDRESS=Blanche Walker Burpee Student Center 5050 East State St. Rockford IL 61108 United States;X-APPLE-RADIUS=500;X-TITLE=5050 East State St.:geo:-89.0184645,42.2696337
END:VEVENT
END:VCALENDAR