BEGIN:VCALENDAR
VERSION:2.0
PRODID:-//Rockford University - ECPv6.15.20//NONSGML v1.0//EN
CALSCALE:GREGORIAN
METHOD:PUBLISH
X-WR-CALNAME:Rockford University
X-ORIGINAL-URL:https://www.rockford.edu
X-WR-CALDESC:Events for Rockford University
REFRESH-INTERVAL;VALUE=DURATION:PT1H
X-Robots-Tag:noindex
X-PUBLISHED-TTL:PT1H
BEGIN:VTIMEZONE
TZID:America/Chicago
BEGIN:DAYLIGHT
TZOFFSETFROM:-0600
TZOFFSETTO:-0500
TZNAME:CDT
DTSTART:20190310T080000
END:DAYLIGHT
BEGIN:STANDARD
TZOFFSETFROM:-0500
TZOFFSETTO:-0600
TZNAME:CST
DTSTART:20191103T070000
END:STANDARD
BEGIN:DAYLIGHT
TZOFFSETFROM:-0600
TZOFFSETTO:-0500
TZNAME:CDT
DTSTART:20200308T080000
END:DAYLIGHT
BEGIN:STANDARD
TZOFFSETFROM:-0500
TZOFFSETTO:-0600
TZNAME:CST
DTSTART:20201101T070000
END:STANDARD
BEGIN:DAYLIGHT
TZOFFSETFROM:-0600
TZOFFSETTO:-0500
TZNAME:CDT
DTSTART:20210314T080000
END:DAYLIGHT
BEGIN:STANDARD
TZOFFSETFROM:-0500
TZOFFSETTO:-0600
TZNAME:CST
DTSTART:20211107T070000
END:STANDARD
END:VTIMEZONE
BEGIN:VEVENT
DTSTART;VALUE=DATE:20201001
DTEND;VALUE=DATE:20201002
DTSTAMP:20260423T135207
CREATED:20200825T180047Z
LAST-MODIFIED:20200825T180047Z
UID:10007528-1601510400-1601596799@www.rockford.edu
SUMMARY:Golf Play Day 2020
DESCRIPTION:Our Golf Playday supports enhancement to the overall student-athlete experience. \nCome join us at Aldeen Golf Course\, your entry fee of $150.00 per golfer includes: greens fees and cart\, complimentary gift\, lunch\, on course drinks and dinner following the event. If golf is canceled due to inclement weather\, a make-up round certificate will be issued for each golfer. \nIf you’re interested in a sponsorship opportunity\, a discount on a foursome for golf\, and to get COVID-19 related information\, please check out our website at www.rockford.edu/golfplayday or contact Denise Noe at 815.394.3756 or by email at DNoe@rockford.edu for more information.
URL:https://www.rockford.edu/calendar-item/golf-play-day-2020/
LOCATION:Aldeen Golf Club\, 1902 Reid Farm Rd\, Rockford\, IL\, 61107\, United States
CATEGORIES:Alumni,Campus Wide Event (Public)
ATTACH;FMTTYPE=image/jpeg:https://www.rockford.edu/wp-content/uploads/2020/08/golf-playday-2020-logo-resized.jpg
END:VEVENT
BEGIN:VEVENT
DTSTART;TZID=America/Chicago:20201007T120000
DTEND;TZID=America/Chicago:20201007T124500
DTSTAMP:20260423T135207
CREATED:20200728T165531Z
LAST-MODIFIED:20200812T162617Z
UID:10007491-1602072000-1602074700@www.rockford.edu
SUMMARY:Virtual Bachelor’s Degree Completion Information Sessions
DESCRIPTION:Rockford University’s Puri School of Business will host Bachelor’s Degree Completion Information Sessions via webinar on Wednesday\, October 7 from 12-12:45 p.m. or 5:30-6:15 p.m. Anyone interested in learning more about Rockford University’s Bachelor’s Degree Completion Programs in Business Management or Accounting Studies is encouraged to attend. \nAttendees will be provided an in-depth look at how the programs helps advance career opportunities\, including details on program and admission requirements\, and testimonials.There is no cost to attend\, but registration is requested. To learn more about the information session and to register\, call 815-226-4040 or visit www.rockford.edu/busnsession to reserve a spot today. \nThe session will be a webinar through Zoom. The Zoom Meeting Room link will be provided after registration.
URL:https://www.rockford.edu/calendar-item/virtual-bachelors-degree-completion-information-sessions-4/2020-10-07/1/
LOCATION:Rockford University\, 5050 E. State St. \, Rockford\, IL\, 61108\, United States
CATEGORIES:Admissions,Campus Wide Event (Public)
ATTACH;FMTTYPE=image/jpeg:https://www.rockford.edu/wp-content/uploads/2020/06/busn-social-media-square-Shanna-Edits-July2020.jpg
GEO:42.2640342;-89.0197305
X-APPLE-STRUCTURED-LOCATION;VALUE=URI;X-ADDRESS=Rockford University 5050 E. State St.  Rockford IL 61108 United States;X-APPLE-RADIUS=500;X-TITLE=5050 E. State St.:geo:-89.0197305,42.2640342
END:VEVENT
BEGIN:VEVENT
DTSTART;TZID=America/Chicago:20201007T173000
DTEND;TZID=America/Chicago:20201007T181500
DTSTAMP:20260423T135207
CREATED:20200728T165531Z
LAST-MODIFIED:20200812T162617Z
UID:10007492-1602091800-1602094500@www.rockford.edu
SUMMARY:Virtual Bachelor’s Degree Completion Information Sessions
DESCRIPTION:Rockford University’s Puri School of Business will host Bachelor’s Degree Completion Information Sessions via webinar on Wednesday\, October 7 from 12-12:45 p.m. or 5:30-6:15 p.m. Anyone interested in learning more about Rockford University’s Bachelor’s Degree Completion Programs in Business Management or Accounting Studies is encouraged to attend. \nAttendees will be provided an in-depth look at how the programs helps advance career opportunities\, including details on program and admission requirements\, and testimonials.There is no cost to attend\, but registration is requested. To learn more about the information session and to register\, call 815-226-4040 or visit www.rockford.edu/busnsession to reserve a spot today. \nThe session will be a webinar through Zoom. The Zoom Meeting Room link will be provided after registration.
URL:https://www.rockford.edu/calendar-item/virtual-bachelors-degree-completion-information-sessions-4/2020-10-07/2/
LOCATION:Rockford University\, 5050 E. State St. \, Rockford\, IL\, 61108\, United States
CATEGORIES:Admissions,Campus Wide Event (Public)
ATTACH;FMTTYPE=image/jpeg:https://www.rockford.edu/wp-content/uploads/2020/06/busn-social-media-square-Shanna-Edits-July2020.jpg
GEO:42.2640342;-89.0197305
X-APPLE-STRUCTURED-LOCATION;VALUE=URI;X-ADDRESS=Rockford University 5050 E. State St.  Rockford IL 61108 United States;X-APPLE-RADIUS=500;X-TITLE=5050 E. State St.:geo:-89.0197305,42.2640342
END:VEVENT
BEGIN:VEVENT
DTSTART;TZID=America/Chicago:20201014T120000
DTEND;TZID=America/Chicago:20201014T124500
DTSTAMP:20260423T135207
CREATED:20200820T185342Z
LAST-MODIFIED:20200820T185342Z
UID:10007513-1602676800-1602679500@www.rockford.edu
SUMMARY:Virtual MBA Information Session
DESCRIPTION:Rockford University’s Puri School of Business will host two virtual MBA information sessions on Wednesday\, October 14 from 12-12:45 p.m. and from 5:30- 6:15 p.m. Anyone interested in learning more about Rockford University’s MBA program is encouraged to attend. Attendees will be provided an in-depth look at how the University’s MBA program helps advance career and leadership opportunities\, including details on available program concentrations\, admission requirements\, and testimonials. \nThere is no cost to attend\, but registration is requested. To learn more about the MBA information session and to register\, call 815-226-4040 or visit www.rockford.edu/mbainfosession to reserve a spot today. \nZoom Meeting Room link will be provided after registration.
URL:https://www.rockford.edu/calendar-item/virtual-mba-information-session-6/2020-10-14/1/
LOCATION:Rockford University\, 5050 E. State St. \, Rockford\, IL\, 61108\, United States
CATEGORIES:Campus Wide Event (Public),Graduate Office
ATTACH;FMTTYPE=image/jpeg:https://www.rockford.edu/wp-content/uploads/2020/03/social-media-MBA-Info-session-Resized-for-web.jpg
GEO:42.2640342;-89.0197305
X-APPLE-STRUCTURED-LOCATION;VALUE=URI;X-ADDRESS=Rockford University 5050 E. State St.  Rockford IL 61108 United States;X-APPLE-RADIUS=500;X-TITLE=5050 E. State St.:geo:-89.0197305,42.2640342
END:VEVENT
BEGIN:VEVENT
DTSTART;TZID=America/Chicago:20201014T173000
DTEND;TZID=America/Chicago:20201014T181500
DTSTAMP:20260423T135207
CREATED:20200820T185342Z
LAST-MODIFIED:20200820T185342Z
UID:10007514-1602696600-1602699300@www.rockford.edu
SUMMARY:Virtual MBA Information Session
DESCRIPTION:Rockford University’s Puri School of Business will host two virtual MBA information sessions on Wednesday\, October 14 from 12-12:45 p.m. and from 5:30- 6:15 p.m. Anyone interested in learning more about Rockford University’s MBA program is encouraged to attend. Attendees will be provided an in-depth look at how the University’s MBA program helps advance career and leadership opportunities\, including details on available program concentrations\, admission requirements\, and testimonials. \nThere is no cost to attend\, but registration is requested. To learn more about the MBA information session and to register\, call 815-226-4040 or visit www.rockford.edu/mbainfosession to reserve a spot today. \nZoom Meeting Room link will be provided after registration.
URL:https://www.rockford.edu/calendar-item/virtual-mba-information-session-6/2020-10-14/2/
LOCATION:Rockford University\, 5050 E. State St. \, Rockford\, IL\, 61108\, United States
CATEGORIES:Campus Wide Event (Public),Graduate Office
ATTACH;FMTTYPE=image/jpeg:https://www.rockford.edu/wp-content/uploads/2020/03/social-media-MBA-Info-session-Resized-for-web.jpg
GEO:42.2640342;-89.0197305
X-APPLE-STRUCTURED-LOCATION;VALUE=URI;X-ADDRESS=Rockford University 5050 E. State St.  Rockford IL 61108 United States;X-APPLE-RADIUS=500;X-TITLE=5050 E. State St.:geo:-89.0197305,42.2640342
END:VEVENT
BEGIN:VEVENT
DTSTART;TZID=America/Chicago:20201026T120000
DTEND;TZID=America/Chicago:20201026T130000
DTSTAMP:20260423T135207
CREATED:20201023T212813Z
LAST-MODIFIED:20201023T212813Z
UID:10007959-1603713600-1603717200@www.rockford.edu
SUMMARY:Online Brown Bag - Dr. Donna Ogle: "Artificial Intelligence 101: Will the Robots Take Our Jobs?"
DESCRIPTION:Please join us for the next online Brown Bag presentation on \nMonday\, Oct. 26\, at 12 p.m. \nDr. Donna Ogle\, Assistant Professor of Computer Science\, presents: “Artificial Intelligence 101: Will the Robots Take Our Jobs?” \nRegister for Dr. Ogle’s talk using the following link: https://alumlc.org/rockford/4056 \nRegistering will give you access to the Zoom link and event reminders. \nThis event is free and open to the public. For more information\, please contact Dr. Marilén Loyola (mloyola@rockford.edu) or Dr. Orhan Erdem (oerdem@rockford.edu).
URL:https://www.rockford.edu/calendar-item/online-brown-bag-dr-donna-ogle-artificial-intelligence-101-will-the-robots-take-our-jobs/
LOCATION:Rockford University\, 5050 E. State St. \, Rockford\, IL\, 61108\, United States
CATEGORIES:Campus Wide Event (Public)
ORGANIZER;CN="Dr. Marilen Loyola":MAILTO:mloyola@rockford.edu
GEO:42.2640342;-89.0197305
X-APPLE-STRUCTURED-LOCATION;VALUE=URI;X-ADDRESS=Rockford University 5050 E. State St.  Rockford IL 61108 United States;X-APPLE-RADIUS=500;X-TITLE=5050 E. State St.:geo:-89.0197305,42.2640342
END:VEVENT
BEGIN:VEVENT
DTSTART;TZID=America/Chicago:20201027T160000
DTEND;TZID=America/Chicago:20201027T190000
DTSTAMP:20260423T135207
CREATED:20201005T185728Z
LAST-MODIFIED:20201005T193421Z
UID:10007533-1603814400-1603825200@www.rockford.edu
SUMMARY:Managing Your Money During COVID-19 (Free Webinar)
DESCRIPTION:Puri School of Business is offering a free 3-hour long webinar training on how to manage your money. The COVID-19 pandemic has brought a huge uncertainty to our lives. As unemployment numbers are skyrocketing\, it is very crucial to manage our money. This program will help people of all ages learn practical financial knowledge they can use in their everyday lives. Getting to know the basics of money and budget management will help the attendees reach their financial goals and manage their daily finances. \nPlease register by sending an email to purischool@rockford.edu. After registration\, you will receive a link and password to enter the Zoom meeting.
URL:https://www.rockford.edu/calendar-item/managing-your-money-during-covid-19-free-webinar/
LOCATION:Zoom\, IL\, United States
CATEGORIES:Campus Wide Event (Public)
ATTACH;FMTTYPE=image/jpeg:https://www.rockford.edu/wp-content/uploads/2020/02/PSOB-Logo_515x280.jpg
END:VEVENT
BEGIN:VEVENT
DTSTART;VALUE=DATE:20201030
DTEND;VALUE=DATE:20201031
DTSTAMP:20260423T135207
CREATED:20200820T194929Z
LAST-MODIFIED:20200820T194929Z
UID:10007523-1604016000-1604102399@www.rockford.edu
SUMMARY:Future Regent Friday
DESCRIPTION:“Is Rockford University a good fit for me?” Find out by attending a Future Regent Friday! \nAt RU\, you’ll be a VIP and we are rolling out the red carpet! You and your guests will have their own personal guide to campus. In your customized schedule\, you’ll get to sit in on a live class\, enjoy lunch with current students\, tour campus\, and learn what it takes to become a Rockford Regent.
URL:https://www.rockford.edu/calendar-item/future-regent-friday/2020-10-30/
LOCATION:Rockford University\, 5050 E. State St. \, Rockford\, IL\, 61108\, United States
CATEGORIES:Admissions,Campus Wide Event (Public),Visit Day
ATTACH;FMTTYPE=image/jpeg:https://www.rockford.edu/wp-content/uploads/2020/08/Your-Visit-to-Rockford-University-1.jpg
ORGANIZER;CN="Admission":MAILTO:admissions@rockford.edu
GEO:42.2640342;-89.0197305
X-APPLE-STRUCTURED-LOCATION;VALUE=URI;X-ADDRESS=Rockford University 5050 E. State St.  Rockford IL 61108 United States;X-APPLE-RADIUS=500;X-TITLE=5050 E. State St.:geo:-89.0197305,42.2640342
END:VEVENT
END:VCALENDAR