BEGIN:VCALENDAR
VERSION:2.0
PRODID:-//Rockford University - ECPv6.15.20//NONSGML v1.0//EN
CALSCALE:GREGORIAN
METHOD:PUBLISH
X-WR-CALNAME:Rockford University
X-ORIGINAL-URL:https://www.rockford.edu
X-WR-CALDESC:Events for Rockford University
REFRESH-INTERVAL;VALUE=DURATION:PT1H
X-Robots-Tag:noindex
X-PUBLISHED-TTL:PT1H
BEGIN:VTIMEZONE
TZID:America/Chicago
BEGIN:DAYLIGHT
TZOFFSETFROM:-0600
TZOFFSETTO:-0500
TZNAME:CDT
DTSTART:20190310T080000
END:DAYLIGHT
BEGIN:STANDARD
TZOFFSETFROM:-0500
TZOFFSETTO:-0600
TZNAME:CST
DTSTART:20191103T070000
END:STANDARD
BEGIN:DAYLIGHT
TZOFFSETFROM:-0600
TZOFFSETTO:-0500
TZNAME:CDT
DTSTART:20200308T080000
END:DAYLIGHT
BEGIN:STANDARD
TZOFFSETFROM:-0500
TZOFFSETTO:-0600
TZNAME:CST
DTSTART:20201101T070000
END:STANDARD
BEGIN:DAYLIGHT
TZOFFSETFROM:-0600
TZOFFSETTO:-0500
TZNAME:CDT
DTSTART:20210314T080000
END:DAYLIGHT
BEGIN:STANDARD
TZOFFSETFROM:-0500
TZOFFSETTO:-0600
TZNAME:CST
DTSTART:20211107T070000
END:STANDARD
END:VTIMEZONE
BEGIN:VEVENT
DTSTART;TZID=America/Chicago:20200506T120000
DTEND;TZID=America/Chicago:20200506T124500
DTSTAMP:20260423T054300
CREATED:20200428T204220Z
LAST-MODIFIED:20200428T204220Z
UID:10007927-1588766400-1588769100@www.rockford.edu
SUMMARY:Graduate Student- Athlete Information Session
DESCRIPTION:Are you graduating and not satisfied with your senior year being cut short? Due to COVID-19\, the NCAA is granting eligibility waivers for Spring 2020 athletes. Join our upcoming Zoom to learn more about continuing your athletic career through graduate program opportunities at Rockford University. \nThe virtual information session will be held Wednesday\, May 6\, 2020 from 12-12:45 p.m. Anyone interested in learning more about Rockford University’s graduate programs is encouraged to attend. Attendees will be provided an in-depth look at the University’s graduate programs\, including details on available program concentrations\, admission requirements\, and testimonials from current graduate student-athletes. \nThere is no cost to attend\, but registration is requested. To learn more about the MBA information session and to register\, call 815-226-4040 or visit www.rockford.edu/gradinfosession to reserve a spot today. \nZoom Meeting Room link will be provided after registration.
URL:https://www.rockford.edu/calendar-item/graduate-student-athlete-information-session/
LOCATION:Rockford University\, 5050 E. State St. \, Rockford\, IL\, 61108\, United States
CATEGORIES:Admissions,Campus Wide Event (Public),Graduate Office
ATTACH;FMTTYPE=image/jpeg:https://www.rockford.edu/wp-content/uploads/2020/04/Grad-Athletics-social-media-scaled.jpg
GEO:42.2640342;-89.0197305
X-APPLE-STRUCTURED-LOCATION;VALUE=URI;X-ADDRESS=Rockford University 5050 E. State St.  Rockford IL 61108 United States;X-APPLE-RADIUS=500;X-TITLE=5050 E. State St.:geo:-89.0197305,42.2640342
END:VEVENT
BEGIN:VEVENT
DTSTART;TZID=America/Chicago:20200507T073000
DTEND;TZID=America/Chicago:20200507T084500
DTSTAMP:20260423T054300
CREATED:20200117T191742Z
LAST-MODIFIED:20200507T123610Z
UID:10007902-1588836600-1588841100@www.rockford.edu
SUMMARY:Puri School of Business Breakfast Briefing
DESCRIPTION:Disruption No More: How to Embrace Change and Like it \nZoom link: https://rockford.zoom.us/j/8254999528 \nYou’re invited to the final Puri School of Business Breakfast Briefing of Spring 2020 on May 7\, 2020. Enjoy a free hot breakfast on your way to work and hear Dr. Mandolen Mull\, Puri School of Business Chairperson\, share successful strategies for becoming a strategic change agent and helping coworkers manage the transition too. \nCheck-in begins at 7:15 a.m. and the event will conclude at approximately 8:45 a.m. \nView the flyer here! 
URL:https://www.rockford.edu/calendar-item/puri-school-of-business-breakfast-briefing-4/
LOCATION:Puri School of Business\, 5100 East State St\, Rockford\, IL\, 61108\, United States
CATEGORIES:Campus Wide Event (Public)
ATTACH;FMTTYPE=image/jpeg:https://www.rockford.edu/wp-content/uploads/2019/05/1-PSOB-Logo-rock-solid-purple_CMYK.jpg
GEO:42.264752;-89.018728
X-APPLE-STRUCTURED-LOCATION;VALUE=URI;X-ADDRESS=Puri School of Business 5100 East State St Rockford IL 61108 United States;X-APPLE-RADIUS=500;X-TITLE=5100 East State St:geo:-89.018728,42.264752
END:VEVENT
BEGIN:VEVENT
DTSTART;TZID=America/Chicago:20200513T120000
DTEND;TZID=America/Chicago:20200513T130000
DTSTAMP:20260423T054300
CREATED:20200326T185613Z
LAST-MODIFIED:20200410T160329Z
UID:10007480-1589371200-1589374800@www.rockford.edu
SUMMARY:Virtual Bachelor's Degree Completion Information Sessions
DESCRIPTION:Rockford University’s Puri School of Business will host a Bachelor’s Degree Completion Information Sessions via webinar on Wednesday\, May 13\, 2020 from 12-1:00 p.m. or 5:30-6:30 p.m. Anyone interested in learning more about Rockford University’s Bachelor’s Degree Completion Program is encouraged to attend. Attendees will be provided an in-depth look at how the program helps advance career opportunities\, including details on program and admission requirements\, and testimonials.\nThere is no cost to attend\, but registration is requested. To learn more about the Business Management information session and to register\, call 815-226-4040 or visit www.rockford.edu/busnsession to reserve a spot today.\nThe session will be a webinar through Zoom. The Zoom Meeting Room link will be provided after registration.
URL:https://www.rockford.edu/calendar-item/virtual-business-management-information-session-3/2020-05-13/1/
LOCATION:Rockford University\, 5050 E. State St. \, Rockford\, IL\, 61108\, United States
CATEGORIES:Campus Wide Event (Public)
GEO:42.2640342;-89.0197305
X-APPLE-STRUCTURED-LOCATION;VALUE=URI;X-ADDRESS=Rockford University 5050 E. State St.  Rockford IL 61108 United States;X-APPLE-RADIUS=500;X-TITLE=5050 E. State St.:geo:-89.0197305,42.2640342
END:VEVENT
BEGIN:VEVENT
DTSTART;TZID=America/Chicago:20200513T173000
DTEND;TZID=America/Chicago:20200513T183000
DTSTAMP:20260423T054300
CREATED:20200326T185613Z
LAST-MODIFIED:20200410T160329Z
UID:10007481-1589391000-1589394600@www.rockford.edu
SUMMARY:Virtual Bachelor's Degree Completion Information Sessions
DESCRIPTION:Rockford University’s Puri School of Business will host a Bachelor’s Degree Completion Information Sessions via webinar on Wednesday\, May 13\, 2020 from 12-1:00 p.m. or 5:30-6:30 p.m. Anyone interested in learning more about Rockford University’s Bachelor’s Degree Completion Program is encouraged to attend. Attendees will be provided an in-depth look at how the program helps advance career opportunities\, including details on program and admission requirements\, and testimonials.\nThere is no cost to attend\, but registration is requested. To learn more about the Business Management information session and to register\, call 815-226-4040 or visit www.rockford.edu/busnsession to reserve a spot today.\nThe session will be a webinar through Zoom. The Zoom Meeting Room link will be provided after registration.
URL:https://www.rockford.edu/calendar-item/virtual-business-management-information-session-3/2020-05-13/2/
LOCATION:Rockford University\, 5050 E. State St. \, Rockford\, IL\, 61108\, United States
CATEGORIES:Campus Wide Event (Public)
GEO:42.2640342;-89.0197305
X-APPLE-STRUCTURED-LOCATION;VALUE=URI;X-ADDRESS=Rockford University 5050 E. State St.  Rockford IL 61108 United States;X-APPLE-RADIUS=500;X-TITLE=5050 E. State St.:geo:-89.0197305,42.2640342
END:VEVENT
BEGIN:VEVENT
DTSTART;TZID=America/Chicago:20200521T120000
DTEND;TZID=America/Chicago:20200521T124500
DTSTAMP:20260423T054300
CREATED:20200428T180931Z
LAST-MODIFIED:20200428T181341Z
UID:10007923-1590062400-1590065100@www.rockford.edu
SUMMARY:Virtual MBA Information Session
DESCRIPTION:Rockford University’s Puri School of Business will host two virtual MBA information sessions on Thursday\, May 21\, 2020 from 12-12:45 p.m. and from 5:30- 6:15 p.m. Anyone interested in learning more about Rockford University’s MBA program is encouraged to attend. Attendees will be provided an in-depth look at how the University’s MBA program helps advance career and leadership opportunities\, including details on available program concentrations\, admission requirements\, and testimonials. \nThere is no cost to attend\, but registration is requested. To learn more about the MBA information session and to register\, call 815-226-4040 or visit www.rockford.edu/mbainfosession to reserve a spot today. \nZoom Meeting Room link will be provided after registration.
URL:https://www.rockford.edu/calendar-item/virtual-mba-information-session/2020-05-21/1/
LOCATION:Rockford University\, 5050 E. State St. \, Rockford\, IL\, 61108\, United States
CATEGORIES:Admissions,Campus Wide Event (Public),Graduate Office
GEO:42.2640342;-89.0197305
X-APPLE-STRUCTURED-LOCATION;VALUE=URI;X-ADDRESS=Rockford University 5050 E. State St.  Rockford IL 61108 United States;X-APPLE-RADIUS=500;X-TITLE=5050 E. State St.:geo:-89.0197305,42.2640342
END:VEVENT
BEGIN:VEVENT
DTSTART;TZID=America/Chicago:20200521T173000
DTEND;TZID=America/Chicago:20200521T181500
DTSTAMP:20260423T054300
CREATED:20200428T180931Z
LAST-MODIFIED:20200428T181341Z
UID:10007924-1590082200-1590084900@www.rockford.edu
SUMMARY:Virtual MBA Information Session
DESCRIPTION:Rockford University’s Puri School of Business will host two virtual MBA information sessions on Thursday\, May 21\, 2020 from 12-12:45 p.m. and from 5:30- 6:15 p.m. Anyone interested in learning more about Rockford University’s MBA program is encouraged to attend. Attendees will be provided an in-depth look at how the University’s MBA program helps advance career and leadership opportunities\, including details on available program concentrations\, admission requirements\, and testimonials. \nThere is no cost to attend\, but registration is requested. To learn more about the MBA information session and to register\, call 815-226-4040 or visit www.rockford.edu/mbainfosession to reserve a spot today. \nZoom Meeting Room link will be provided after registration.
URL:https://www.rockford.edu/calendar-item/virtual-mba-information-session/2020-05-21/2/
LOCATION:Rockford University\, 5050 E. State St. \, Rockford\, IL\, 61108\, United States
CATEGORIES:Admissions,Campus Wide Event (Public),Graduate Office
GEO:42.2640342;-89.0197305
X-APPLE-STRUCTURED-LOCATION;VALUE=URI;X-ADDRESS=Rockford University 5050 E. State St.  Rockford IL 61108 United States;X-APPLE-RADIUS=500;X-TITLE=5050 E. State St.:geo:-89.0197305,42.2640342
END:VEVENT
BEGIN:VEVENT
DTSTART;TZID=America/Chicago:20200525T080000
DTEND;TZID=America/Chicago:20200525T170000
DTSTAMP:20260423T054300
CREATED:20191218T154214Z
LAST-MODIFIED:20191218T154214Z
UID:10007442-1590393600-1590426000@www.rockford.edu
SUMMARY:Memorial Day- Offices Closed
DESCRIPTION:The University offices will be closed in observance of the holiday. 
URL:https://www.rockford.edu/calendar-item/memorial-day-offices-closed/
LOCATION:Rockford University\, 5050 E. State St. \, Rockford\, IL\, 61108\, United States
CATEGORIES:Campus Wide Event (Public)
ATTACH;FMTTYPE=image/jpeg:https://www.rockford.edu/wp-content/uploads/2018/04/Generic-1.jpg
GEO:42.2640342;-89.0197305
X-APPLE-STRUCTURED-LOCATION;VALUE=URI;X-ADDRESS=Rockford University 5050 E. State St.  Rockford IL 61108 United States;X-APPLE-RADIUS=500;X-TITLE=5050 E. State St.:geo:-89.0197305,42.2640342
END:VEVENT
END:VCALENDAR