BEGIN:VCALENDAR
VERSION:2.0
PRODID:-//Rockford University - ECPv6.15.20//NONSGML v1.0//EN
CALSCALE:GREGORIAN
METHOD:PUBLISH
X-WR-CALNAME:Rockford University
X-ORIGINAL-URL:https://www.rockford.edu
X-WR-CALDESC:Events for Rockford University
REFRESH-INTERVAL;VALUE=DURATION:PT1H
X-Robots-Tag:noindex
X-PUBLISHED-TTL:PT1H
BEGIN:VTIMEZONE
TZID:America/Chicago
BEGIN:DAYLIGHT
TZOFFSETFROM:-0600
TZOFFSETTO:-0500
TZNAME:CDT
DTSTART:20180311T080000
END:DAYLIGHT
BEGIN:STANDARD
TZOFFSETFROM:-0500
TZOFFSETTO:-0600
TZNAME:CST
DTSTART:20181104T070000
END:STANDARD
BEGIN:DAYLIGHT
TZOFFSETFROM:-0600
TZOFFSETTO:-0500
TZNAME:CDT
DTSTART:20190310T080000
END:DAYLIGHT
BEGIN:STANDARD
TZOFFSETFROM:-0500
TZOFFSETTO:-0600
TZNAME:CST
DTSTART:20191103T070000
END:STANDARD
BEGIN:DAYLIGHT
TZOFFSETFROM:-0600
TZOFFSETTO:-0500
TZNAME:CDT
DTSTART:20200308T080000
END:DAYLIGHT
BEGIN:STANDARD
TZOFFSETFROM:-0500
TZOFFSETTO:-0600
TZNAME:CST
DTSTART:20201101T070000
END:STANDARD
END:VTIMEZONE
BEGIN:VEVENT
DTSTART;TZID=America/Chicago:20190603T080000
DTEND;TZID=America/Chicago:20190603T080000
DTSTAMP:20260422T101058
CREATED:20180522T211959Z
LAST-MODIFIED:20180809T155712Z
UID:10007134-1559548800-1559548800@www.rockford.edu
SUMMARY:Regular Summer Session begins
DESCRIPTION:View the full Academic Calendar 2018-19
URL:https://www.rockford.edu/calendar-item/regular-summer-session-begins-3/
LOCATION:Rockford University\, 5050 E. State St. \, Rockford\, IL\, 61108\, United States
CATEGORIES:Academic Calendar,Campus Wide Event (Public)
ATTACH;FMTTYPE=image/jpeg:https://www.rockford.edu/wp-content/uploads/2018/04/Academic-Calendar.jpg
GEO:42.2640342;-89.0197305
X-APPLE-STRUCTURED-LOCATION;VALUE=URI;X-ADDRESS=Rockford University 5050 E. State St.  Rockford IL 61108 United States;X-APPLE-RADIUS=500;X-TITLE=5050 E. State St.:geo:-89.0197305,42.2640342
END:VEVENT
BEGIN:VEVENT
DTSTART;VALUE=DATE:20190608
DTEND;VALUE=DATE:20190609
DTSTAMP:20260422T101058
CREATED:20180927T182928Z
LAST-MODIFIED:20190404T221051Z
UID:10007199-1559952000-1560038399@www.rockford.edu
SUMMARY:ROAR Transfer Registration:
DESCRIPTION:Regents Off and Running (ROAR) is a registration event specifically focused on transfer students. Meet with your faculty advisor to sign up for classes\, chat with Financial Aid\, get your student ID card\, and find out about all of the services Rockford University can offer; all in one day!\n \nROAR is by appointment only so call the Office of Admission at 815-226-4050 or toll-free at 800-892-2984 to schedule your appointment.
URL:https://www.rockford.edu/calendar-item/roar-transfer-registration/2019-06-08/
LOCATION:Rockford University\, 5050 E. State St. \, Rockford\, IL\, 61108\, United States
CATEGORIES:Admissions,Campus Wide Event (Public)
ATTACH;FMTTYPE=image/jpeg:https://www.rockford.edu/wp-content/uploads/2018/04/Admission-1.jpg
ORGANIZER;CN="Student Involvement and Orientation":MAILTO:LKeller@Rockford.edu
GEO:42.2640342;-89.0197305
X-APPLE-STRUCTURED-LOCATION;VALUE=URI;X-ADDRESS=Rockford University 5050 E. State St.  Rockford IL 61108 United States;X-APPLE-RADIUS=500;X-TITLE=5050 E. State St.:geo:-89.0197305,42.2640342
END:VEVENT
BEGIN:VEVENT
DTSTART;TZID=America/Chicago:20190617T080000
DTEND;TZID=America/Chicago:20190628T080000
DTSTAMP:20260422T101058
CREATED:20180522T212132Z
LAST-MODIFIED:20180809T155913Z
UID:10007136-1560758400-1561708800@www.rockford.edu
SUMMARY:MAT Summer Camp
DESCRIPTION:View the full Academic Calendar 2018-19
URL:https://www.rockford.edu/calendar-item/mat-summer-camp-2/
LOCATION:Rockford University\, 5050 E. State St. \, Rockford\, IL\, 61108\, United States
CATEGORIES:Academic Calendar,Campus Wide Event (Public)
ATTACH;FMTTYPE=image/jpeg:https://www.rockford.edu/wp-content/uploads/2018/04/Academic-Calendar.jpg
GEO:42.2640342;-89.0197305
X-APPLE-STRUCTURED-LOCATION;VALUE=URI;X-ADDRESS=Rockford University 5050 E. State St.  Rockford IL 61108 United States;X-APPLE-RADIUS=500;X-TITLE=5050 E. State St.:geo:-89.0197305,42.2640342
END:VEVENT
BEGIN:VEVENT
DTSTART;TZID=America/Chicago:20190625T080000
DTEND;TZID=America/Chicago:20190625T170000
DTSTAMP:20260422T101058
CREATED:20180522T212223Z
LAST-MODIFIED:20180809T155810Z
UID:10007138-1561449600-1561482000@www.rockford.edu
SUMMARY:BSMS Spring Degree Award Date
DESCRIPTION:View the full Academic Calendar 2018-19
URL:https://www.rockford.edu/calendar-item/bsms-spring-degree-award-date-3/
LOCATION:Rockford University\, 5050 E. State St. \, Rockford\, IL\, 61108\, United States
CATEGORIES:Academic Calendar,Campus Wide Event (Public)
ATTACH;FMTTYPE=image/jpeg:https://www.rockford.edu/wp-content/uploads/2018/04/Academic-Calendar.jpg
GEO:42.2640342;-89.0197305
X-APPLE-STRUCTURED-LOCATION;VALUE=URI;X-ADDRESS=Rockford University 5050 E. State St.  Rockford IL 61108 United States;X-APPLE-RADIUS=500;X-TITLE=5050 E. State St.:geo:-89.0197305,42.2640342
END:VEVENT
BEGIN:VEVENT
DTSTART;TZID=America/Chicago:20190625T173000
DTEND;TZID=America/Chicago:20190625T190000
DTSTAMP:20260422T101058
CREATED:20190529T145630Z
LAST-MODIFIED:20190529T145630Z
UID:10007808-1561483800-1561489200@www.rockford.edu
SUMMARY:Master’s in Business Administration (MBA) information session
DESCRIPTION:Rockford University’s Puri School of Business will host a free Master’s in Business Administration (MBA) information session on Tuesday\, June 25\, 2019\, beginning at 5:30 p.m. Anyone interested in learning more about earning an MBA is encouraged to attend. Attendees will be provided an in-depth look at how the University’s MBA program helps advance career and leadership opportunities\, including details on available program concentrations and admission requirements. Hear from a panel of current and former students who will provide insight on their experiences with the program. Guests also will be able to speak one-on-one with program advisors and faculty.  The information session will conclude at approximately 7 p.m. \nThere is no cost to attend\, but registration is requested. To learn more about the MBA information session and to register\, call 815-226-4040 or visit www.rockford.edu/mbainfosession/to reserve a spot today. The session will be held in the Puri School of Business\, located directly east of the Rockford University’s main entrance located at 5050 East State Street\, Rockford.
URL:https://www.rockford.edu/calendar-item/masters-in-business-administration-mba-information-session/
LOCATION:Puri School of Business\, 5100 East State St\, Rockford\, IL\, 61108\, United States
CATEGORIES:Admissions,Campus Wide Event (Public)
ATTACH;FMTTYPE=image/jpeg:https://www.rockford.edu/wp-content/uploads/2019/05/1-PSOB-Logo-rock-solid-purple_CMYK.jpg
ORGANIZER;CN="Student Involvement and Orientation":MAILTO:LKeller@Rockford.edu
GEO:42.264752;-89.018728
X-APPLE-STRUCTURED-LOCATION;VALUE=URI;X-ADDRESS=Puri School of Business 5100 East State St Rockford IL 61108 United States;X-APPLE-RADIUS=500;X-TITLE=5100 East State St:geo:-89.018728,42.264752
END:VEVENT
END:VCALENDAR