BEGIN:VCALENDAR
VERSION:2.0
PRODID:-//Rockford University - ECPv6.15.20//NONSGML v1.0//EN
CALSCALE:GREGORIAN
METHOD:PUBLISH
X-WR-CALNAME:Rockford University
X-ORIGINAL-URL:https://www.rockford.edu
X-WR-CALDESC:Events for Rockford University
REFRESH-INTERVAL;VALUE=DURATION:PT1H
X-Robots-Tag:noindex
X-PUBLISHED-TTL:PT1H
BEGIN:VTIMEZONE
TZID:America/Chicago
BEGIN:DAYLIGHT
TZOFFSETFROM:-0600
TZOFFSETTO:-0500
TZNAME:CDT
DTSTART:20180311T080000
END:DAYLIGHT
BEGIN:STANDARD
TZOFFSETFROM:-0500
TZOFFSETTO:-0600
TZNAME:CST
DTSTART:20181104T070000
END:STANDARD
BEGIN:DAYLIGHT
TZOFFSETFROM:-0600
TZOFFSETTO:-0500
TZNAME:CDT
DTSTART:20190310T080000
END:DAYLIGHT
BEGIN:STANDARD
TZOFFSETFROM:-0500
TZOFFSETTO:-0600
TZNAME:CST
DTSTART:20191103T070000
END:STANDARD
BEGIN:DAYLIGHT
TZOFFSETFROM:-0600
TZOFFSETTO:-0500
TZNAME:CDT
DTSTART:20200308T080000
END:DAYLIGHT
BEGIN:STANDARD
TZOFFSETFROM:-0500
TZOFFSETTO:-0600
TZNAME:CST
DTSTART:20201101T070000
END:STANDARD
END:VTIMEZONE
BEGIN:VEVENT
DTSTART;TZID=America/Chicago:20190506T080000
DTEND;TZID=America/Chicago:20190506T080000
DTSTAMP:20260422T114815
CREATED:20180522T211055Z
LAST-MODIFIED:20180809T155117Z
UID:10007601-1557129600-1557129600@www.rockford.edu
SUMMARY:Honors Day Convocation
DESCRIPTION:View the full Academic Calendar 2018-19
URL:https://www.rockford.edu/calendar-item/honors-day-convocation-2/
LOCATION:Rockford University\, 5050 E. State St. \, Rockford\, IL\, 61108\, United States
CATEGORIES:Academic Calendar,Campus Wide Event (Public)
ATTACH;FMTTYPE=image/jpeg:https://www.rockford.edu/wp-content/uploads/2018/04/Academic-Calendar.jpg
GEO:42.2640342;-89.0197305
X-APPLE-STRUCTURED-LOCATION;VALUE=URI;X-ADDRESS=Rockford University 5050 E. State St.  Rockford IL 61108 United States;X-APPLE-RADIUS=500;X-TITLE=5050 E. State St.:geo:-89.0197305,42.2640342
END:VEVENT
BEGIN:VEVENT
DTSTART;TZID=America/Chicago:20190508T160000
DTEND;TZID=America/Chicago:20190508T170000
DTSTAMP:20260422T114815
CREATED:20190415T204105Z
LAST-MODIFIED:20190415T204105Z
UID:10007802-1557331200-1557334800@www.rockford.edu
SUMMARY:Student Life Awards
DESCRIPTION:Please join the division of Student Life in recognizing our student leaders on campus. \nThe program will be held Wednesday May 8 in the Fisher Chapel.  \nLight appetizers will be served at 4 pm and the program will start 4:15 pm. \nCome support our amazing student leaders!
URL:https://www.rockford.edu/calendar-item/student-life-awards/
LOCATION:Fisher Memorial Chapel – Rockford University\, 5050 E. State St. \, Rockford\, IL\, 61108\, United States
CATEGORIES:Campus Wide Event (Public),Student Activities
ATTACH;FMTTYPE=image/jpeg:https://www.rockford.edu/wp-content/uploads/2018/04/Student-Activities-1.jpg
GEO:42.264048;-89.0197327
X-APPLE-STRUCTURED-LOCATION;VALUE=URI;X-ADDRESS=Fisher Memorial Chapel – Rockford University 5050 E. State St.  Rockford IL 61108 United States;X-APPLE-RADIUS=500;X-TITLE=5050 E. State St.:geo:-89.0197327,42.264048
END:VEVENT
BEGIN:VEVENT
DTSTART;TZID=America/Chicago:20190508T190000
DTEND;TZID=America/Chicago:20190508T200000
DTSTAMP:20260422T114815
CREATED:20190429T164917Z
LAST-MODIFIED:20190429T164917Z
UID:10007806-1557342000-1557345600@www.rockford.edu
SUMMARY:Spring Concert- Up Up and Away Songs of Flight
DESCRIPTION:Join the choirs of Rockford University and Rock Valley College at Rock Valley College in a celebration of birds and dreams and flying machines! \nProfessor Timm Adams\, conductor/director\nTickets are $5 for students with ID\, Adults are $10. \nSeasonal music featuring Regent Singers\, Women’s Ensemble\, and the Rockford University Vocal Collective a cappella group. \n\nview all of our Performing Art Shows for this season. (https://www.rockford.edu/artslectures/performingarts/)
URL:https://www.rockford.edu/calendar-item/spring-concert-up-up-and-away-songs-of-flight/
LOCATION:Rock Valley College Performing Arts Room\, 3301 N Mulford Rd.\, Rockford\, IL\, 61114\, United States
CATEGORIES:Campus Wide Event (Public),PA Performance
END:VEVENT
BEGIN:VEVENT
DTSTART;TZID=America/Chicago:20190510T080000
DTEND;TZID=America/Chicago:20190510T170000
DTSTAMP:20260422T114815
CREATED:20180522T211223Z
LAST-MODIFIED:20180525T150440Z
UID:10007603-1557475200-1557507600@www.rockford.edu
SUMMARY:Last Day of Classes
DESCRIPTION:View the full Academic Calendar 2018-19
URL:https://www.rockford.edu/calendar-item/last-day-of-classes-4/
LOCATION:Rockford University\, 5050 E. State St. \, Rockford\, IL\, 61108\, United States
CATEGORIES:Academic Calendar,Campus Wide Event (Public)
ATTACH;FMTTYPE=image/jpeg:https://www.rockford.edu/wp-content/uploads/2018/04/Academic-Calendar.jpg
GEO:42.2640342;-89.0197305
X-APPLE-STRUCTURED-LOCATION;VALUE=URI;X-ADDRESS=Rockford University 5050 E. State St.  Rockford IL 61108 United States;X-APPLE-RADIUS=500;X-TITLE=5050 E. State St.:geo:-89.0197305,42.2640342
END:VEVENT
BEGIN:VEVENT
DTSTART;TZID=America/Chicago:20190510T193000
DTEND;TZID=America/Chicago:20190510T203000
DTSTAMP:20260422T114815
CREATED:20180828T154916Z
LAST-MODIFIED:20190429T164716Z
UID:10007677-1557516600-1557520200@www.rockford.edu
SUMMARY:Spring Concert- Up Up and Away Songs of Flight
DESCRIPTION:Join the choirs of Rockford University and Rock Valley College at Rockford University in a celebration of birds and dreams and flying machines! \nProfessor Timm Adams\, conductor/director\nno tickets required\, free will donations accepted at the door \nSeasonal music featuring Regent Singers\, Women’s Ensemble\, and the Rockford University Vocal Collective a cappella group. \n\nview all of our Performing Art Shows for this season. (https://www.rockford.edu/artslectures/performingarts/)
URL:https://www.rockford.edu/calendar-item/spring-concert-2/
LOCATION:Maddox Theatre – Clark Arts Center\, 5050 E. State St. \, Rockford\, IL\, 61108\, United States
CATEGORIES:Campus Wide Event (Public),PA Performance
GEO:42.2640342;-89.0197305
X-APPLE-STRUCTURED-LOCATION;VALUE=URI;X-ADDRESS=Maddox Theatre – Clark Arts Center 5050 E. State St.  Rockford IL 61108 United States;X-APPLE-RADIUS=500;X-TITLE=5050 E. State St.:geo:-89.0197305,42.2640342
END:VEVENT
BEGIN:VEVENT
DTSTART;TZID=America/Chicago:20190513T080000
DTEND;TZID=America/Chicago:20190517T170000
DTSTAMP:20260422T114815
CREATED:20180522T211324Z
LAST-MODIFIED:20180809T155222Z
UID:10007605-1557734400-1558112400@www.rockford.edu
SUMMARY:Final Exam period
DESCRIPTION:View the full Academic Calendar 2018-19
URL:https://www.rockford.edu/calendar-item/final-exam-period-3/
LOCATION:Rockford University\, 5050 E. State St. \, Rockford\, IL\, 61108\, United States
CATEGORIES:Academic Calendar,Campus Wide Event (Public)
ATTACH;FMTTYPE=image/jpeg:https://www.rockford.edu/wp-content/uploads/2018/04/Academic-Calendar.jpg
GEO:42.2640342;-89.0197305
X-APPLE-STRUCTURED-LOCATION;VALUE=URI;X-ADDRESS=Rockford University 5050 E. State St.  Rockford IL 61108 United States;X-APPLE-RADIUS=500;X-TITLE=5050 E. State St.:geo:-89.0197305,42.2640342
END:VEVENT
BEGIN:VEVENT
DTSTART;VALUE=DATE:20190519
DTEND;VALUE=DATE:20190520
DTSTAMP:20260422T114815
CREATED:20180522T211518Z
LAST-MODIFIED:20190502T204608Z
UID:10007607-1558224000-1558310399@www.rockford.edu
SUMMARY:Baccalaureate/Commencement/Spring Degree Award Date
DESCRIPTION:Rockford University will hold its 165th commencement ceremony on Sunday\, May 19\, 2 p.m. at the Coronado Performing Arts Center\, 314 N. Main St. in downtown Rockford. The University will award undergraduate and graduate degrees to approximately 350 students from 22 states and 12 countries. \nView the full Academic Calendar 2018-19
URL:https://www.rockford.edu/calendar-item/baccalaureate-commencement-spring-degree-award-date/
LOCATION:Coronado Performing Arts Center\, 314 N. Main Street\, Rockford\, 61101\, United States
CATEGORIES:Academic Calendar,Campus Wide Event (Public)
ATTACH;FMTTYPE=image/jpeg:https://www.rockford.edu/wp-content/uploads/2018/04/Academic-Calendar.jpg
END:VEVENT
BEGIN:VEVENT
DTSTART;TZID=America/Chicago:20190519T080000
DTEND;TZID=America/Chicago:20190519T235900
DTSTAMP:20260422T114815
CREATED:20180522T211416Z
LAST-MODIFIED:20180809T155310Z
UID:10007606-1558252800-1558310340@www.rockford.edu
SUMMARY:All final grades due in Registrar's Office
DESCRIPTION:All final grades due by 11:59 pm \nView the full Academic Calendar 2018-19
URL:https://www.rockford.edu/calendar-item/all-final-grades-due-in-registrars-office-3/
LOCATION:Rockford University\, 5050 E. State St. \, Rockford\, IL\, 61108\, United States
CATEGORIES:Academic Calendar,Campus Wide Event (Public)
ATTACH;FMTTYPE=image/jpeg:https://www.rockford.edu/wp-content/uploads/2018/04/Academic-Calendar.jpg
GEO:42.2640342;-89.0197305
X-APPLE-STRUCTURED-LOCATION;VALUE=URI;X-ADDRESS=Rockford University 5050 E. State St.  Rockford IL 61108 United States;X-APPLE-RADIUS=500;X-TITLE=5050 E. State St.:geo:-89.0197305,42.2640342
END:VEVENT
BEGIN:VEVENT
DTSTART;TZID=America/Chicago:20190520T080000
DTEND;TZID=America/Chicago:20190520T080000
DTSTAMP:20260422T114815
CREATED:20180522T211726Z
LAST-MODIFIED:20180809T155414Z
UID:10007609-1558339200-1558339200@www.rockford.edu
SUMMARY:MBA/Off Campus Sessions begin
DESCRIPTION:View the full Academic Calendar 2018-19
URL:https://www.rockford.edu/calendar-item/mba-off-campus-sessions-begin/
LOCATION:Rockford University\, 5050 E. State St. \, Rockford\, IL\, 61108\, United States
CATEGORIES:Academic Calendar,Campus Wide Event (Public)
ATTACH;FMTTYPE=image/jpeg:https://www.rockford.edu/wp-content/uploads/2018/04/Academic-Calendar.jpg
GEO:42.2640342;-89.0197305
X-APPLE-STRUCTURED-LOCATION;VALUE=URI;X-ADDRESS=Rockford University 5050 E. State St.  Rockford IL 61108 United States;X-APPLE-RADIUS=500;X-TITLE=5050 E. State St.:geo:-89.0197305,42.2640342
END:VEVENT
BEGIN:VEVENT
DTSTART;TZID=America/Chicago:20190520T183000
DTEND;TZID=America/Chicago:20190520T200000
DTSTAMP:20260422T114815
CREATED:20190429T185822Z
LAST-MODIFIED:20190603T165131Z
UID:10007807-1558377000-1558382400@www.rockford.edu
SUMMARY:The Truth about Refugees: I was a Stranger…Now I’m a Neighbor
DESCRIPTION:The Institute of World Affairs and Trade presents “The Truth about Refugees: I was a Stranger…Now I’m a Neighbor” on Monday\, May 20 at 6:30 in Fisher Memorial Chapel.  \nRockford University is pleased to host a panel presentation on the policies\, experiences\, and contributions of refugees coming to the Rockford area. Discussion will include the process by which refugees get to Illinois\, current programs to help them acclimate and settle in the community\, the experience in refugee camps\, and psychological issues faced on the path to resettlement. Rockford is home to refugees from many parts of the world (Europe\, Africa\, the Middle East\, and Asia primarily) who are making great contributions to our community. This panel will explain and highlight their paths to becoming our neighbors.  \nThis program is offered in partnership with The Institute of World Affairs and Trade at Rockford University.  \nAll members of the RU & Rockford community are welcome\, admission is free.
URL:https://www.rockford.edu/calendar-item/the-truth-about-refugees/
LOCATION:Fisher Memorial Chapel – Rockford University\, 5050 E. State St. \, Rockford\, IL\, 61108\, United States
CATEGORIES:Campus Wide Event (Public)
GEO:42.264048;-89.0197327
X-APPLE-STRUCTURED-LOCATION;VALUE=URI;X-ADDRESS=Fisher Memorial Chapel – Rockford University 5050 E. State St.  Rockford IL 61108 United States;X-APPLE-RADIUS=500;X-TITLE=5050 E. State St.:geo:-89.0197327,42.264048
END:VEVENT
BEGIN:VEVENT
DTSTART;TZID=America/Chicago:20190524T080000
DTEND;TZID=America/Chicago:20190524T080000
DTSTAMP:20260422T114815
CREATED:20180522T211756Z
LAST-MODIFIED:20180809T155505Z
UID:10007610-1558684800-1558684800@www.rockford.edu
SUMMARY:Degree Award Date Posting Deadline
DESCRIPTION:View the full Academic Calendar 2018-19
URL:https://www.rockford.edu/calendar-item/degree-award-date-posting-deadline-2/
LOCATION:Rockford University\, 5050 E. State St. \, Rockford\, IL\, 61108\, United States
CATEGORIES:Academic Calendar,Campus Wide Event (Public)
ATTACH;FMTTYPE=image/jpeg:https://www.rockford.edu/wp-content/uploads/2018/04/Academic-Calendar.jpg
GEO:42.2640342;-89.0197305
X-APPLE-STRUCTURED-LOCATION;VALUE=URI;X-ADDRESS=Rockford University 5050 E. State St.  Rockford IL 61108 United States;X-APPLE-RADIUS=500;X-TITLE=5050 E. State St.:geo:-89.0197305,42.2640342
END:VEVENT
BEGIN:VEVENT
DTSTART;TZID=America/Chicago:20190527T080000
DTEND;TZID=America/Chicago:20190527T170000
DTSTAMP:20260422T114815
CREATED:20180522T211857Z
LAST-MODIFIED:20180809T155631Z
UID:10007132-1558944000-1558976400@www.rockford.edu
SUMMARY:Memorial Day Holiday-No classes\, offices closed
DESCRIPTION:View the full Academic Calendar 2018-19
URL:https://www.rockford.edu/calendar-item/memorial-day-holiday-no-classes-offices-closed-3/
LOCATION:Rockford University\, 5050 E. State St. \, Rockford\, IL\, 61108\, United States
CATEGORIES:Academic Calendar,Campus Wide Event (Public)
ATTACH;FMTTYPE=image/jpeg:https://www.rockford.edu/wp-content/uploads/2018/04/Academic-Calendar.jpg
GEO:42.2640342;-89.0197305
X-APPLE-STRUCTURED-LOCATION;VALUE=URI;X-ADDRESS=Rockford University 5050 E. State St.  Rockford IL 61108 United States;X-APPLE-RADIUS=500;X-TITLE=5050 E. State St.:geo:-89.0197305,42.2640342
END:VEVENT
END:VCALENDAR