BEGIN:VCALENDAR
VERSION:2.0
PRODID:-//Rockford University - ECPv6.15.20//NONSGML v1.0//EN
CALSCALE:GREGORIAN
METHOD:PUBLISH
X-WR-CALNAME:Rockford University
X-ORIGINAL-URL:https://www.rockford.edu
X-WR-CALDESC:Events for Rockford University
REFRESH-INTERVAL;VALUE=DURATION:PT1H
X-Robots-Tag:noindex
X-PUBLISHED-TTL:PT1H
BEGIN:VTIMEZONE
TZID:America/Chicago
BEGIN:DAYLIGHT
TZOFFSETFROM:-0600
TZOFFSETTO:-0500
TZNAME:CDT
DTSTART:20170312T080000
END:DAYLIGHT
BEGIN:STANDARD
TZOFFSETFROM:-0500
TZOFFSETTO:-0600
TZNAME:CST
DTSTART:20171105T070000
END:STANDARD
BEGIN:DAYLIGHT
TZOFFSETFROM:-0600
TZOFFSETTO:-0500
TZNAME:CDT
DTSTART:20180311T080000
END:DAYLIGHT
BEGIN:STANDARD
TZOFFSETFROM:-0500
TZOFFSETTO:-0600
TZNAME:CST
DTSTART:20181104T070000
END:STANDARD
BEGIN:DAYLIGHT
TZOFFSETFROM:-0600
TZOFFSETTO:-0500
TZNAME:CDT
DTSTART:20190310T080000
END:DAYLIGHT
BEGIN:STANDARD
TZOFFSETFROM:-0500
TZOFFSETTO:-0600
TZNAME:CST
DTSTART:20191103T070000
END:STANDARD
END:VTIMEZONE
BEGIN:VEVENT
DTSTART;VALUE=DATE:20181202
DTEND;VALUE=DATE:20181203
DTSTAMP:20260423T040048
CREATED:20181018T210928Z
LAST-MODIFIED:20181018T210928Z
UID:10007723-1543708800-1543795199@www.rockford.edu
SUMMARY:Chicago Shopping Bus Trip
DESCRIPTION:The most popular event of the year! The Charter busses are reserved for RU alumni\, parents\, friends\, staff\, faculty\, and families. Join us at Parking lot A on Sunday\, December 2\, 2018 at 9:00 am. We will head downtown (around 11:00 am) at drop off at the corner of Superior and Rush. \nLunch and dinner will be on your own. Pick up will be at the same location at 6:00 pm to head back to Rockford. \nReserve early\, seating is limited. Cost is $33.00 per adult and $23.00 for a child under the age of 12 \nReservations are due by Wednesday\, November 28 \n* Register online here\n* By phone (815)394.5111\n* By mail to Rockford University\, Alumni Office\, 5050 E. State Street\, Rockford\, IL 61108
URL:https://www.rockford.edu/calendar-item/chicago-shopping-bus-trip/
LOCATION:Rockford University\, 5050 E. State St. \, Rockford\, IL\, 61108\, United States
CATEGORIES:Alumni,Campus Wide Event (Public)
GEO:42.2640342;-89.0197305
X-APPLE-STRUCTURED-LOCATION;VALUE=URI;X-ADDRESS=Rockford University 5050 E. State St.  Rockford IL 61108 United States;X-APPLE-RADIUS=500;X-TITLE=5050 E. State St.:geo:-89.0197305,42.2640342
END:VEVENT
BEGIN:VEVENT
DTSTART;TZID=America/Chicago:20181203T080000
DTEND;TZID=America/Chicago:20181203T170000
DTSTAMP:20260423T040048
CREATED:20181203T170439Z
LAST-MODIFIED:20181203T170635Z
UID:10007253-1543824000-1543856400@www.rockford.edu
SUMMARY:Mentoring Youth Program
DESCRIPTION:The Jane Addams Center for Civic Engagement\, Rockford University Police Department and Rockford Police Department will be hosting a table outside the cafeteria today\, December 3 to promote our new youth mentoring program starting Spring 2019. \nSign up here to use your skills and abilities to help youth in Rockford. 
URL:https://www.rockford.edu/calendar-item/mentoring-youth-program/2018-12-03/
LOCATION:Blanche Walker Burpee Student Center\, 5050 East State St.\, Rockford\, IL\, 61108\, United States
CATEGORIES:Campus Wide Event (Public),Jane Adams Center for Civic Engagement (JACCE),Police & Department of Public Safety
ATTACH;FMTTYPE=image/jpeg:https://www.rockford.edu/wp-content/uploads/2018/04/JACCE-1.jpg
ORGANIZER;CN="Jane Addams Center for Civic Engagment":MAILTO:jacce@rockford.edu
GEO:42.2696337;-89.0184645
X-APPLE-STRUCTURED-LOCATION;VALUE=URI;X-ADDRESS=Blanche Walker Burpee Student Center 5050 East State St. Rockford IL 61108 United States;X-APPLE-RADIUS=500;X-TITLE=5050 East State St.:geo:-89.0184645,42.2696337
END:VEVENT
BEGIN:VEVENT
DTSTART;TZID=America/Chicago:20181203T183000
DTEND;TZID=America/Chicago:20181203T193000
DTSTAMP:20260423T040048
CREATED:20181203T164811Z
LAST-MODIFIED:20190201T154025Z
UID:10007252-1543861800-1543865400@www.rockford.edu
SUMMARY:Law Enforcement and Minority Male interactions
DESCRIPTION:The Minority Male Mentoring Program would like to invite you to attend our Chop it Up session with Rockford Police Officer Eric Thurmond as he discusses interactions between law enforcement and minority males. \nEveryone is welcome to attend today\, December 3 starting at 6:30 pm in STARR room 114.
URL:https://www.rockford.edu/calendar-item/law-enforcement-and-minority-male-interactions/
LOCATION:Rockford University\, 5050 E. State St. \, Rockford\, IL\, 61108\, United States
CATEGORIES:Campus Wide Event (Public),Jane Adams Center for Civic Engagement (JACCE)
GEO:42.2640342;-89.0197305
X-APPLE-STRUCTURED-LOCATION;VALUE=URI;X-ADDRESS=Rockford University 5050 E. State St.  Rockford IL 61108 United States;X-APPLE-RADIUS=500;X-TITLE=5050 E. State St.:geo:-89.0197305,42.2640342
END:VEVENT
BEGIN:VEVENT
DTSTART;TZID=America/Chicago:20181204T113000
DTEND;TZID=America/Chicago:20181205T130000
DTSTAMP:20260423T040048
CREATED:20181203T170439Z
LAST-MODIFIED:20181203T170635Z
UID:10007254-1543923000-1544014800@www.rockford.edu
SUMMARY:Mentoring Youth Program
DESCRIPTION:The Jane Addams Center for Civic Engagement\, Rockford University Police Department and Rockford Police Department will be hosting a table outside the cafeteria today\, December 3 to promote our new youth mentoring program starting Spring 2019. \nSign up here to use your skills and abilities to help youth in Rockford. 
URL:https://www.rockford.edu/calendar-item/mentoring-youth-program/2018-12-04/
LOCATION:Blanche Walker Burpee Student Center\, 5050 East State St.\, Rockford\, IL\, 61108\, United States
CATEGORIES:Campus Wide Event (Public),Jane Adams Center for Civic Engagement (JACCE),Police & Department of Public Safety
ATTACH;FMTTYPE=image/jpeg:https://www.rockford.edu/wp-content/uploads/2018/04/JACCE-1.jpg
ORGANIZER;CN="Jane Addams Center for Civic Engagment":MAILTO:jacce@rockford.edu
GEO:42.2696337;-89.0184645
X-APPLE-STRUCTURED-LOCATION;VALUE=URI;X-ADDRESS=Blanche Walker Burpee Student Center 5050 East State St. Rockford IL 61108 United States;X-APPLE-RADIUS=500;X-TITLE=5050 East State St.:geo:-89.0184645,42.2696337
END:VEVENT
BEGIN:VEVENT
DTSTART;TZID=America/Chicago:20181205T120000
DTEND;TZID=America/Chicago:20181205T130000
DTSTAMP:20260423T040048
CREATED:20181203T211842Z
LAST-MODIFIED:20181203T211842Z
UID:10007257-1544011200-1544014800@www.rockford.edu
SUMMARY:Alternative Spring Break Interest Meeting
DESCRIPTION:Are you interested in learning more about 2019 Alternative Spring Break?\nStop by the Faculty Dining room to learn more information.\nTo sign up for updates on next year’s Alternative Spring Break\, please visit here!
URL:https://www.rockford.edu/calendar-item/alternative-spring-break-interest-meeting/
LOCATION:Faculty Dining Room – Burpee Student Center\, 5050 E. State St. \, Rockford\, IL\, 61108\, United States
CATEGORIES:Alternative Spring Break,Campus Wide Event (Public),Jane Adams Center for Civic Engagement (JACCE)
ORGANIZER;CN="Jane Addams Center for Civic Engagment":MAILTO:jacce@rockford.edu
GEO:42.2640342;-89.0197305
X-APPLE-STRUCTURED-LOCATION;VALUE=URI;X-ADDRESS=Faculty Dining Room – Burpee Student Center 5050 E. State St.  Rockford IL 61108 United States;X-APPLE-RADIUS=500;X-TITLE=5050 E. State St.:geo:-89.0197305,42.2640342
END:VEVENT
BEGIN:VEVENT
DTSTART;TZID=America/Chicago:20181206T180000
DTEND;TZID=America/Chicago:20181206T200000
DTSTAMP:20260423T040048
CREATED:20181205T171717Z
LAST-MODIFIED:20181205T171818Z
UID:10007261-1544119200-1544126400@www.rockford.edu
SUMMARY:Master’s in Urban Education Research Symposium
DESCRIPTION:The Rockford Urban Education Research Symposium will highlight the culminating work of the first cohort of teachers who are students in the Master’s in Education\, Urban Education Pathways program at Rockford University\, a partnership with Rockford Public School District 205. The public is welcome to attend the symposium on Thursday\, December 6\, 2018 from 6:00 P.M. – 8:15 P.M. at Rockford University’s Burpee Center in Regents Hall\, 5050 East State Street\, Rockford. \nResearch projects and poster presentations will be on display. RPS 205 Superintendent Ehren Jarrett\, Ed.D.\, will provide a key note address. Dr. Jarrett and Rockford University President Eric Fulcomer will also recognize teacher leaders and special recognition will be awarded for Outstanding Action Research\, Honorable Mention Action Research and People’s Choice Action Research. \nFor more information about the symposium\, contact SWilliams@rockford.edu.
URL:https://www.rockford.edu/calendar-item/masters-research-symposium/
LOCATION:Regents Hall – Burpee Student Center\, 5050 E. State St. \, Rockford\, IL\, 61108\, United States
CATEGORIES:Campus Wide Event (Public)
ATTACH;FMTTYPE=image/png:https://www.rockford.edu/wp-content/uploads/2016/11/logo-1-e1480441988782.png
GEO:42.2640342;-89.0197305
X-APPLE-STRUCTURED-LOCATION;VALUE=URI;X-ADDRESS=Regents Hall – Burpee Student Center 5050 E. State St.  Rockford IL 61108 United States;X-APPLE-RADIUS=500;X-TITLE=5050 E. State St.:geo:-89.0197305,42.2640342
END:VEVENT
BEGIN:VEVENT
DTSTART;TZID=America/Chicago:20181207T100000
DTEND;TZID=America/Chicago:20181207T140000
DTSTAMP:20260423T040048
CREATED:20180726T192317Z
LAST-MODIFIED:20180803T164754Z
UID:10007634-1544176800-1544191200@www.rockford.edu
SUMMARY:Rock Solid Healthy Lifestyle Presents Color Out Fridays!
DESCRIPTION:Color Out Fridays are presented by Rock Solid Healthy Lifestyle and sponsored by Lang Health Center and Student Life. Every Friday the Rock Solid Healthy Lifestyle table will be set up in the Den from 10am-2pm to distribute student-centered health information\, provide fun activities and events\, and raffle off prizes. Each week is centered around a different topic\, such as sexual health\, alcohol awareness\, or campus safety. Every Friday is Color Out Friday. This means that each Friday students who wear the coordinating color of the week can earn punches on their Rock Solid Healthy Lifestyle Card. A minimum of 8 out of 12 punches are needed to enter into the grand prize drawing at the end of the semester. It is a fun and easy way to participate on campus and win great prizes! The dates are below and they are included in the attached pdf. If you have any further questions email Taylor Larson — Graduate Assistant for Lang Health Center — at tlarson@rockford.edu\n__________________________________________________________________________________________\nAugust 31: the semester kickoff of our Color Out Friday program and the color is purple to celebrate getting back on campus! Come to the Den between 10am and 2pm to get your punch card punched! (cards will be available for students who have not received them yet) \nSeptember 7th: this week focuses on suicide prevention and awareness and the color is yellow \nSeptember 14th: this week focuses on promoting sexual health and safety and the color is green \nSeptember 21st: this week focuses on drug and alcohol awareness and safety and the color is red \nSeptember 28th: this week focuses on promoting health and fitness and the color is orange \nOctober 5th: this week focuses on mental health awareness and the color is blue \nOctober 12th: MIDTERM WEEK; NO COLOR OUT FRIDAY \nOctober 19th: FALL BREAK; NO COLOR OUT FRIDAY \nOctober 26th: this week focuses on the prevention and awareness of domestic violence and the color is purple \nNovember 2nd: this week focuses on random acts of kindness and the color is yellow \nNovember 9th: this week focuses on the promotion and increased awareness of the different resources available on and near campus and the color is orange \nNovember 16th: this week focuses on the health risks related to tobacco and the color is white \nNovember 23: BREAK; NO COLOR OUT FRIDAY \nNovember 30th: this week focuses on promoting healthy skin and the color is black \nDecember 7th: this is the week before finals and will focus on promoting stress management and relief tactics and the color is green. It is also the last day of Color Out Friday for the semester!
URL:https://www.rockford.edu/calendar-item/rock-solid-healthy-lifestyle-presents-color-out-fridays/2018-12-07/
LOCATION:The Den – Burpee Student Center\, IL
CATEGORIES:Campus Wide Event (Public),Lang Center for Health & Wellness,Prevention and Education
GEO:40.6331249;-89.3985283
END:VEVENT
BEGIN:VEVENT
DTSTART;TZID=America/Chicago:20181207T170000
DTEND;TZID=America/Chicago:20181207T170000
DTSTAMP:20260423T040048
CREATED:20180522T203831Z
LAST-MODIFIED:20180809T152341Z
UID:10007111-1544202000-1544202000@www.rockford.edu
SUMMARY:Last Day of Classes
DESCRIPTION:View the full Academic Calendar 2018-19
URL:https://www.rockford.edu/calendar-item/last-day-of-classes-3/
LOCATION:Rockford University\, 5050 E. State St. \, Rockford\, IL\, 61108\, United States
CATEGORIES:Academic Calendar,Campus Wide Event (Public)
ATTACH;FMTTYPE=image/jpeg:https://www.rockford.edu/wp-content/uploads/2018/04/Academic-Calendar.jpg
GEO:42.2640342;-89.0197305
X-APPLE-STRUCTURED-LOCATION;VALUE=URI;X-ADDRESS=Rockford University 5050 E. State St.  Rockford IL 61108 United States;X-APPLE-RADIUS=500;X-TITLE=5050 E. State St.:geo:-89.0197305,42.2640342
END:VEVENT
BEGIN:VEVENT
DTSTART;TZID=America/Chicago:20181207T193000
DTEND;TZID=America/Chicago:20181207T203000
DTSTAMP:20260423T040048
CREATED:20180828T154232Z
LAST-MODIFIED:20181127T224921Z
UID:10007170-1544211000-1544214600@www.rockford.edu
SUMMARY:Glad Tidings to All: Christmas Around the World
DESCRIPTION:Professor Timm Adams\, conductor/director\nno tickets required\, free will donations accepted at the door \nLocated in the Maddox Theatre\, Clark Arts Center.  \nOur choral/vocal concerts in December and May each year highlight the impressive work of our choral groups: Regent Singers\, Vocal Collective\, Women’s Ensemble\, and Gospel Choir. These compelling programs feature a broad variety of music from classical choral repertoire and contemporary a cappella to jazz and musical theater works. \nJoin the choirs from Rockford University and Rock Valley College for a holiday journey around the globe— from Spain and Latin America to England\, Germany\, and finally France. Exquisite carols\, both old and new\, will warm your heart and prepare you for the holiday season! Stille Nacht from Germany\, A la nanita nana from Spain\, What Child is This from England\, and Angels We Have Heard on High from France to name a few. \nDon’t miss this festive evening! 
URL:https://www.rockford.edu/calendar-item/winter-concert-2/
LOCATION:Maddox Theatre – Clark Arts Center\, 5050 E. State St. \, Rockford\, IL\, 61108\, United States
CATEGORIES:Campus Wide Event (Public),PA Performance
GEO:42.2640342;-89.0197305
X-APPLE-STRUCTURED-LOCATION;VALUE=URI;X-ADDRESS=Maddox Theatre – Clark Arts Center 5050 E. State St.  Rockford IL 61108 United States;X-APPLE-RADIUS=500;X-TITLE=5050 E. State St.:geo:-89.0197305,42.2640342
END:VEVENT
BEGIN:VEVENT
DTSTART;TZID=America/Chicago:20181208T130000
DTEND;TZID=America/Chicago:20181208T130000
DTSTAMP:20260423T040048
CREATED:20180522T203945Z
LAST-MODIFIED:20190624T145647Z
UID:10007112-1544274000-1544274000@www.rockford.edu
SUMMARY:December Graduate Recognition Ceremony
DESCRIPTION:View the full Academic Calendar 2018-19
URL:https://www.rockford.edu/calendar-item/december-graduate-recognition-ceremony-3/
LOCATION:IL\, United States
CATEGORIES:Academic Calendar,Campus Wide Event (Public)
ATTACH;FMTTYPE=image/jpeg:https://www.rockford.edu/wp-content/uploads/2018/04/Academic-Calendar.jpg
END:VEVENT
BEGIN:VEVENT
DTSTART;VALUE=DATE:20181216
DTEND;VALUE=DATE:20181217
DTSTAMP:20260423T040048
CREATED:20180522T204130Z
LAST-MODIFIED:20180809T152630Z
UID:10007113-1544918400-1545004799@www.rockford.edu
SUMMARY:All final grades due in Registrar's Office
DESCRIPTION:All final grades due by 11:59 pm \nView the full Academic Calendar 2018-19
URL:https://www.rockford.edu/calendar-item/all-final-grades-due-in-registrars-office/
LOCATION:Rockford University\, 5050 E. State St. \, Rockford\, IL\, 61108\, United States
CATEGORIES:Academic Calendar,Campus Wide Event (Public)
ATTACH;FMTTYPE=image/jpeg:https://www.rockford.edu/wp-content/uploads/2018/04/Academic-Calendar.jpg
GEO:42.2640342;-89.0197305
X-APPLE-STRUCTURED-LOCATION;VALUE=URI;X-ADDRESS=Rockford University 5050 E. State St.  Rockford IL 61108 United States;X-APPLE-RADIUS=500;X-TITLE=5050 E. State St.:geo:-89.0197305,42.2640342
END:VEVENT
BEGIN:VEVENT
DTSTART;TZID=America/Chicago:20181221T080000
DTEND;TZID=America/Chicago:20181221T080000
DTSTAMP:20260423T040048
CREATED:20180522T204352Z
LAST-MODIFIED:20180809T152753Z
UID:10007114-1545379200-1545379200@www.rockford.edu
SUMMARY:Fall Degree Award Date
DESCRIPTION:View the full Academic Calendar 2018-19
URL:https://www.rockford.edu/calendar-item/fall-degree-award-date/
LOCATION:Rockford University\, 5050 E. State St. \, Rockford\, IL\, 61108\, United States
CATEGORIES:Academic Calendar,Campus Wide Event (Public)
ATTACH;FMTTYPE=image/jpeg:https://www.rockford.edu/wp-content/uploads/2018/04/Academic-Calendar.jpg
GEO:42.2640342;-89.0197305
X-APPLE-STRUCTURED-LOCATION;VALUE=URI;X-ADDRESS=Rockford University 5050 E. State St.  Rockford IL 61108 United States;X-APPLE-RADIUS=500;X-TITLE=5050 E. State St.:geo:-89.0197305,42.2640342
END:VEVENT
END:VCALENDAR