BEGIN:VCALENDAR
VERSION:2.0
PRODID:-//Rockford University - ECPv6.15.20//NONSGML v1.0//EN
CALSCALE:GREGORIAN
METHOD:PUBLISH
X-WR-CALNAME:Rockford University
X-ORIGINAL-URL:https://www.rockford.edu
X-WR-CALDESC:Events for Rockford University
REFRESH-INTERVAL;VALUE=DURATION:PT1H
X-Robots-Tag:noindex
X-PUBLISHED-TTL:PT1H
BEGIN:VTIMEZONE
TZID:America/Chicago
BEGIN:DAYLIGHT
TZOFFSETFROM:-0600
TZOFFSETTO:-0500
TZNAME:CDT
DTSTART:20170312T080000
END:DAYLIGHT
BEGIN:STANDARD
TZOFFSETFROM:-0500
TZOFFSETTO:-0600
TZNAME:CST
DTSTART:20171105T070000
END:STANDARD
BEGIN:DAYLIGHT
TZOFFSETFROM:-0600
TZOFFSETTO:-0500
TZNAME:CDT
DTSTART:20180311T080000
END:DAYLIGHT
BEGIN:STANDARD
TZOFFSETFROM:-0500
TZOFFSETTO:-0600
TZNAME:CST
DTSTART:20181104T070000
END:STANDARD
BEGIN:DAYLIGHT
TZOFFSETFROM:-0600
TZOFFSETTO:-0500
TZNAME:CDT
DTSTART:20190310T080000
END:DAYLIGHT
BEGIN:STANDARD
TZOFFSETFROM:-0500
TZOFFSETTO:-0600
TZNAME:CST
DTSTART:20191103T070000
END:STANDARD
END:VTIMEZONE
BEGIN:VTIMEZONE
TZID:America/New_York
BEGIN:DAYLIGHT
TZOFFSETFROM:-0500
TZOFFSETTO:-0400
TZNAME:EDT
DTSTART:20170312T070000
END:DAYLIGHT
BEGIN:STANDARD
TZOFFSETFROM:-0400
TZOFFSETTO:-0500
TZNAME:EST
DTSTART:20171105T060000
END:STANDARD
BEGIN:DAYLIGHT
TZOFFSETFROM:-0500
TZOFFSETTO:-0400
TZNAME:EDT
DTSTART:20180311T070000
END:DAYLIGHT
BEGIN:STANDARD
TZOFFSETFROM:-0400
TZOFFSETTO:-0500
TZNAME:EST
DTSTART:20181104T060000
END:STANDARD
BEGIN:DAYLIGHT
TZOFFSETFROM:-0500
TZOFFSETTO:-0400
TZNAME:EDT
DTSTART:20190310T070000
END:DAYLIGHT
BEGIN:STANDARD
TZOFFSETFROM:-0400
TZOFFSETTO:-0500
TZNAME:EST
DTSTART:20191103T060000
END:STANDARD
END:VTIMEZONE
BEGIN:VEVENT
DTSTART;TZID=America/Chicago:20180501T190000
DTEND;TZID=America/Chicago:20180501T203000
DTSTAMP:20260423T165738
CREATED:20170519T135342Z
LAST-MODIFIED:20180430T180149Z
UID:10007067-1525201200-1525206600@www.rockford.edu
SUMMARY:Dance Workshop
DESCRIPTION:Rockford University’s Performing Arts Department presents a dance workshop on Tuesday\, May 1\, at 7 p.m.
URL:https://www.rockford.edu/calendar-item/dance-workshop/
LOCATION:Clark Arts Center\, 5050 E. State St. \, Rockford\, IL\, 61108\, United States
CATEGORIES:Campus Wide Event (Public),PA Performance
GEO:42.2640342;-89.0197305
X-APPLE-STRUCTURED-LOCATION;VALUE=URI;X-ADDRESS=Clark Arts Center 5050 E. State St.  Rockford IL 61108 United States;X-APPLE-RADIUS=500;X-TITLE=5050 E. State St.:geo:-89.0197305,42.2640342
END:VEVENT
BEGIN:VEVENT
DTSTART;VALUE=DATE:20180504
DTEND;VALUE=DATE:20180505
DTSTAMP:20260423T165738
CREATED:20170629T164801Z
LAST-MODIFIED:20170629T164801Z
UID:10007133-1525392000-1525478399@www.rockford.edu
SUMMARY:Last Day of Classes
DESCRIPTION:View the full Academic Calendar 2017-18
URL:https://www.rockford.edu/calendar-item/last-day-classes-2/
LOCATION:Rockford University\, 5050 E. State St. \, Rockford\, IL\, 61108\, United States
CATEGORIES:Academic Calendar,Campus Wide Event (Public)
GEO:42.2640342;-89.0197305
X-APPLE-STRUCTURED-LOCATION;VALUE=URI;X-ADDRESS=Rockford University 5050 E. State St.  Rockford IL 61108 United States;X-APPLE-RADIUS=500;X-TITLE=5050 E. State St.:geo:-89.0197305,42.2640342
END:VEVENT
BEGIN:VEVENT
DTSTART;TZID=America/Chicago:20180504T193000
DTEND;TZID=America/Chicago:20180504T210000
DTSTAMP:20260423T165738
CREATED:20170519T135506Z
LAST-MODIFIED:20180417T184448Z
UID:10007068-1525462200-1525467600@www.rockford.edu
SUMMARY:Spring Concert
DESCRIPTION:Rockford University’s Performing Arts Department presents its annual Spring Concert on Friday\, May 4.
URL:https://www.rockford.edu/calendar-item/spring-concert/
LOCATION:Clark Arts Center\, 5050 E. State St. \, Rockford\, IL\, 61108\, United States
CATEGORIES:Campus Wide Event (Public),PA Performance
GEO:42.2640342;-89.0197305
X-APPLE-STRUCTURED-LOCATION;VALUE=URI;X-ADDRESS=Clark Arts Center 5050 E. State St.  Rockford IL 61108 United States;X-APPLE-RADIUS=500;X-TITLE=5050 E. State St.:geo:-89.0197305,42.2640342
END:VEVENT
BEGIN:VEVENT
DTSTART;TZID=America/New_York:20180507T080000
DTEND;TZID=America/New_York:20180511T170000
DTSTAMP:20260423T165738
CREATED:20170629T164914Z
LAST-MODIFIED:20180417T175755Z
UID:10007135-1525680000-1526058000@www.rockford.edu
SUMMARY:Final Exam Period
DESCRIPTION:More information to come.\n View the full Academic Calendar 2017-18
URL:https://www.rockford.edu/calendar-item/final-exam-period-2/
LOCATION:Rockford University\, 5050 E. State St. \, Rockford\, IL\, 61108\, United States
CATEGORIES:Academic Calendar,Campus Wide Event (Public)
GEO:42.2640342;-89.0197305
X-APPLE-STRUCTURED-LOCATION;VALUE=URI;X-ADDRESS=Rockford University 5050 E. State St.  Rockford IL 61108 United States;X-APPLE-RADIUS=500;X-TITLE=5050 E. State St.:geo:-89.0197305,42.2640342
END:VEVENT
BEGIN:VEVENT
DTSTART;TZID=America/Chicago:20180507T120000
DTEND;TZID=America/Chicago:20180507T130000
DTSTAMP:20260423T165738
CREATED:20180418T150412Z
LAST-MODIFIED:20180418T150412Z
UID:10007526-1525694400-1525698000@www.rockford.edu
SUMMARY:Faculty Brown Bag - Joanna Bares\, MLIS ~ Assistant Professor\, Librarian and Archivist
DESCRIPTION:Please bring your lunch and join us for this year’s last Faculty Brown Bag presentation! Professor Joanna Bares will speak on “San Gemini\, Italy: Paper Restoration & Archives.” All are welcome. \nMonday\, May 7\, 2018\n 12 p.m. Rare Book Room\, Colman Library
URL:https://www.rockford.edu/calendar-item/faculty-brown-bag-joanna-bares-mlis-assistant-professor-librarian-and-archivist/
LOCATION:Rockford University\, 5050 E. State St. \, Rockford\, IL\, 61108\, United States
CATEGORIES:Campus Wide Event (Public)
ORGANIZER;CN="Faculty Development":MAILTO:mloyola@rockford.edu
GEO:42.2640342;-89.0197305
X-APPLE-STRUCTURED-LOCATION;VALUE=URI;X-ADDRESS=Rockford University 5050 E. State St.  Rockford IL 61108 United States;X-APPLE-RADIUS=500;X-TITLE=5050 E. State St.:geo:-89.0197305,42.2640342
END:VEVENT
BEGIN:VEVENT
DTSTART;TZID=America/Chicago:20180511T173000
DTEND;TZID=America/Chicago:20180511T200000
DTSTAMP:20260423T165738
CREATED:20180424T205240Z
LAST-MODIFIED:20180815T162947Z
UID:10007535-1526059800-1526068800@www.rockford.edu
SUMMARY:Employee Recognition Dinner
DESCRIPTION:In recognition of our employees’ exceptional service to Rockford University\, President Eric W. Fulcomer and his wife\, Andrea\, along with the Board of Trustees\, invite our employees and their guest to attend the Employee Recognition Dinner. \n 
URL:https://www.rockford.edu/calendar-item/employee-recognition-dinner-5-11-18/
LOCATION:Regents Hall – Burpee Student Center\, 5050 E. State St. \, Rockford\, IL\, 61108\, United States
CATEGORIES:Campus Wide Event (Public),Human Resources
ATTACH;FMTTYPE=image/jpeg:https://www.rockford.edu/wp-content/uploads/2018/04/18-0171-empl-recogn-dinner-WP-calendar-featured-image.jpg
GEO:42.2640342;-89.0197305
X-APPLE-STRUCTURED-LOCATION;VALUE=URI;X-ADDRESS=Regents Hall – Burpee Student Center 5050 E. State St.  Rockford IL 61108 United States;X-APPLE-RADIUS=500;X-TITLE=5050 E. State St.:geo:-89.0197305,42.2640342
END:VEVENT
BEGIN:VEVENT
DTSTART;VALUE=DATE:20180512
DTEND;VALUE=DATE:20180513
DTSTAMP:20260423T165738
CREATED:20170629T165255Z
LAST-MODIFIED:20180417T180106Z
UID:10007139-1526083200-1526169599@www.rockford.edu
SUMMARY:Commencement/Degree Award Date
DESCRIPTION:More information to come.\n View the full Academic Calendar 2017-18
URL:https://www.rockford.edu/calendar-item/baccalaureatecommencementdegree-award-date-2/
LOCATION:Rockford University\, 5050 E. State St. \, Rockford\, IL\, 61108\, United States
CATEGORIES:Academic Calendar,Campus Wide Event (Public)
GEO:42.2640342;-89.0197305
X-APPLE-STRUCTURED-LOCATION;VALUE=URI;X-ADDRESS=Rockford University 5050 E. State St.  Rockford IL 61108 United States;X-APPLE-RADIUS=500;X-TITLE=5050 E. State St.:geo:-89.0197305,42.2640342
END:VEVENT
BEGIN:VEVENT
DTSTART;TZID=America/Chicago:20180512T140000
DTEND;TZID=America/Chicago:20180512T163000
DTSTAMP:20260423T165738
CREATED:20180507T162049Z
LAST-MODIFIED:20180507T162335Z
UID:10007537-1526133600-1526142600@www.rockford.edu
SUMMARY:Commencement Ceremony
DESCRIPTION:Join us for the 164th Commencement Ceremony. Learn more >>
URL:https://www.rockford.edu/calendar-item/commencement-ceremony/
LOCATION:Coronado Performing Arts Center\, 314 N. Main Street\, Rockford\, 61101\, United States
CATEGORIES:Academic Calendar,Campus Wide Event (Public)
ATTACH;FMTTYPE=image/jpeg:https://www.rockford.edu/wp-content/uploads/2018/04/Generic-1.jpg
END:VEVENT
BEGIN:VEVENT
DTSTART;TZID=America/New_York:20180513T000000
DTEND;TZID=America/New_York:20180513T235900
DTSTAMP:20260423T165738
CREATED:20170629T165108Z
LAST-MODIFIED:20180417T180154Z
UID:10007137-1526169600-1526255940@www.rockford.edu
SUMMARY:All final grades due in Registrar's Office
DESCRIPTION:All final grades due by 11:59pm\n View the full Academic Calendar 2017-18
URL:https://www.rockford.edu/calendar-item/final-grades-due-registrars-office-2/
LOCATION:Rockford University\, 5050 E. State St. \, Rockford\, IL\, 61108\, United States
CATEGORIES:Academic Calendar,Campus Wide Event (Public)
GEO:42.2640342;-89.0197305
X-APPLE-STRUCTURED-LOCATION;VALUE=URI;X-ADDRESS=Rockford University 5050 E. State St.  Rockford IL 61108 United States;X-APPLE-RADIUS=500;X-TITLE=5050 E. State St.:geo:-89.0197305,42.2640342
END:VEVENT
BEGIN:VEVENT
DTSTART;VALUE=DATE:20180514
DTEND;VALUE=DATE:20180515
DTSTAMP:20260423T165738
CREATED:20170629T165631Z
LAST-MODIFIED:20180417T180312Z
UID:10007145-1526256000-1526342399@www.rockford.edu
SUMMARY:MBA/Off Campus Session begins
DESCRIPTION:View the full Academic Calendar 2017-18
URL:https://www.rockford.edu/calendar-item/mbaoff-campus-session-begins/
LOCATION:Rockford University\, 5050 E. State St. \, Rockford\, IL\, 61108\, United States
CATEGORIES:Academic Calendar,Campus Wide Event (Public)
GEO:42.2640342;-89.0197305
X-APPLE-STRUCTURED-LOCATION;VALUE=URI;X-ADDRESS=Rockford University 5050 E. State St.  Rockford IL 61108 United States;X-APPLE-RADIUS=500;X-TITLE=5050 E. State St.:geo:-89.0197305,42.2640342
END:VEVENT
BEGIN:VEVENT
DTSTART;VALUE=DATE:20180518
DTEND;VALUE=DATE:20180519
DTSTAMP:20260423T165738
CREATED:20170629T165402Z
LAST-MODIFIED:20180522T171047Z
UID:10007141-1526601600-1526687999@www.rockford.edu
SUMMARY:Degree Award Date Posting Deadline
DESCRIPTION:View the full Academic Calendar 2017-18
URL:https://www.rockford.edu/calendar-item/degree-award-date-posting-deadline/
LOCATION:Rockford University\, 5050 E. State St. \, Rockford\, IL\, 61108\, United States
CATEGORIES:Academic Calendar,Campus Wide Event (Public)
ATTACH;FMTTYPE=image/jpeg:https://www.rockford.edu/wp-content/uploads/2018/04/Academic-Calendar.jpg
GEO:42.2640342;-89.0197305
X-APPLE-STRUCTURED-LOCATION;VALUE=URI;X-ADDRESS=Rockford University 5050 E. State St.  Rockford IL 61108 United States;X-APPLE-RADIUS=500;X-TITLE=5050 E. State St.:geo:-89.0197305,42.2640342
END:VEVENT
BEGIN:VEVENT
DTSTART;VALUE=DATE:20180521
DTEND;VALUE=DATE:20180522
DTSTAMP:20260423T165739
CREATED:20170720T161521Z
LAST-MODIFIED:20180522T170951Z
UID:10007187-1526860800-1526947199@www.rockford.edu
SUMMARY:BSMS Spring Session 3 Grades Due
DESCRIPTION:View the full Academic Calendar 2017-18
URL:https://www.rockford.edu/calendar-item/bsms-spring-session-3-grades-due-2/
LOCATION:Rockford University\, 5050 E. State St. \, Rockford\, IL\, 61108\, United States
CATEGORIES:Academic Calendar,Campus Wide Event (Public)
ATTACH;FMTTYPE=image/jpeg:https://www.rockford.edu/wp-content/uploads/2018/04/Academic-Calendar.jpg
GEO:42.2640342;-89.0197305
X-APPLE-STRUCTURED-LOCATION;VALUE=URI;X-ADDRESS=Rockford University 5050 E. State St.  Rockford IL 61108 United States;X-APPLE-RADIUS=500;X-TITLE=5050 E. State St.:geo:-89.0197305,42.2640342
END:VEVENT
BEGIN:VEVENT
DTSTART;TZID=America/Chicago:20180522T080000
DTEND;TZID=America/Chicago:20180522T170000
DTSTAMP:20260423T165739
CREATED:20180522T202419Z
LAST-MODIFIED:20200228T221947Z
UID:10007562-1526976000-1527008400@www.rockford.edu
SUMMARY:Mid-term grades available on Self Service
DESCRIPTION:
URL:https://www.rockford.edu/calendar-item/mid-term-grades-available-on-self-service-2/
LOCATION:Rockford University\, 5050 E. State St. \, Rockford\, IL\, 61108\, United States
CATEGORIES:Academic Calendar,Campus Wide Event (Public)
ATTACH;FMTTYPE=image/jpeg:https://www.rockford.edu/wp-content/uploads/2018/04/Academic-Calendar.jpg
GEO:42.2640342;-89.0197305
X-APPLE-STRUCTURED-LOCATION;VALUE=URI;X-ADDRESS=Rockford University 5050 E. State St.  Rockford IL 61108 United States;X-APPLE-RADIUS=500;X-TITLE=5050 E. State St.:geo:-89.0197305,42.2640342
END:VEVENT
BEGIN:VEVENT
DTSTART;VALUE=DATE:20180526
DTEND;VALUE=DATE:20180527
DTSTAMP:20260423T165739
CREATED:20170720T161614Z
LAST-MODIFIED:20180522T170930Z
UID:10007188-1527292800-1527379199@www.rockford.edu
SUMMARY:BSMS Spring Session 4 Ends
DESCRIPTION:View the full Academic Calendar 2017-18
URL:https://www.rockford.edu/calendar-item/bsms-spring-session-4-ends-2/
LOCATION:Rockford University\, 5050 E. State St. \, Rockford\, IL\, 61108\, United States
CATEGORIES:Academic Calendar,Campus Wide Event (Public)
ATTACH;FMTTYPE=image/jpeg:https://www.rockford.edu/wp-content/uploads/2018/04/Academic-Calendar.jpg
GEO:42.2640342;-89.0197305
X-APPLE-STRUCTURED-LOCATION;VALUE=URI;X-ADDRESS=Rockford University 5050 E. State St.  Rockford IL 61108 United States;X-APPLE-RADIUS=500;X-TITLE=5050 E. State St.:geo:-89.0197305,42.2640342
END:VEVENT
BEGIN:VEVENT
DTSTART;VALUE=DATE:20180528
DTEND;VALUE=DATE:20180529
DTSTAMP:20260423T165739
CREATED:20170629T165725Z
LAST-MODIFIED:20180522T214325Z
UID:10007147-1527465600-1527551999@www.rockford.edu
SUMMARY:Memorial Day Holiday-no classes\, offices closed
DESCRIPTION:View the full Academic Calendar 2017-18
URL:https://www.rockford.edu/calendar-item/memorial-day-holiday-no-classes-offices-closed-2/
LOCATION:Rockford University\, 5050 E. State St. \, Rockford\, IL\, 61108\, United States
CATEGORIES:Academic Calendar,Campus Wide Event (Public)
ATTACH;FMTTYPE=image/jpeg:https://www.rockford.edu/wp-content/uploads/2018/04/Academic-Calendar.jpg
GEO:42.2640342;-89.0197305
X-APPLE-STRUCTURED-LOCATION;VALUE=URI;X-ADDRESS=Rockford University 5050 E. State St.  Rockford IL 61108 United States;X-APPLE-RADIUS=500;X-TITLE=5050 E. State St.:geo:-89.0197305,42.2640342
END:VEVENT
BEGIN:VEVENT
DTSTART;VALUE=DATE:20180528
DTEND;VALUE=DATE:20180529
DTSTAMP:20260423T165739
CREATED:20170720T161716Z
LAST-MODIFIED:20180522T170855Z
UID:10007189-1527465600-1527551999@www.rockford.edu
SUMMARY:BSMS Summer Session 1 Begins
DESCRIPTION:View the full Academic Calendar 2017-18
URL:https://www.rockford.edu/calendar-item/bsms-summer-session-1-begins-2/
LOCATION:Rockford University\, 5050 E. State St. \, Rockford\, IL\, 61108\, United States
CATEGORIES:Academic Calendar,Campus Wide Event (Public)
ATTACH;FMTTYPE=image/jpeg:https://www.rockford.edu/wp-content/uploads/2018/04/Academic-Calendar.jpg
GEO:42.2640342;-89.0197305
X-APPLE-STRUCTURED-LOCATION;VALUE=URI;X-ADDRESS=Rockford University 5050 E. State St.  Rockford IL 61108 United States;X-APPLE-RADIUS=500;X-TITLE=5050 E. State St.:geo:-89.0197305,42.2640342
END:VEVENT
BEGIN:VEVENT
DTSTART;TZID=America/New_York:20180529T080000
DTEND;TZID=America/New_York:20180529T170000
DTSTAMP:20260423T165739
CREATED:20170629T165840Z
LAST-MODIFIED:20180522T170820Z
UID:10007149-1527580800-1527613200@www.rockford.edu
SUMMARY:Regular Summer Session begins
DESCRIPTION:View the full Academic Calendar 2017-18
URL:https://www.rockford.edu/calendar-item/regular-summer-session-begins-2/
LOCATION:Rockford University\, 5050 E. State St. \, Rockford\, IL\, 61108\, United States
CATEGORIES:Academic Calendar,Campus Wide Event (Public)
ATTACH;FMTTYPE=image/jpeg:https://www.rockford.edu/wp-content/uploads/2018/04/Academic-Calendar.jpg
GEO:42.2640342;-89.0197305
X-APPLE-STRUCTURED-LOCATION;VALUE=URI;X-ADDRESS=Rockford University 5050 E. State St.  Rockford IL 61108 United States;X-APPLE-RADIUS=500;X-TITLE=5050 E. State St.:geo:-89.0197305,42.2640342
END:VEVENT
END:VCALENDAR