BEGIN:VCALENDAR
VERSION:2.0
PRODID:-//Rockford University - ECPv6.15.20//NONSGML v1.0//EN
CALSCALE:GREGORIAN
METHOD:PUBLISH
X-WR-CALNAME:Rockford University
X-ORIGINAL-URL:https://www.rockford.edu
X-WR-CALDESC:Events for Rockford University
REFRESH-INTERVAL;VALUE=DURATION:PT1H
X-Robots-Tag:noindex
X-PUBLISHED-TTL:PT1H
BEGIN:VTIMEZONE
TZID:America/New_York
BEGIN:DAYLIGHT
TZOFFSETFROM:-0500
TZOFFSETTO:-0400
TZNAME:EDT
DTSTART:20170312T070000
END:DAYLIGHT
BEGIN:STANDARD
TZOFFSETFROM:-0400
TZOFFSETTO:-0500
TZNAME:EST
DTSTART:20171105T060000
END:STANDARD
BEGIN:DAYLIGHT
TZOFFSETFROM:-0500
TZOFFSETTO:-0400
TZNAME:EDT
DTSTART:20180311T070000
END:DAYLIGHT
BEGIN:STANDARD
TZOFFSETFROM:-0400
TZOFFSETTO:-0500
TZNAME:EST
DTSTART:20181104T060000
END:STANDARD
BEGIN:DAYLIGHT
TZOFFSETFROM:-0500
TZOFFSETTO:-0400
TZNAME:EDT
DTSTART:20190310T070000
END:DAYLIGHT
BEGIN:STANDARD
TZOFFSETFROM:-0400
TZOFFSETTO:-0500
TZNAME:EST
DTSTART:20191103T060000
END:STANDARD
END:VTIMEZONE
BEGIN:VEVENT
DTSTART;TZID=America/New_York:20180226T080000
DTEND;TZID=America/New_York:20180302T170000
DTSTAMP:20260423T202035
CREATED:20170629T163531Z
LAST-MODIFIED:20170629T163752Z
UID:10007124-1519632000-1520010000@www.rockford.edu
SUMMARY:Mid-term Exams
DESCRIPTION:View the full Academic Calendar 2017-18
URL:https://www.rockford.edu/calendar-item/midterm-exams-2/
LOCATION:Rockford University\, 5050 E. State St. \, Rockford\, IL\, 61108\, United States
CATEGORIES:Academic Calendar,Campus Wide Event (Public)
GEO:42.2640342;-89.0197305
X-APPLE-STRUCTURED-LOCATION;VALUE=URI;X-ADDRESS=Rockford University 5050 E. State St.  Rockford IL 61108 United States;X-APPLE-RADIUS=500;X-TITLE=5050 E. State St.:geo:-89.0197305,42.2640342
END:VEVENT
BEGIN:VEVENT
DTSTART;TZID=America/New_York:20180305T000000
DTEND;TZID=America/New_York:20180305T235900
DTSTAMP:20260423T202035
CREATED:20170629T163917Z
LAST-MODIFIED:20170629T163917Z
UID:10007126-1520208000-1520294340@www.rockford.edu
SUMMARY:Mid-term grades due in Registrar's Office
DESCRIPTION:Mid-term grades are due by 11:59pm\nView the full Academic Calendar 2017-18
URL:https://www.rockford.edu/calendar-item/mid-term-grades-due-registrars-office/
LOCATION:Rockford University\, 5050 E. State St. \, Rockford\, IL\, 61108\, United States
CATEGORIES:Academic Calendar,Campus Wide Event (Public)
GEO:42.2640342;-89.0197305
X-APPLE-STRUCTURED-LOCATION;VALUE=URI;X-ADDRESS=Rockford University 5050 E. State St.  Rockford IL 61108 United States;X-APPLE-RADIUS=500;X-TITLE=5050 E. State St.:geo:-89.0197305,42.2640342
END:VEVENT
BEGIN:VEVENT
DTSTART;VALUE=DATE:20180305
DTEND;VALUE=DATE:20180309
DTSTAMP:20260423T202035
CREATED:20170629T164159Z
LAST-MODIFIED:20180213T185740Z
UID:10007128-1520208000-1520553599@www.rockford.edu
SUMMARY:Spring Break-no classes\, offices open
DESCRIPTION:View the full Academic Calendar 2017-18
URL:https://www.rockford.edu/calendar-item/spring-break-no-classes-offices-open/
LOCATION:Rockford University\, 5050 E. State St. \, Rockford\, IL\, 61108\, United States
CATEGORIES:Academic Calendar,Campus Wide Event (Public)
GEO:42.2640342;-89.0197305
X-APPLE-STRUCTURED-LOCATION;VALUE=URI;X-ADDRESS=Rockford University 5050 E. State St.  Rockford IL 61108 United States;X-APPLE-RADIUS=500;X-TITLE=5050 E. State St.:geo:-89.0197305,42.2640342
END:VEVENT
BEGIN:VEVENT
DTSTART;VALUE=DATE:20180306
DTEND;VALUE=DATE:20180307
DTSTAMP:20260423T202035
CREATED:20170629T164039Z
LAST-MODIFIED:20170629T164039Z
UID:10007127-1520294400-1520380799@www.rockford.edu
SUMMARY:Mid-term grades available on Self Service
DESCRIPTION:View the full Academic Calendar 2017-18
URL:https://www.rockford.edu/calendar-item/mid-term-grades-available-self-service/
LOCATION:Rockford University\, 5050 E. State St. \, Rockford\, IL\, 61108\, United States
CATEGORIES:Academic Calendar,Campus Wide Event (Public)
GEO:42.2640342;-89.0197305
X-APPLE-STRUCTURED-LOCATION;VALUE=URI;X-ADDRESS=Rockford University 5050 E. State St.  Rockford IL 61108 United States;X-APPLE-RADIUS=500;X-TITLE=5050 E. State St.:geo:-89.0197305,42.2640342
END:VEVENT
BEGIN:VEVENT
DTSTART;TZID=America/New_York:20180307T150000
DTEND;TZID=America/New_York:20180307T180000
DTSTAMP:20260423T202035
CREATED:20180116T174940Z
LAST-MODIFIED:20180220T205329Z
UID:10007054-1520434800-1520445600@www.rockford.edu
SUMMARY:Gallery Hours
DESCRIPTION:Man in a Tree – David Driesbach\n Exhibition Dates: February 9 – March 16\, 2018*\n *exhibition will be closed March 5-9 during Spring Break\n Friday\, February 23 – 6:00 – 8:00 p.m. Public reception\, artist will be present \nDavid Driesbach\, a highly respected artist and educator\, is known internationally as an expert in the printmaking field\, has been exhibiting since 1949 in hundreds of solo and group exhibitions\, and is included in over 500 museum and public collections. A Man in a Tree is a survey of his work from the collections of the NIU Art Museum and a private collector. \nDriesbach’s attention to minute detail draws from artists such as Albrecht Dürer and Hieronymus Bosch as well as illuminated manuscripts and iconography of Medieval Art. He uses innovative printmaking techniques to layer pattern\, color\, and meaning\, and crowds each piece with whimsical characters\, meaningful motifs\, and political imagery. The exhibition includes early figure drawings\, self-portraits\, copper printing plates\, and prints depicting humorous scenes of human figures\, animals\, and architectural landmarks including Rockford’s own Coronado Theater.
URL:https://www.rockford.edu/calendar-item/gallery-hours-15/2018-03-07/
LOCATION:Rockford University\, 5050 E. State St. \, Rockford\, IL\, 61108\, United States
CATEGORIES:Art Gallery Event,Campus Wide Event (Public)
ORGANIZER;CN="Art Gallery":MAILTO:cwarzecha@rockford.edu
GEO:42.2640342;-89.0197305
X-APPLE-STRUCTURED-LOCATION;VALUE=URI;X-ADDRESS=Rockford University 5050 E. State St.  Rockford IL 61108 United States;X-APPLE-RADIUS=500;X-TITLE=5050 E. State St.:geo:-89.0197305,42.2640342
END:VEVENT
BEGIN:VEVENT
DTSTART;VALUE=DATE:20180309
DTEND;VALUE=DATE:20180310
DTSTAMP:20260423T202036
CREATED:20180213T190013Z
LAST-MODIFIED:20180213T190013Z
UID:10007503-1520553600-1520639999@www.rockford.edu
SUMMARY:Spring Break-no classes\, offices closed
DESCRIPTION:View the full Academic Calendar 2017-18
URL:https://www.rockford.edu/calendar-item/spring-break-no-classes-offices-closed/
LOCATION:Rockford University\, 5050 E. State St. \, Rockford\, IL\, 61108\, United States
CATEGORIES:Campus Closed,Campus Wide Event (Public)
GEO:42.2640342;-89.0197305
X-APPLE-STRUCTURED-LOCATION;VALUE=URI;X-ADDRESS=Rockford University 5050 E. State St.  Rockford IL 61108 United States;X-APPLE-RADIUS=500;X-TITLE=5050 E. State St.:geo:-89.0197305,42.2640342
END:VEVENT
BEGIN:VEVENT
DTSTART;VALUE=DATE:20180312
DTEND;VALUE=DATE:20180313
DTSTAMP:20260423T202036
CREATED:20170720T160756Z
LAST-MODIFIED:20170720T160756Z
UID:10007176-1520812800-1520899199@www.rockford.edu
SUMMARY:BSMS Spring Session 1 Grades Due
DESCRIPTION:View the full Academic Calendar 2017-18
URL:https://www.rockford.edu/calendar-item/bsms-spring-session-1-grades-due-2/
LOCATION:Rockford University\, 5050 E. State St. \, Rockford\, IL\, 61108\, United States
CATEGORIES:Academic Calendar,Campus Wide Event (Public)
GEO:42.2640342;-89.0197305
X-APPLE-STRUCTURED-LOCATION;VALUE=URI;X-ADDRESS=Rockford University 5050 E. State St.  Rockford IL 61108 United States;X-APPLE-RADIUS=500;X-TITLE=5050 E. State St.:geo:-89.0197305,42.2640342
END:VEVENT
BEGIN:VEVENT
DTSTART;TZID=America/New_York:20180314T150000
DTEND;TZID=America/New_York:20180314T180000
DTSTAMP:20260423T202036
CREATED:20180116T174940Z
LAST-MODIFIED:20180220T205329Z
UID:10007055-1521039600-1521050400@www.rockford.edu
SUMMARY:Gallery Hours
DESCRIPTION:Man in a Tree – David Driesbach\n Exhibition Dates: February 9 – March 16\, 2018*\n *exhibition will be closed March 5-9 during Spring Break\n Friday\, February 23 – 6:00 – 8:00 p.m. Public reception\, artist will be present \nDavid Driesbach\, a highly respected artist and educator\, is known internationally as an expert in the printmaking field\, has been exhibiting since 1949 in hundreds of solo and group exhibitions\, and is included in over 500 museum and public collections. A Man in a Tree is a survey of his work from the collections of the NIU Art Museum and a private collector. \nDriesbach’s attention to minute detail draws from artists such as Albrecht Dürer and Hieronymus Bosch as well as illuminated manuscripts and iconography of Medieval Art. He uses innovative printmaking techniques to layer pattern\, color\, and meaning\, and crowds each piece with whimsical characters\, meaningful motifs\, and political imagery. The exhibition includes early figure drawings\, self-portraits\, copper printing plates\, and prints depicting humorous scenes of human figures\, animals\, and architectural landmarks including Rockford’s own Coronado Theater.
URL:https://www.rockford.edu/calendar-item/gallery-hours-15/2018-03-14/
LOCATION:Rockford University\, 5050 E. State St. \, Rockford\, IL\, 61108\, United States
CATEGORIES:Art Gallery Event,Campus Wide Event (Public)
ORGANIZER;CN="Art Gallery":MAILTO:cwarzecha@rockford.edu
GEO:42.2640342;-89.0197305
X-APPLE-STRUCTURED-LOCATION;VALUE=URI;X-ADDRESS=Rockford University 5050 E. State St.  Rockford IL 61108 United States;X-APPLE-RADIUS=500;X-TITLE=5050 E. State St.:geo:-89.0197305,42.2640342
END:VEVENT
BEGIN:VEVENT
DTSTART;TZID=America/New_York:20180316T190000
DTEND;TZID=America/New_York:20180316T220000
DTSTAMP:20260423T202036
CREATED:20171213T175922Z
LAST-MODIFIED:20180830T142831Z
UID:10007415-1521226800-1521237600@www.rockford.edu
SUMMARY:Casino Night
DESCRIPTION:It’s official. You’re formally invited to attend Rockford University’s sensational night of 1920’s-esque glamour and games—otherwise known as Casino Night! Dress up in your fanciest attire and spend the evening listening to a live band\, drinking craft mocktails\, tasting delicious food\, and of course\, winning a variety of awesome prizes with your casino cash (we will be providing the casino “currency”\, no need to bring actual money)! There will be blackjack\, poker\, slot machines\, and more. If you don’t know how to play\, don’t worry—the dealers will teach you. See you from 7:00-10:00 PM in Regents Hall! \n*This is a Student Activities sponsored event and is only open to the Rockford University campus community.​​
URL:https://www.rockford.edu/calendar-item/casino-night-2/
LOCATION:Regents Hall – Burpee Student Center\, 5050 E. State St. \, Rockford\, IL\, 61108\, United States
CATEGORIES:Campus Wide Event (Public),Student Activities
ORGANIZER;CN="Student Activities":MAILTO:APJohnson@rockford.edu
GEO:42.2640342;-89.0197305
X-APPLE-STRUCTURED-LOCATION;VALUE=URI;X-ADDRESS=Regents Hall – Burpee Student Center 5050 E. State St.  Rockford IL 61108 United States;X-APPLE-RADIUS=500;X-TITLE=5050 E. State St.:geo:-89.0197305,42.2640342
END:VEVENT
BEGIN:VEVENT
DTSTART;VALUE=DATE:20180317
DTEND;VALUE=DATE:20180318
DTSTAMP:20260423T202036
CREATED:20170720T160908Z
LAST-MODIFIED:20170720T160908Z
UID:10007181-1521244800-1521331199@www.rockford.edu
SUMMARY:BSMS Spring Session 2 Ends
DESCRIPTION:View the full Academic Calendar 2017-18
URL:https://www.rockford.edu/calendar-item/bsms-spring-session-2-ends-2/
LOCATION:Rockford University\, 5050 E. State St. \, Rockford\, IL\, 61108\, United States
CATEGORIES:Academic Calendar,Campus Wide Event (Public)
GEO:42.2640342;-89.0197305
X-APPLE-STRUCTURED-LOCATION;VALUE=URI;X-ADDRESS=Rockford University 5050 E. State St.  Rockford IL 61108 United States;X-APPLE-RADIUS=500;X-TITLE=5050 E. State St.:geo:-89.0197305,42.2640342
END:VEVENT
BEGIN:VEVENT
DTSTART;VALUE=DATE:20180319
DTEND;VALUE=DATE:20180320
DTSTAMP:20260423T202036
CREATED:20170720T161000Z
LAST-MODIFIED:20170720T161000Z
UID:10007182-1521417600-1521503999@www.rockford.edu
SUMMARY:BSMS Spring Session 3 Begins
DESCRIPTION:View the full Academic Calendar 2017-18
URL:https://www.rockford.edu/calendar-item/bsms-spring-session-3-begins-2/
LOCATION:Rockford University\, 5050 E. State St. \, Rockford\, IL\, 61108\, United States
CATEGORIES:Academic Calendar,Campus Wide Event (Public)
GEO:42.2640342;-89.0197305
X-APPLE-STRUCTURED-LOCATION;VALUE=URI;X-ADDRESS=Rockford University 5050 E. State St.  Rockford IL 61108 United States;X-APPLE-RADIUS=500;X-TITLE=5050 E. State St.:geo:-89.0197305,42.2640342
END:VEVENT
BEGIN:VEVENT
DTSTART;TZID=America/New_York:20180319T000000
DTEND;TZID=America/New_York:20180413T235900
DTSTAMP:20260423T202036
CREATED:20170629T164401Z
LAST-MODIFIED:20170629T164401Z
UID:10007129-1521417600-1523663940@www.rockford.edu
SUMMARY:Academic advising/registration for Fall semester
DESCRIPTION:Academic advising/registration for Fall semester for all continuing graduate\, undergraduate and BSMS students.\nView the full Academic Calendar 2017-18
URL:https://www.rockford.edu/calendar-item/academic-advisingregistration-fall-semester/
LOCATION:Rockford University\, 5050 E. State St. \, Rockford\, IL\, 61108\, United States
CATEGORIES:Academic Calendar,Campus Wide Event (Public)
GEO:42.2640342;-89.0197305
X-APPLE-STRUCTURED-LOCATION;VALUE=URI;X-ADDRESS=Rockford University 5050 E. State St.  Rockford IL 61108 United States;X-APPLE-RADIUS=500;X-TITLE=5050 E. State St.:geo:-89.0197305,42.2640342
END:VEVENT
BEGIN:VEVENT
DTSTART;TZID=America/New_York:20180321T150000
DTEND;TZID=America/New_York:20180321T170000
DTSTAMP:20260423T202036
CREATED:20180125T200559Z
LAST-MODIFIED:20180221T233903Z
UID:10007060-1521644400-1521651600@www.rockford.edu
SUMMARY:Forum Series: Transgender and Immigrant Rights int the Fight for Liberation: Jennicet Gutiérrez
DESCRIPTION:Jennicet Gutiérrez\, best known for shedding light on the plight of transgender women in immigration detention centers through her organization FAMILIA: TQLM (Trans Queer Liberation Movement)\, is a transgender activist from México who resides in Los Angeles. She burst onto the national scene in the summer of 2015\, when she interrupted President Obama during a speech in honor of Pride month to call attention to the struggles of transgender immigrant women. Gutiérrez believes in the importance of uplifting and centering the voices of trans women of color in all racial justice work.
URL:https://www.rockford.edu/calendar-item/transgender-immigrant-rights-int-fight-liberation-jennicet-gutierrez/
LOCATION:Regents Hall – Burpee Student Center\, 5050 E. State St. \, Rockford\, IL\, 61108\, United States
CATEGORIES:Campus Wide Event (Public)
GEO:42.2640342;-89.0197305
X-APPLE-STRUCTURED-LOCATION;VALUE=URI;X-ADDRESS=Regents Hall – Burpee Student Center 5050 E. State St.  Rockford IL 61108 United States;X-APPLE-RADIUS=500;X-TITLE=5050 E. State St.:geo:-89.0197305,42.2640342
END:VEVENT
BEGIN:VEVENT
DTSTART;TZID=America/New_York:20180323T180000
DTEND;TZID=America/New_York:20180323T200000
DTSTAMP:20260423T202036
CREATED:20180131T194242Z
LAST-MODIFIED:20180131T195045Z
UID:10007449-1521828000-1521835200@www.rockford.edu
SUMMARY:Gallery Reception
DESCRIPTION:Traces Remain – Melissa Cowper-Smith\nExhibition Dates: March 23 – April 20\, 2018\nFriday\, March 23 – 6:00 – 8:00 p.m. Public reception \nThe work of Melissa Cowper-Smith explores the contemporary fear of disaster\, abandonment\, and displacement. Using plants such as bamboo\, hosta\, yucca\, and daylily collected from The Penland School for Crafts and from her ecological farm in Morrilton\, Arkansas\, she hand makes paper. With this paper\, Cowper-Smith creates digital prints of her photographs and paintings created using imagery from small Ozark farms\, abandoned buildings\, and recently war-torn countries.  \nShe depicts natural and agricultural landscapes and domestic objects and interiors as a way of expressing physical intimacy and the forgetting and passing of time. Cowper-Smith has exhibited in several New York City galleries\, as well as in exhibitions throughout the country\, and is currently teaching at the University of Central Arkansas.
URL:https://www.rockford.edu/calendar-item/gallery-reception/
LOCATION:Rockford University\, 5050 E. State St. \, Rockford\, IL\, 61108\, United States
CATEGORIES:Art Gallery Event,Campus Wide Event (Public)
ORGANIZER;CN="Art Gallery":MAILTO:cwarzecha@rockford.edu
GEO:42.2640342;-89.0197305
X-APPLE-STRUCTURED-LOCATION;VALUE=URI;X-ADDRESS=Rockford University 5050 E. State St.  Rockford IL 61108 United States;X-APPLE-RADIUS=500;X-TITLE=5050 E. State St.:geo:-89.0197305,42.2640342
END:VEVENT
BEGIN:VEVENT
DTSTART;TZID=America/New_York:20180326T030000
DTEND;TZID=America/New_York:20180326T180000
DTSTAMP:20260423T202036
CREATED:20180131T194237Z
LAST-MODIFIED:20180131T194809Z
UID:10007433-1522033200-1522087200@www.rockford.edu
SUMMARY:Gallery Hours
DESCRIPTION:Traces Remain – Melissa Cowper-Smith\nExhibition Dates: March 23 – April 20\, 2018\nFriday\, March 23 – 6:00 – 8:00 p.m. Public reception \nThe work of Melissa Cowper-Smith explores the contemporary fear of disaster\, abandonment\, and displacement. Using plants such as bamboo\, hosta\, yucca\, and daylily collected from The Penland School for Crafts and from her ecological farm in Morrilton\, Arkansas\, she hand makes paper. With this paper\, Cowper-Smith creates digital prints of her photographs and paintings created using imagery from small Ozark farms\, abandoned buildings\, and recently war-torn countries.  \nShe depicts natural and agricultural landscapes and domestic objects and interiors as a way of expressing physical intimacy and the forgetting and passing of time. Cowper-Smith has exhibited in several New York City galleries\, as well as in exhibitions throughout the country\, and is currently teaching at the University of Central Arkansas.
URL:https://www.rockford.edu/calendar-item/gallery-hours-31/2018-03-26/
LOCATION:Rockford University\, 5050 E. State St. \, Rockford\, IL\, 61108\, United States
CATEGORIES:Art Gallery Event,Campus Wide Event (Public)
ORGANIZER;CN="Art Gallery":MAILTO:cwarzecha@rockford.edu
GEO:42.2640342;-89.0197305
X-APPLE-STRUCTURED-LOCATION;VALUE=URI;X-ADDRESS=Rockford University 5050 E. State St.  Rockford IL 61108 United States;X-APPLE-RADIUS=500;X-TITLE=5050 E. State St.:geo:-89.0197305,42.2640342
END:VEVENT
BEGIN:VEVENT
DTSTART;TZID=America/New_York:20180328T130000
DTEND;TZID=America/New_York:20180328T150000
DTSTAMP:20260423T202036
CREATED:20180308T214739Z
LAST-MODIFIED:20180313T150240Z
UID:10007512-1522242000-1522249200@www.rockford.edu
SUMMARY:Rockford University and Rock Valley College Career and Internship Fair
DESCRIPTION:The Career & Internship Fair provides employers with an opportunity to meet talented students and alumni\, collect resumes\, and interview candidates. It also allows employers to reach a large pool of potential candidates.
URL:https://www.rockford.edu/calendar-item/rockford-university-rock-valley-college-career-internship-fair/
LOCATION:Regents Hall – Burpee Student Center\, 5050 E. State St. \, Rockford\, IL\, 61108\, United States
CATEGORIES:Campus Wide Event (Public)
ORGANIZER;CN="Career Development":MAILTO:careers@rockford.edu
GEO:42.2640342;-89.0197305
X-APPLE-STRUCTURED-LOCATION;VALUE=URI;X-ADDRESS=Regents Hall – Burpee Student Center 5050 E. State St.  Rockford IL 61108 United States;X-APPLE-RADIUS=500;X-TITLE=5050 E. State St.:geo:-89.0197305,42.2640342
END:VEVENT
BEGIN:VEVENT
DTSTART;TZID=America/New_York:20180328T150000
DTEND;TZID=America/New_York:20180328T180000
DTSTAMP:20260423T202036
CREATED:20180131T194239Z
LAST-MODIFIED:20180417T190614Z
UID:10007438-1522249200-1522260000@www.rockford.edu
SUMMARY:Gallery Hours
DESCRIPTION:Traces Remain – Melissa Cowper-Smith\n Exhibition Dates: March 23 – April 20\, 2018\n Friday\, March 23 – 6:00 – 8:00 p.m. Public reception \nThe work of Melissa Cowper-Smith explores the contemporary fear of disaster\, abandonment\, and displacement. Using plants such as bamboo\, hosta\, yucca\, and daylily collected from The Penland School for Crafts and from her ecological farm in Morrilton\, Arkansas\, she hand makes paper. With this paper\, Cowper-Smith creates digital prints of her photographs and paintings created using imagery from small Ozark farms\, abandoned buildings\, and recently war-torn countries. \nShe depicts natural and agricultural landscapes and domestic objects and interiors as a way of expressing physical intimacy and the forgetting and passing of time. Cowper-Smith has exhibited in several New York City galleries\, as well as in exhibitions throughout the country\, and is currently teaching at the University of Central Arkansas.
URL:https://www.rockford.edu/calendar-item/gallery-hours-35/2018-03-28/
LOCATION:Rockford University\, 5050 E. State St. \, Rockford\, IL\, 61108\, United States
CATEGORIES:Art Gallery Event,Campus Wide Event (Public)
ORGANIZER;CN="Art Gallery":MAILTO:cwarzecha@rockford.edu
GEO:42.2640342;-89.0197305
X-APPLE-STRUCTURED-LOCATION;VALUE=URI;X-ADDRESS=Rockford University 5050 E. State St.  Rockford IL 61108 United States;X-APPLE-RADIUS=500;X-TITLE=5050 E. State St.:geo:-89.0197305,42.2640342
END:VEVENT
BEGIN:VEVENT
DTSTART;TZID=America/New_York:20180328T200000
DTEND;TZID=America/New_York:20180328T220000
DTSTAMP:20260423T202036
CREATED:20171213T180024Z
LAST-MODIFIED:20180314T174111Z
UID:10007417-1522267200-1522274400@www.rockford.edu
SUMMARY:Trivia Night
DESCRIPTION:*This is a Student Activities sponsored event and is only open to the Rockford University campus community.​​
URL:https://www.rockford.edu/calendar-item/trivia-night-5/
LOCATION:The Den – Burpee Student Center\, IL
CATEGORIES:Campus Wide Event (Public),Student Activities
ORGANIZER;CN="Student Activities":MAILTO:APJohnson@rockford.edu
GEO:40.6331249;-89.3985283
END:VEVENT
BEGIN:VEVENT
DTSTART;TZID=America/New_York:20180330T150000
DTEND;TZID=America/New_York:20180330T180000
DTSTAMP:20260423T202036
CREATED:20180131T194241Z
LAST-MODIFIED:20180419T194749Z
UID:10007443-1522422000-1522432800@www.rockford.edu
SUMMARY:Gallery Hours
DESCRIPTION:Traces Remain – Melissa Cowper-Smith\n Exhibition Dates: March 23 – April 20\, 2018\n Friday\, March 23 – 6:00 – 8:00 p.m. Public reception \nThe work of Melissa Cowper-Smith explores the contemporary fear of disaster\, abandonment\, and displacement. Using plants such as bamboo\, hosta\, yucca\, and daylily collected from The Penland School for Crafts and from her ecological farm in Morrilton\, Arkansas\, she hand makes paper. With this paper\, Cowper-Smith creates digital prints of her photographs and paintings created using imagery from small Ozark farms\, abandoned buildings\, and recently war-torn countries. \nShe depicts natural and agricultural landscapes and domestic objects and interiors as a way of expressing physical intimacy and the forgetting and passing of time. Cowper-Smith has exhibited in several New York City galleries\, as well as in exhibitions throughout the country\, and is currently teaching at the University of Central Arkansas.
URL:https://www.rockford.edu/calendar-item/gallery-hours-39/2018-03-30/
LOCATION:Rockford University\, 5050 E. State St. \, Rockford\, IL\, 61108\, United States
CATEGORIES:Art Gallery Event,Campus Wide Event (Public)
ATTACH;FMTTYPE=image/jpeg:https://www.rockford.edu/wp-content/uploads/2018/04/Art-Gallery-1.jpg
ORGANIZER;CN="Art Gallery":MAILTO:cwarzecha@rockford.edu
GEO:42.2640342;-89.0197305
X-APPLE-STRUCTURED-LOCATION;VALUE=URI;X-ADDRESS=Rockford University 5050 E. State St.  Rockford IL 61108 United States;X-APPLE-RADIUS=500;X-TITLE=5050 E. State St.:geo:-89.0197305,42.2640342
END:VEVENT
BEGIN:VEVENT
DTSTART;TZID=America/New_York:20180330T200000
DTEND;TZID=America/New_York:20180330T220000
DTSTAMP:20260423T202036
CREATED:20171213T180343Z
LAST-MODIFIED:20180330T164610Z
UID:10007419-1522440000-1522447200@www.rockford.edu
SUMMARY:Movie Night: Jumanji - Welcome to the Jungle
DESCRIPTION:Jumanji: Welcome to the Jungle is an adventure comedy you won’t want to miss! \nHere’s a synopsis: “In a brand new Jumanji adventure\, four high school kids discover an old video game console and are drawn into the game’s jungle setting\, literally becoming the adult avatars they chose. What they discover is that you don’t just play Jumanji – you must survive it. To beat the game and return to the real world\, they’ll have to go on the most dangerous adventure of their lives and change the way they think about themselves – or they’ll be stuck in the game forever.” \n See you at 8:00 PM on Friday\, March 30 in Scar Auditorium! We’ll even provide popcorn and soda! \n*This is a Student Activities sponsored event and is only open to the Rockford University campus community.​​
URL:https://www.rockford.edu/calendar-item/movie-night-3/
LOCATION:Severson Auditorium – Scarborough Hall\, 5050 E. State St. \, Rockford\, IL\, 61108\, United States
CATEGORIES:Campus Wide Event (Public),Student Activities
ORGANIZER;CN="Student Activities":MAILTO:APJohnson@rockford.edu
GEO:42.2640342;-89.0197305
X-APPLE-STRUCTURED-LOCATION;VALUE=URI;X-ADDRESS=Severson Auditorium – Scarborough Hall 5050 E. State St.  Rockford IL 61108 United States;X-APPLE-RADIUS=500;X-TITLE=5050 E. State St.:geo:-89.0197305,42.2640342
END:VEVENT
END:VCALENDAR