BEGIN:VCALENDAR
VERSION:2.0
PRODID:-//Rockford University - ECPv6.15.20//NONSGML v1.0//EN
CALSCALE:GREGORIAN
METHOD:PUBLISH
X-ORIGINAL-URL:https://www.rockford.edu
X-WR-CALDESC:Events for Rockford University
REFRESH-INTERVAL;VALUE=DURATION:PT1H
X-Robots-Tag:noindex
X-PUBLISHED-TTL:PT1H
BEGIN:VTIMEZONE
TZID:America/New_York
BEGIN:DAYLIGHT
TZOFFSETFROM:-0500
TZOFFSETTO:-0400
TZNAME:EDT
DTSTART:20160313T070000
END:DAYLIGHT
BEGIN:STANDARD
TZOFFSETFROM:-0400
TZOFFSETTO:-0500
TZNAME:EST
DTSTART:20161106T060000
END:STANDARD
BEGIN:DAYLIGHT
TZOFFSETFROM:-0500
TZOFFSETTO:-0400
TZNAME:EDT
DTSTART:20170312T070000
END:DAYLIGHT
BEGIN:STANDARD
TZOFFSETFROM:-0400
TZOFFSETTO:-0500
TZNAME:EST
DTSTART:20171105T060000
END:STANDARD
BEGIN:DAYLIGHT
TZOFFSETFROM:-0500
TZOFFSETTO:-0400
TZNAME:EDT
DTSTART:20180311T070000
END:DAYLIGHT
BEGIN:STANDARD
TZOFFSETFROM:-0400
TZOFFSETTO:-0500
TZNAME:EST
DTSTART:20181104T060000
END:STANDARD
END:VTIMEZONE
BEGIN:VTIMEZONE
TZID:America/Chicago
BEGIN:DAYLIGHT
TZOFFSETFROM:-0600
TZOFFSETTO:-0500
TZNAME:CDT
DTSTART:20160313T080000
END:DAYLIGHT
BEGIN:STANDARD
TZOFFSETFROM:-0500
TZOFFSETTO:-0600
TZNAME:CST
DTSTART:20161106T070000
END:STANDARD
BEGIN:DAYLIGHT
TZOFFSETFROM:-0600
TZOFFSETTO:-0500
TZNAME:CDT
DTSTART:20170312T080000
END:DAYLIGHT
BEGIN:STANDARD
TZOFFSETFROM:-0500
TZOFFSETTO:-0600
TZNAME:CST
DTSTART:20171105T070000
END:STANDARD
BEGIN:DAYLIGHT
TZOFFSETFROM:-0600
TZOFFSETTO:-0500
TZNAME:CDT
DTSTART:20180311T080000
END:DAYLIGHT
BEGIN:STANDARD
TZOFFSETFROM:-0500
TZOFFSETTO:-0600
TZNAME:CST
DTSTART:20181104T070000
END:STANDARD
END:VTIMEZONE
BEGIN:VEVENT
DTSTART;TZID=America/New_York:20171201T080000
DTEND;TZID=America/New_York:20171201T153000
DTSTAMP:20260424T005157
CREATED:20171103T220935Z
LAST-MODIFIED:20180208T213114Z
UID:10007022-1512115200-1512142200@www.rockford.edu
SUMMARY:Rockford University and OSF Co-Sponsor Professional Title IX Workshop
DESCRIPTION:Rockford University\, OSF Saint Anthony College of Nursing and Husch Blackwell are partnering to offer a two-day\, end-of-the-year Title IX training for local\, state and regional colleagues. Day one\, provided by law firm Husch Blackwell\, will include current statutes\, investigative report-writing and other key concepts. Day two training will be provided by local community experts surrounding intersectionality of domestic and sexual violence and alcohol. \nPlease see the links below for additional information. Audience: Title IX Teams\, Title IX Officers/Coordinators\, Campus Police\, Support Staff (day two).  \n\nTraining Registration is managed by Husch Blackwell.\nVisit RU’s training event page.\n\nQuestions\, please contact Office of Compliance and Title IX at TitleIXCoordinator@rockford.edu or Pam Clark.
URL:https://www.rockford.edu/calendar-item/rockford-university-osf-co-sponsor-professional-title-ix-workshop-2017-12-01/
LOCATION:IL
CATEGORIES:Campus Wide Event (Public),Title IX
END:VEVENT
BEGIN:VEVENT
DTSTART;TZID=America/New_York:20171201T150000
DTEND;TZID=America/New_York:20171201T180000
DTSTAMP:20260424T005157
CREATED:20171025T215016Z
LAST-MODIFIED:20171025T215216Z
UID:10007356-1512140400-1512151200@www.rockford.edu
SUMMARY:Art Gallery Hours
DESCRIPTION:Visit the gallery from 3-6pm to see Erin Furimsky’s solo exhibition\, “Beneath Repetition” at the Rockford University Art Gallery in the Clark Arts Center. \nErin Furimsky’s meticulous details reflect elements of domesticity\, floral motifs\, and calligraphy. The fullness of the ceramic sculptures give the illusion of buoyancy\, complementing the vivid surface treatment. Fragments and layers accumulate organically across the bulbous surfaces of Furimsky’s sculptures\, leaving a sense of order remaining as the embellishments are coupled with linear patterns and blocks of solid color.
URL:https://www.rockford.edu/calendar-item/art-gallery-hours-2/2017-12-01/
LOCATION:Rockford University\, 5050 E. State St. \, Rockford\, IL\, 61108\, United States
CATEGORIES:Campus Wide Event (Public)
ATTACH;FMTTYPE=image/jpeg:https://www.rockford.edu/wp-content/uploads/2017/10/Her-Labor.jpg
ORGANIZER;CN="Art Gallery":MAILTO:cwarzecha@rockford.edu
GEO:42.2640342;-89.0197305
X-APPLE-STRUCTURED-LOCATION;VALUE=URI;X-ADDRESS=Rockford University 5050 E. State St.  Rockford IL 61108 United States;X-APPLE-RADIUS=500;X-TITLE=5050 E. State St.:geo:-89.0197305,42.2640342
END:VEVENT
BEGIN:VEVENT
DTSTART;TZID=America/Chicago:20171202T200000
DTEND;TZID=America/Chicago:20171202T213000
DTSTAMP:20260424T005157
CREATED:20170518T214211Z
LAST-MODIFIED:20170518T214211Z
UID:10007063-1512244800-1512250200@www.rockford.edu
SUMMARY:The Effects of Gamma Rays on Man in the Moon Marigolds
DESCRIPTION:Rockford University’s Performing Arts presents its first directing senior seminar\, The Effects of Gamma Rays on Man in the Moon Marigolds\, at 8 p.m. on Saturday\, Dec. 2.
URL:https://www.rockford.edu/calendar-item/effects-gamma-rays-man-moon-marigolds/
LOCATION:Clark Arts Center\, 5050 E. State St. \, Rockford\, IL\, 61108\, United States
CATEGORIES:Campus Wide Event (Public),PA Performance
GEO:42.2640342;-89.0197305
X-APPLE-STRUCTURED-LOCATION;VALUE=URI;X-ADDRESS=Clark Arts Center 5050 E. State St.  Rockford IL 61108 United States;X-APPLE-RADIUS=500;X-TITLE=5050 E. State St.:geo:-89.0197305,42.2640342
END:VEVENT
BEGIN:VEVENT
DTSTART;VALUE=DATE:20171204
DTEND;VALUE=DATE:20171205
DTSTAMP:20260424T005157
CREATED:20170720T160107Z
LAST-MODIFIED:20170720T160107Z
UID:10004349-1512345600-1512431999@www.rockford.edu
SUMMARY:BSMS Fall Session 2 Grades Due
DESCRIPTION:View the full Academic Calendar 2017-18
URL:https://www.rockford.edu/calendar-item/bsms-fall-session-2-grades-due/
LOCATION:Rockford University\, 5050 E. State St. \, Rockford\, IL\, 61108\, United States
CATEGORIES:Academic Calendar,Campus Wide Event (Public)
GEO:42.2640342;-89.0197305
X-APPLE-STRUCTURED-LOCATION;VALUE=URI;X-ADDRESS=Rockford University 5050 E. State St.  Rockford IL 61108 United States;X-APPLE-RADIUS=500;X-TITLE=5050 E. State St.:geo:-89.0197305,42.2640342
END:VEVENT
BEGIN:VEVENT
DTSTART;TZID=America/New_York:20171204T150000
DTEND;TZID=America/New_York:20171204T180000
DTSTAMP:20260424T005157
CREATED:20171025T215016Z
LAST-MODIFIED:20171025T215216Z
UID:10007357-1512399600-1512410400@www.rockford.edu
SUMMARY:Art Gallery Hours
DESCRIPTION:Visit the gallery from 3-6pm to see Erin Furimsky’s solo exhibition\, “Beneath Repetition” at the Rockford University Art Gallery in the Clark Arts Center. \nErin Furimsky’s meticulous details reflect elements of domesticity\, floral motifs\, and calligraphy. The fullness of the ceramic sculptures give the illusion of buoyancy\, complementing the vivid surface treatment. Fragments and layers accumulate organically across the bulbous surfaces of Furimsky’s sculptures\, leaving a sense of order remaining as the embellishments are coupled with linear patterns and blocks of solid color.
URL:https://www.rockford.edu/calendar-item/art-gallery-hours-2/2017-12-04/
LOCATION:Rockford University\, 5050 E. State St. \, Rockford\, IL\, 61108\, United States
CATEGORIES:Campus Wide Event (Public)
ATTACH;FMTTYPE=image/jpeg:https://www.rockford.edu/wp-content/uploads/2017/10/Her-Labor.jpg
ORGANIZER;CN="Art Gallery":MAILTO:cwarzecha@rockford.edu
GEO:42.2640342;-89.0197305
X-APPLE-STRUCTURED-LOCATION;VALUE=URI;X-ADDRESS=Rockford University 5050 E. State St.  Rockford IL 61108 United States;X-APPLE-RADIUS=500;X-TITLE=5050 E. State St.:geo:-89.0197305,42.2640342
END:VEVENT
BEGIN:VEVENT
DTSTART;TZID=America/New_York:20171206T150000
DTEND;TZID=America/New_York:20171206T180000
DTSTAMP:20260424T005157
CREATED:20171025T215016Z
LAST-MODIFIED:20171025T215216Z
UID:10007358-1512572400-1512583200@www.rockford.edu
SUMMARY:Art Gallery Hours
DESCRIPTION:Visit the gallery from 3-6pm to see Erin Furimsky’s solo exhibition\, “Beneath Repetition” at the Rockford University Art Gallery in the Clark Arts Center. \nErin Furimsky’s meticulous details reflect elements of domesticity\, floral motifs\, and calligraphy. The fullness of the ceramic sculptures give the illusion of buoyancy\, complementing the vivid surface treatment. Fragments and layers accumulate organically across the bulbous surfaces of Furimsky’s sculptures\, leaving a sense of order remaining as the embellishments are coupled with linear patterns and blocks of solid color.
URL:https://www.rockford.edu/calendar-item/art-gallery-hours-2/2017-12-06/
LOCATION:Rockford University\, 5050 E. State St. \, Rockford\, IL\, 61108\, United States
CATEGORIES:Campus Wide Event (Public)
ATTACH;FMTTYPE=image/jpeg:https://www.rockford.edu/wp-content/uploads/2017/10/Her-Labor.jpg
ORGANIZER;CN="Art Gallery":MAILTO:cwarzecha@rockford.edu
GEO:42.2640342;-89.0197305
X-APPLE-STRUCTURED-LOCATION;VALUE=URI;X-ADDRESS=Rockford University 5050 E. State St.  Rockford IL 61108 United States;X-APPLE-RADIUS=500;X-TITLE=5050 E. State St.:geo:-89.0197305,42.2640342
END:VEVENT
BEGIN:VEVENT
DTSTART;TZID=America/Chicago:20171206T190000
DTEND;TZID=America/Chicago:20171206T210000
DTSTAMP:20260424T005157
CREATED:20170518T215018Z
LAST-MODIFIED:20170518T215018Z
UID:10007064-1512586800-1512594000@www.rockford.edu
SUMMARY:Dance Workshop and Coreographers' Showcase
DESCRIPTION:Rockford University’s Performing Arts Department presents a Dance Workshop and Choreographers’ Showcase at 7 p.m. Wednesday\, Dec. 6.
URL:https://www.rockford.edu/calendar-item/dance-workshop-coreographers-showcase/
LOCATION:Clark Arts Center\, 5050 E. State St. \, Rockford\, IL\, 61108\, United States
CATEGORIES:Campus Wide Event (Public),PA Performance
GEO:42.2640342;-89.0197305
X-APPLE-STRUCTURED-LOCATION;VALUE=URI;X-ADDRESS=Clark Arts Center 5050 E. State St.  Rockford IL 61108 United States;X-APPLE-RADIUS=500;X-TITLE=5050 E. State St.:geo:-89.0197305,42.2640342
END:VEVENT
BEGIN:VEVENT
DTSTART;TZID=America/New_York:20171206T193000
DTEND;TZID=America/New_York:20171206T210000
DTSTAMP:20260424T005157
CREATED:20170831T150659Z
LAST-MODIFIED:20171206T221034Z
UID:10007256-1512588600-1512594000@www.rockford.edu
SUMMARY:Winter Concert - Leonard Bernstein at 100
DESCRIPTION:Rockford University’s Performing Arts Department presents its annual Winter Concert on Wednesday\, Dec. 6\, at 7:30 p.m. \nTickets are free but required\n 815.226.4100 to reserve\nFree will donations accepted at the door\nBoxOffice@rockford.edu \nOur choral/vocal concerts in December and May each year highlight the impressive work of our choral groups: Regent Singers\, Vocal Collective\, Women’s Ensemble\, and Gospel Choir. These compelling programs feature a broad variety of music from classical choral repertoire and contemporary a cappella to jazz and musical theater works. \nThis December\, students from the Musical Theater\, Dance\, and Acting/Directing programs will join the choirs in a celebration of Leonard Bernstein’s 100th birthday\, featuring selections from Chichester Psalms\, Mass\, West Side Story\, On the Town\, Wonderful Town\, and others.
URL:https://www.rockford.edu/calendar-item/winter-concert/
LOCATION:Maddox Theatre – Clark Arts Center\, 5050 E. State St. \, Rockford\, IL\, 61108\, United States
CATEGORIES:Campus Wide Event (Public),PA Performance
GEO:42.2640342;-89.0197305
X-APPLE-STRUCTURED-LOCATION;VALUE=URI;X-ADDRESS=Maddox Theatre – Clark Arts Center 5050 E. State St.  Rockford IL 61108 United States;X-APPLE-RADIUS=500;X-TITLE=5050 E. State St.:geo:-89.0197305,42.2640342
END:VEVENT
BEGIN:VEVENT
DTSTART;VALUE=DATE:20171208
DTEND;VALUE=DATE:20171209
DTSTAMP:20260424T005157
CREATED:20170629T160830Z
LAST-MODIFIED:20170629T160830Z
UID:10004309-1512691200-1512777599@www.rockford.edu
SUMMARY:Last Day of Classes
DESCRIPTION:View the full Academic Calendar 2017-18
URL:https://www.rockford.edu/calendar-item/last-day-classes/
LOCATION:Rockford University\, 5050 E. State St. \, Rockford\, IL\, 61108\, United States
CATEGORIES:Academic Calendar,Campus Wide Event (Public)
GEO:42.2640342;-89.0197305
X-APPLE-STRUCTURED-LOCATION;VALUE=URI;X-ADDRESS=Rockford University 5050 E. State St.  Rockford IL 61108 United States;X-APPLE-RADIUS=500;X-TITLE=5050 E. State St.:geo:-89.0197305,42.2640342
END:VEVENT
BEGIN:VEVENT
DTSTART;TZID=America/New_York:20171208T150000
DTEND;TZID=America/New_York:20171208T180000
DTSTAMP:20260424T005157
CREATED:20171025T215016Z
LAST-MODIFIED:20171025T215216Z
UID:10007359-1512745200-1512756000@www.rockford.edu
SUMMARY:Art Gallery Hours
DESCRIPTION:Visit the gallery from 3-6pm to see Erin Furimsky’s solo exhibition\, “Beneath Repetition” at the Rockford University Art Gallery in the Clark Arts Center. \nErin Furimsky’s meticulous details reflect elements of domesticity\, floral motifs\, and calligraphy. The fullness of the ceramic sculptures give the illusion of buoyancy\, complementing the vivid surface treatment. Fragments and layers accumulate organically across the bulbous surfaces of Furimsky’s sculptures\, leaving a sense of order remaining as the embellishments are coupled with linear patterns and blocks of solid color.
URL:https://www.rockford.edu/calendar-item/art-gallery-hours-2/2017-12-08/
LOCATION:Rockford University\, 5050 E. State St. \, Rockford\, IL\, 61108\, United States
CATEGORIES:Campus Wide Event (Public)
ATTACH;FMTTYPE=image/jpeg:https://www.rockford.edu/wp-content/uploads/2017/10/Her-Labor.jpg
ORGANIZER;CN="Art Gallery":MAILTO:cwarzecha@rockford.edu
GEO:42.2640342;-89.0197305
X-APPLE-STRUCTURED-LOCATION;VALUE=URI;X-ADDRESS=Rockford University 5050 E. State St.  Rockford IL 61108 United States;X-APPLE-RADIUS=500;X-TITLE=5050 E. State St.:geo:-89.0197305,42.2640342
END:VEVENT
BEGIN:VEVENT
DTSTART;VALUE=DATE:20171209
DTEND;VALUE=DATE:20171210
DTSTAMP:20260424T005157
CREATED:20170629T160943Z
LAST-MODIFIED:20170629T160943Z
UID:10004311-1512777600-1512863999@www.rockford.edu
SUMMARY:December Graduate Recognition Ceremony
DESCRIPTION:More information to come.\nView the full Academic Calendar 2017-18
URL:https://www.rockford.edu/calendar-item/december-graduate-recognition-ceremony-2/
LOCATION:Rockford University\, 5050 E. State St. \, Rockford\, IL\, 61108\, United States
CATEGORIES:Academic Calendar,Campus Wide Event (Public)
GEO:42.2640342;-89.0197305
X-APPLE-STRUCTURED-LOCATION;VALUE=URI;X-ADDRESS=Rockford University 5050 E. State St.  Rockford IL 61108 United States;X-APPLE-RADIUS=500;X-TITLE=5050 E. State St.:geo:-89.0197305,42.2640342
END:VEVENT
BEGIN:VEVENT
DTSTART;TZID=America/New_York:20171211T080000
DTEND;TZID=America/New_York:20171215T170000
DTSTAMP:20260424T005157
CREATED:20170629T161228Z
LAST-MODIFIED:20170629T161228Z
UID:10004313-1512979200-1513357200@www.rockford.edu
SUMMARY:Final Exam Period
DESCRIPTION:View the full Academic Calendar 2017-18
URL:https://www.rockford.edu/calendar-item/final-exam-period/
LOCATION:Rockford University\, 5050 E. State St. \, Rockford\, IL\, 61108\, United States
CATEGORIES:Academic Calendar,Campus Wide Event (Public)
GEO:42.2640342;-89.0197305
X-APPLE-STRUCTURED-LOCATION;VALUE=URI;X-ADDRESS=Rockford University 5050 E. State St.  Rockford IL 61108 United States;X-APPLE-RADIUS=500;X-TITLE=5050 E. State St.:geo:-89.0197305,42.2640342
END:VEVENT
BEGIN:VEVENT
DTSTART;VALUE=DATE:20171216
DTEND;VALUE=DATE:20171217
DTSTAMP:20260424T005157
CREATED:20170720T160231Z
LAST-MODIFIED:20170720T160231Z
UID:10007163-1513382400-1513468799@www.rockford.edu
SUMMARY:BSMS Fall Session 3 Ends
DESCRIPTION:View the full Academic Calendar 2017-18
URL:https://www.rockford.edu/calendar-item/bsms-fall-session-3-ends-2/
LOCATION:Rockford University\, 5050 E. State St. \, Rockford\, IL\, 61108\, United States
CATEGORIES:Academic Calendar,Campus Wide Event (Public)
GEO:42.2640342;-89.0197305
X-APPLE-STRUCTURED-LOCATION;VALUE=URI;X-ADDRESS=Rockford University 5050 E. State St.  Rockford IL 61108 United States;X-APPLE-RADIUS=500;X-TITLE=5050 E. State St.:geo:-89.0197305,42.2640342
END:VEVENT
BEGIN:VEVENT
DTSTART;VALUE=DATE:20171217
DTEND;VALUE=DATE:20171218
DTSTAMP:20260424T005157
CREATED:20170629T161359Z
LAST-MODIFIED:20170629T161359Z
UID:10004315-1513468800-1513555199@www.rockford.edu
SUMMARY:All final grades due in Registrar's Office
DESCRIPTION:All final grades due by 11:59pm\nView the full Academic Calendar 2017-18
URL:https://www.rockford.edu/calendar-item/final-grades-due-registrars-office/
LOCATION:Rockford University\, 5050 E. State St. \, Rockford\, IL\, 61108\, United States
CATEGORIES:Academic Calendar,Campus Wide Event (Public)
GEO:42.2640342;-89.0197305
X-APPLE-STRUCTURED-LOCATION;VALUE=URI;X-ADDRESS=Rockford University 5050 E. State St.  Rockford IL 61108 United States;X-APPLE-RADIUS=500;X-TITLE=5050 E. State St.:geo:-89.0197305,42.2640342
END:VEVENT
BEGIN:VEVENT
DTSTART;VALUE=DATE:20171222
DTEND;VALUE=DATE:20171223
DTSTAMP:20260424T005157
CREATED:20170629T161508Z
LAST-MODIFIED:20170629T161508Z
UID:10004317-1513900800-1513987199@www.rockford.edu
SUMMARY:Degree Award Date
DESCRIPTION:More information to come.\nView the full Academic Calendar 2017-18
URL:https://www.rockford.edu/calendar-item/degree-award-date/
LOCATION:Rockford University\, 5050 E. State St. \, Rockford\, IL\, 61108\, United States
CATEGORIES:Academic Calendar,Campus Wide Event (Public)
GEO:42.2640342;-89.0197305
X-APPLE-STRUCTURED-LOCATION;VALUE=URI;X-ADDRESS=Rockford University 5050 E. State St.  Rockford IL 61108 United States;X-APPLE-RADIUS=500;X-TITLE=5050 E. State St.:geo:-89.0197305,42.2640342
END:VEVENT
END:VCALENDAR