BEGIN:VCALENDAR
VERSION:2.0
PRODID:-//Rockford University - ECPv6.15.20//NONSGML v1.0//EN
CALSCALE:GREGORIAN
METHOD:PUBLISH
X-ORIGINAL-URL:https://www.rockford.edu
X-WR-CALDESC:Events for Rockford University
REFRESH-INTERVAL;VALUE=DURATION:PT1H
X-Robots-Tag:noindex
X-PUBLISHED-TTL:PT1H
BEGIN:VTIMEZONE
TZID:America/Chicago
BEGIN:DAYLIGHT
TZOFFSETFROM:-0600
TZOFFSETTO:-0500
TZNAME:CDT
DTSTART:20160313T080000
END:DAYLIGHT
BEGIN:STANDARD
TZOFFSETFROM:-0500
TZOFFSETTO:-0600
TZNAME:CST
DTSTART:20161106T070000
END:STANDARD
BEGIN:DAYLIGHT
TZOFFSETFROM:-0600
TZOFFSETTO:-0500
TZNAME:CDT
DTSTART:20170312T080000
END:DAYLIGHT
BEGIN:STANDARD
TZOFFSETFROM:-0500
TZOFFSETTO:-0600
TZNAME:CST
DTSTART:20171105T070000
END:STANDARD
BEGIN:DAYLIGHT
TZOFFSETFROM:-0600
TZOFFSETTO:-0500
TZNAME:CDT
DTSTART:20180311T080000
END:DAYLIGHT
BEGIN:STANDARD
TZOFFSETFROM:-0500
TZOFFSETTO:-0600
TZNAME:CST
DTSTART:20181104T070000
END:STANDARD
END:VTIMEZONE
BEGIN:VTIMEZONE
TZID:America/New_York
BEGIN:DAYLIGHT
TZOFFSETFROM:-0500
TZOFFSETTO:-0400
TZNAME:EDT
DTSTART:20160313T070000
END:DAYLIGHT
BEGIN:STANDARD
TZOFFSETFROM:-0400
TZOFFSETTO:-0500
TZNAME:EST
DTSTART:20161106T060000
END:STANDARD
BEGIN:DAYLIGHT
TZOFFSETFROM:-0500
TZOFFSETTO:-0400
TZNAME:EDT
DTSTART:20170312T070000
END:DAYLIGHT
BEGIN:STANDARD
TZOFFSETFROM:-0400
TZOFFSETTO:-0500
TZNAME:EST
DTSTART:20171105T060000
END:STANDARD
BEGIN:DAYLIGHT
TZOFFSETFROM:-0500
TZOFFSETTO:-0400
TZNAME:EDT
DTSTART:20180311T070000
END:DAYLIGHT
BEGIN:STANDARD
TZOFFSETFROM:-0400
TZOFFSETTO:-0500
TZNAME:EST
DTSTART:20181104T060000
END:STANDARD
END:VTIMEZONE
BEGIN:VEVENT
DTSTART;VALUE=DATE:20170904
DTEND;VALUE=DATE:20170905
DTSTAMP:20260424T133030
CREATED:20161012T203034Z
LAST-MODIFIED:20161207T205247Z
UID:10004271-1504483200-1504569599@www.rockford.edu
SUMMARY:BSMS Summer Degree Award Date
DESCRIPTION:View the full Academic Calendar 2016-17
URL:https://www.rockford.edu/calendar-item/bsms-summer-degree-award-date-2/
LOCATION:IL
CATEGORIES:Academic Calendar,Campus Wide Event (Public)
END:VEVENT
BEGIN:VEVENT
DTSTART;VALUE=DATE:20170904
DTEND;VALUE=DATE:20170905
DTSTAMP:20260424T133030
CREATED:20170629T154548Z
LAST-MODIFIED:20170629T154548Z
UID:10007086-1504483200-1504569599@www.rockford.edu
SUMMARY:Labor Day-no classes\, offices closed
DESCRIPTION:View the full Academic Calendar 2017-18
URL:https://www.rockford.edu/calendar-item/labor-day-no-classes-offices-closed/
LOCATION:Rockford University\, 5050 E. State St. \, Rockford\, IL\, 61108\, United States
CATEGORIES:Academic Calendar,Campus Wide Event (Public)
GEO:42.2640342;-89.0197305
X-APPLE-STRUCTURED-LOCATION;VALUE=URI;X-ADDRESS=Rockford University 5050 E. State St.  Rockford IL 61108 United States;X-APPLE-RADIUS=500;X-TITLE=5050 E. State St.:geo:-89.0197305,42.2640342
END:VEVENT
BEGIN:VEVENT
DTSTART;TZID=America/New_York:20170906T190000
DTEND;TZID=America/New_York:20170906T210000
DTSTAMP:20260424T133030
CREATED:20170802T195311Z
LAST-MODIFIED:20170802T202135Z
UID:10004360-1504724400-1504731600@www.rockford.edu
SUMMARY:Rock Solid Success Seminar: Clarence Lee\, Jr.\, MD\, MBA
DESCRIPTION:Author\, medical doctor\, air force veteran and inspirational expert Clarence Lee provides encouragement and motivation to all students as they pursue their studies at RU. Dr. Lee\, CEO of a personal development brand\, is a frequent columnist with two published books\, and has appeared as an on-air TV health expert in segments on ABC\, NBC and FOX television stations. A decorated war veteran who served in the U.S. Air Force for a decade\, Dr. Lee received Black Enterprise’s Modern Man distinction in 2016 and has been named a healthcare entrepreneur to know by Becker’s Hospital Review\, as well as a Top 40 Under 40 by the Sacramento Business Journal and Drexel University. He holds a degree in biology from University of the Incarnate World\, as well as degrees in medicine and business from Drexel University.
URL:https://www.rockford.edu/calendar-item/rock-solid-success-seminar-clarence-lee-jr-md-mba/
LOCATION:Severson Auditorium – Scarborough Hall\, IL
CATEGORIES:Campus Wide Event (Public),Forum Series
GEO:40.6331249;-89.3985283
END:VEVENT
BEGIN:VEVENT
DTSTART;TZID=America/New_York:20170907T170000
DTEND;TZID=America/New_York:20170907T190000
DTSTAMP:20260424T133030
CREATED:20170829T155316Z
LAST-MODIFIED:20170829T155316Z
UID:10007211-1504803600-1504810800@www.rockford.edu
SUMMARY:A Starr Rising
DESCRIPTION:Join us as we reveal the Starr Science Renovations! \nYou’re invited to A STARR RISING\n Thursday\, September 7\, 2017\n At the Starr Science Center (Main Level)\n 5-7 p.m. (Remarks at 6 p.m.)
URL:https://www.rockford.edu/calendar-item/a-starr-rising/
LOCATION:Starr Science Center\, 5050 E. State St. \, Rockford\, IL\, 61108\, United States
CATEGORIES:Campus Wide Event (Public)
ATTACH;FMTTYPE=image/png:https://www.rockford.edu/wp-content/uploads/2017/08/https-2F2Fcdn.evbuc_.com2Fimages2F342209842F1401774290562F12Foriginal.png
GEO:42.2640342;-89.0197305
X-APPLE-STRUCTURED-LOCATION;VALUE=URI;X-ADDRESS=Starr Science Center 5050 E. State St.  Rockford IL 61108 United States;X-APPLE-RADIUS=500;X-TITLE=5050 E. State St.:geo:-89.0197305,42.2640342
END:VEVENT
BEGIN:VEVENT
DTSTART;VALUE=DATE:20170910
DTEND;VALUE=DATE:20170911
DTSTAMP:20260424T133030
CREATED:20161117T175103Z
LAST-MODIFIED:20161215T234725Z
UID:10004184-1505001600-1505087999@www.rockford.edu
SUMMARY:BSMS Summer Session 2 Grades Due
DESCRIPTION:View the full Academic Calendar 2016-17
URL:https://www.rockford.edu/calendar-item/bsms-summer-session-2-grades-due/
LOCATION:IL
CATEGORIES:Academic Calendar,Campus Wide Event (Public)
END:VEVENT
BEGIN:VEVENT
DTSTART;VALUE=DATE:20170911
DTEND;VALUE=DATE:20170912
DTSTAMP:20260424T133030
CREATED:20170629T154723Z
LAST-MODIFIED:20170629T154723Z
UID:10007089-1505088000-1505174399@www.rockford.edu
SUMMARY:IPEDS Census Date
DESCRIPTION:View the full Academic Calendar 2017-18
URL:https://www.rockford.edu/calendar-item/ipeds-census-date/
LOCATION:Rockford University\, 5050 E. State St. \, Rockford\, IL\, 61108\, United States
CATEGORIES:Academic Calendar,Campus Wide Event (Public)
GEO:42.2640342;-89.0197305
X-APPLE-STRUCTURED-LOCATION;VALUE=URI;X-ADDRESS=Rockford University 5050 E. State St.  Rockford IL 61108 United States;X-APPLE-RADIUS=500;X-TITLE=5050 E. State St.:geo:-89.0197305,42.2640342
END:VEVENT
BEGIN:VEVENT
DTSTART;TZID=America/New_York:20170911T150000
DTEND;TZID=America/New_York:20170911T160000
DTSTAMP:20260424T133030
CREATED:20170802T195533Z
LAST-MODIFIED:20170907T135547Z
UID:10004362-1505142000-1505145600@www.rockford.edu
SUMMARY:Constitution Day: U.S. Magistrate Judge Iain D. Johnston
DESCRIPTION:Rockford University commemorates the 1787 anniversary of the adjournment of the Constitutional Convention with a visit from 1987 RU alumnus Judge Iain D. Johnston\, who serves the Northern District of Illinois’ Rockford-based Western Division. Judge Johnston was captain of the Regents soccer team and furthered his education at University at Buffalo and The John Marshall Law School in Chicago after leaving RU\, returning to Rockford to work as a judicial clerk for Judge Philip G. Reinhard. Having founded his own law firm after working in the Illinois Attorney General’s Office and at a private practice\, Judge Johnston was appointed to his current role in 2013.   
URL:https://www.rockford.edu/calendar-item/constitution-day-u-s-magistrate-judge-iain-d-johnston/
LOCATION:Fisher Memorial Chapel – Rockford University\, 5050 E. State St. \, Rockford\, IL\, 61108\, United States
CATEGORIES:Campus Wide Event (Public),Forum Series,Student Activities
GEO:42.264048;-89.0197327
X-APPLE-STRUCTURED-LOCATION;VALUE=URI;X-ADDRESS=Fisher Memorial Chapel – Rockford University 5050 E. State St.  Rockford IL 61108 United States;X-APPLE-RADIUS=500;X-TITLE=5050 E. State St.:geo:-89.0197327,42.264048
END:VEVENT
BEGIN:VEVENT
DTSTART;TZID=America/New_York:20170920T190000
DTEND;TZID=America/New_York:20170920T210000
DTSTAMP:20260424T133030
CREATED:20170802T195835Z
LAST-MODIFIED:20170912T214841Z
UID:10004364-1505934000-1505941200@www.rockford.edu
SUMMARY:International Day of Peace: Jennifer Jordan
DESCRIPTION:Award-winning author\, filmmaker and screenwriter Jennifer Jordan joins RU for a screening of her new documentary “3000 Cups of Tea: The Mission and the Madness\,” which addresses allegations made by television news magazine 60-Minutes against philanthropist Greg Mortenson. Author of bestselling book Three Cups of Tea\, Mortenson rose to prominence on a mission to build schools for girls in Pakistan and Afghanistan\, but has left a legacy tarnished by scandal after accusations of using charitable funds from his Central Asia Institute for personal gain. In addition to the screening\, President Dr. Eric W. Fulcomer moderates an on-stage Q&A-style interview with Jordan.
URL:https://www.rockford.edu/calendar-item/international-day-peace-jennifer-jordan/
LOCATION:Maddox Theatre – Clark Arts Center\, 5050 E. State St. \, Rockford\, IL\, 61108\, United States
CATEGORIES:Campus Wide Event (Public),Forum Series
GEO:42.2640342;-89.0197305
X-APPLE-STRUCTURED-LOCATION;VALUE=URI;X-ADDRESS=Maddox Theatre – Clark Arts Center 5050 E. State St.  Rockford IL 61108 United States;X-APPLE-RADIUS=500;X-TITLE=5050 E. State St.:geo:-89.0197305,42.2640342
END:VEVENT
BEGIN:VEVENT
DTSTART;TZID=America/New_York:20170922T180000
DTEND;TZID=America/New_York:20170922T200000
DTSTAMP:20260424T133030
CREATED:20170831T180431Z
LAST-MODIFIED:20170905T203228Z
UID:10007260-1506103200-1506110400@www.rockford.edu
SUMMARY:Art Gallery Reception for "Surface Elements" with Stephen Cartwright
DESCRIPTION:Public reception for Stephen Cartwright’s solo exhibition\, “Surface Elements” at the Rockford University Art Gallery in the Clark Arts Center from 6-8 p.m. The artist will also be giving a public lecture in Art History Room 111 in the Clark Arts Center at 5 p.m. \nFor 18 years\, Stephen Cartwright has recorded his exact latitude\, longitude and elevation for every hour of every day. He incorporates this data into digital and sculptural work that intersects the realms of science and art. Using this and other self-recorded data\, Cartwright creates bold\, minimal landscape sculptures and digital media projects that explore topography\, temperature\, light\, and movement.
URL:https://www.rockford.edu/calendar-item/art-gallery-reception-surface-elements-stephen-cartwright/
LOCATION:Clark Arts Center\, 5050 E. State St. \, Rockford\, IL\, 61108\, United States
CATEGORIES:Campus Wide Event (Public)
ATTACH;FMTTYPE=image/jpeg:https://www.rockford.edu/wp-content/uploads/2017/08/IMG_9716edited.jpg
ORGANIZER;CN="Art Gallery":MAILTO:cwarzecha@rockford.edu
GEO:42.2640342;-89.0197305
X-APPLE-STRUCTURED-LOCATION;VALUE=URI;X-ADDRESS=Clark Arts Center 5050 E. State St.  Rockford IL 61108 United States;X-APPLE-RADIUS=500;X-TITLE=5050 E. State St.:geo:-89.0197305,42.2640342
END:VEVENT
BEGIN:VEVENT
DTSTART;TZID=America/New_York:20170925T150000
DTEND;TZID=America/New_York:20170925T180000
DTSTAMP:20260424T133030
CREATED:20170831T193152Z
LAST-MODIFIED:20171004T190506Z
UID:10007262-1506351600-1506362400@www.rockford.edu
SUMMARY:Art Gallery Hours
DESCRIPTION:Visit the gallery from 3-6pm to see Stephen Cartwright’s solo exhibition\, “Surface Elements” at the Rockford University Art Gallery in the Clark Arts Center. \nFor 18 years\, Stephen Cartwright has recorded his exact latitude\, longitude and elevation for every hour of every day. He incorporates this data into digital and sculptural work that intersects the realms of science and art. Using this and other self-recorded data\, Cartwright creates bold\, minimal landscape sculptures and digital media projects that explore topography\, temperature\, light\, and movement.
URL:https://www.rockford.edu/calendar-item/art-gallery-hours/2017-09-25/
LOCATION:Clark Arts Center\, 5050 E. State St. \, Rockford\, IL\, 61108\, United States
CATEGORIES:Campus Wide Event (Public)
ATTACH;FMTTYPE=image/jpeg:https://www.rockford.edu/wp-content/uploads/2017/08/IMG_9673edited.jpg
ORGANIZER;CN="Art Gallery":MAILTO:cwarzecha@rockford.edu
GEO:42.2640342;-89.0197305
X-APPLE-STRUCTURED-LOCATION;VALUE=URI;X-ADDRESS=Clark Arts Center 5050 E. State St.  Rockford IL 61108 United States;X-APPLE-RADIUS=500;X-TITLE=5050 E. State St.:geo:-89.0197305,42.2640342
END:VEVENT
BEGIN:VEVENT
DTSTART;TZID=America/New_York:20170926T160000
DTEND;TZID=America/New_York:20170926T170000
DTSTAMP:20260424T133030
CREATED:20170629T154831Z
LAST-MODIFIED:20170925T213331Z
UID:10007091-1506441600-1506445200@www.rockford.edu
SUMMARY:Scholarship Day
DESCRIPTION:More information to come.\n View the full Academic Calendar 2017-18
URL:https://www.rockford.edu/calendar-item/scholarship-day/
LOCATION:Rockford University\, 5050 E. State St. \, Rockford\, IL\, 61108\, United States
CATEGORIES:Academic Calendar,Campus Wide Event (Public)
GEO:42.2640342;-89.0197305
X-APPLE-STRUCTURED-LOCATION;VALUE=URI;X-ADDRESS=Rockford University 5050 E. State St.  Rockford IL 61108 United States;X-APPLE-RADIUS=500;X-TITLE=5050 E. State St.:geo:-89.0197305,42.2640342
END:VEVENT
BEGIN:VEVENT
DTSTART;TZID=America/New_York:20170927T100000
DTEND;TZID=America/New_York:20170927T130000
DTSTAMP:20260424T133030
CREATED:20170905T213222Z
LAST-MODIFIED:20170907T132523Z
UID:10007281-1506506400-1506517200@www.rockford.edu
SUMMARY:Rock Valley College and Rockford University Job and Internship Fair
DESCRIPTION:This bi-annual career fair is set up to connect students with employers in their field of study.  It provides opportunities for internships\, full time and part time employment and attracts employers in numerous different industries.  This fair has opportunities for students looking to gain valuable experience\, obtain a job upon graduating\, and make money to help pay for college\, or a combination of these.
URL:https://www.rockford.edu/calendar-item/rock-valley-college-rockford-university-job-internship-fair/
LOCATION:Rock Valley College PEC Building\, 3301 N. Mulford Road\, Rockford\, 61114
CATEGORIES:Academic Calendar,Alumni,Campus Wide Event (Public)
ORGANIZER;CN="Career Development":MAILTO:careers@rockford.edu
GEO:42.3095499;-88.9949611
X-APPLE-STRUCTURED-LOCATION;VALUE=URI;X-ADDRESS=Rock Valley College PEC Building 3301 N. Mulford Road Rockford 61114;X-APPLE-RADIUS=500;X-TITLE=3301 N. Mulford Road:geo:-88.9949611,42.3095499
END:VEVENT
BEGIN:VEVENT
DTSTART;TZID=America/New_York:20170927T150000
DTEND;TZID=America/New_York:20170927T180000
DTSTAMP:20260424T133030
CREATED:20170831T193152Z
LAST-MODIFIED:20171004T190506Z
UID:10007263-1506524400-1506535200@www.rockford.edu
SUMMARY:Art Gallery Hours
DESCRIPTION:Visit the gallery from 3-6pm to see Stephen Cartwright’s solo exhibition\, “Surface Elements” at the Rockford University Art Gallery in the Clark Arts Center. \nFor 18 years\, Stephen Cartwright has recorded his exact latitude\, longitude and elevation for every hour of every day. He incorporates this data into digital and sculptural work that intersects the realms of science and art. Using this and other self-recorded data\, Cartwright creates bold\, minimal landscape sculptures and digital media projects that explore topography\, temperature\, light\, and movement.
URL:https://www.rockford.edu/calendar-item/art-gallery-hours/2017-09-27/
LOCATION:Clark Arts Center\, 5050 E. State St. \, Rockford\, IL\, 61108\, United States
CATEGORIES:Campus Wide Event (Public)
ATTACH;FMTTYPE=image/jpeg:https://www.rockford.edu/wp-content/uploads/2017/08/IMG_9673edited.jpg
ORGANIZER;CN="Art Gallery":MAILTO:cwarzecha@rockford.edu
GEO:42.2640342;-89.0197305
X-APPLE-STRUCTURED-LOCATION;VALUE=URI;X-ADDRESS=Clark Arts Center 5050 E. State St.  Rockford IL 61108 United States;X-APPLE-RADIUS=500;X-TITLE=5050 E. State St.:geo:-89.0197305,42.2640342
END:VEVENT
BEGIN:VEVENT
DTSTART;TZID=America/New_York:20170929T150000
DTEND;TZID=America/New_York:20170929T180000
DTSTAMP:20260424T133030
CREATED:20170831T193152Z
LAST-MODIFIED:20171004T190506Z
UID:10007264-1506697200-1506708000@www.rockford.edu
SUMMARY:Art Gallery Hours
DESCRIPTION:Visit the gallery from 3-6pm to see Stephen Cartwright’s solo exhibition\, “Surface Elements” at the Rockford University Art Gallery in the Clark Arts Center. \nFor 18 years\, Stephen Cartwright has recorded his exact latitude\, longitude and elevation for every hour of every day. He incorporates this data into digital and sculptural work that intersects the realms of science and art. Using this and other self-recorded data\, Cartwright creates bold\, minimal landscape sculptures and digital media projects that explore topography\, temperature\, light\, and movement.
URL:https://www.rockford.edu/calendar-item/art-gallery-hours/2017-09-29/
LOCATION:Clark Arts Center\, 5050 E. State St. \, Rockford\, IL\, 61108\, United States
CATEGORIES:Campus Wide Event (Public)
ATTACH;FMTTYPE=image/jpeg:https://www.rockford.edu/wp-content/uploads/2017/08/IMG_9673edited.jpg
ORGANIZER;CN="Art Gallery":MAILTO:cwarzecha@rockford.edu
GEO:42.2640342;-89.0197305
X-APPLE-STRUCTURED-LOCATION;VALUE=URI;X-ADDRESS=Clark Arts Center 5050 E. State St.  Rockford IL 61108 United States;X-APPLE-RADIUS=500;X-TITLE=5050 E. State St.:geo:-89.0197305,42.2640342
END:VEVENT
BEGIN:VEVENT
DTSTART;TZID=America/New_York:20170929T180000
DTEND;TZID=America/New_York:20170929T210000
DTSTAMP:20260424T133030
CREATED:20170918T213030Z
LAST-MODIFIED:20170918T213030Z
UID:10007311-1506708000-1506718800@www.rockford.edu
SUMMARY:'Come-UNITY' Explosion: Free concert Sept. 29
DESCRIPTION:Sounds of Good News\, Inc. is presenting a “Come-UNITY” Explosion concert on Friday\, Sept. 29\, at Rockford University’s Fisher Memorial Chapel. Listen and sing along to jazz and choir numbers and enjoy light refreshments from 6-9 p.m. \nDonations and sales from CDs and DVDs will benefit the Young Eagles Success (YES) Club’s programming and workshops for children to young adults in the greater Rockford region. \nFor more information\, call 815-914-1487\, or visit yesclubcep.us.
URL:https://www.rockford.edu/calendar-item/come-unity-explosion-free-concert-sept-29/
LOCATION:Fisher Memorial Chapel – Rockford University\, 5050 E. State St. \, Rockford\, IL\, 61108\, United States
CATEGORIES:Campus Wide Event (Public),Student Activities
GEO:42.264048;-89.0197327
X-APPLE-STRUCTURED-LOCATION;VALUE=URI;X-ADDRESS=Fisher Memorial Chapel – Rockford University 5050 E. State St.  Rockford IL 61108 United States;X-APPLE-RADIUS=500;X-TITLE=5050 E. State St.:geo:-89.0197327,42.264048
END:VEVENT
BEGIN:VEVENT
DTSTART;VALUE=DATE:20170930
DTEND;VALUE=DATE:20171001
DTSTAMP:20260424T133030
CREATED:20170720T154723Z
LAST-MODIFIED:20170720T155009Z
UID:10004343-1506729600-1506815999@www.rockford.edu
SUMMARY:BSMS Fall Session 1 Ends
DESCRIPTION:View the full Academic Calendar 2017-18
URL:https://www.rockford.edu/calendar-item/bsms-fall-session-1-ends/
LOCATION:Rockford University\, 5050 E. State St. \, Rockford\, IL\, 61108\, United States
CATEGORIES:Academic Calendar,Campus Wide Event (Public)
ORGANIZER;CN="Student Involvement and Orientation":MAILTO:LKeller@Rockford.edu
GEO:42.2640342;-89.0197305
X-APPLE-STRUCTURED-LOCATION;VALUE=URI;X-ADDRESS=Rockford University 5050 E. State St.  Rockford IL 61108 United States;X-APPLE-RADIUS=500;X-TITLE=5050 E. State St.:geo:-89.0197305,42.2640342
END:VEVENT
END:VCALENDAR