BEGIN:VCALENDAR
VERSION:2.0
PRODID:-//Rockford University - ECPv6.15.20//NONSGML v1.0//EN
CALSCALE:GREGORIAN
METHOD:PUBLISH
X-ORIGINAL-URL:https://www.rockford.edu
X-WR-CALDESC:Events for Rockford University
REFRESH-INTERVAL;VALUE=DURATION:PT1H
X-Robots-Tag:noindex
X-PUBLISHED-TTL:PT1H
BEGIN:VTIMEZONE
TZID:America/Chicago
BEGIN:DAYLIGHT
TZOFFSETFROM:-0600
TZOFFSETTO:-0500
TZNAME:CDT
DTSTART:20160313T080000
END:DAYLIGHT
BEGIN:STANDARD
TZOFFSETFROM:-0500
TZOFFSETTO:-0600
TZNAME:CST
DTSTART:20161106T070000
END:STANDARD
BEGIN:DAYLIGHT
TZOFFSETFROM:-0600
TZOFFSETTO:-0500
TZNAME:CDT
DTSTART:20170312T080000
END:DAYLIGHT
BEGIN:STANDARD
TZOFFSETFROM:-0500
TZOFFSETTO:-0600
TZNAME:CST
DTSTART:20171105T070000
END:STANDARD
BEGIN:DAYLIGHT
TZOFFSETFROM:-0600
TZOFFSETTO:-0500
TZNAME:CDT
DTSTART:20180311T080000
END:DAYLIGHT
BEGIN:STANDARD
TZOFFSETFROM:-0500
TZOFFSETTO:-0600
TZNAME:CST
DTSTART:20181104T070000
END:STANDARD
END:VTIMEZONE
BEGIN:VEVENT
DTSTART;TZID=America/Chicago:20170602T100000
DTEND;TZID=America/Chicago:20170602T120000
DTSTAMP:20260424T190028
CREATED:20170509T204421Z
LAST-MODIFIED:20170509T204421Z
UID:10007034-1496397600-1496404800@www.rockford.edu
SUMMARY:Nursing Visit Day
DESCRIPTION:Learn more about RU and how our bachelor’s-level nursing program can help you achieve your Rock Solid dreams.\nHear from nursing faculty\, current students\, alumni\, and admissions. You can also tour our nursing lab and learn about our generous scholarship program. We can’t wait to share how our BSN program is a Rock Solid choice. \nRegister at rockford.edu/admission/visit\, or call 815.226.4050. Reserve your spot today!
URL:https://www.rockford.edu/calendar-item/nursing-visit-day/
LOCATION:Rockford University\, 5050 E. State St. \, Rockford\, IL\, 61108\, United States
CATEGORIES:Campus Wide Event (Public)
ORGANIZER;CN="Student Involvement and Orientation":MAILTO:LKeller@Rockford.edu
GEO:42.2640342;-89.0197305
X-APPLE-STRUCTURED-LOCATION;VALUE=URI;X-ADDRESS=Rockford University 5050 E. State St.  Rockford IL 61108 United States;X-APPLE-RADIUS=500;X-TITLE=5050 E. State St.:geo:-89.0197305,42.2640342
END:VEVENT
BEGIN:VEVENT
DTSTART;VALUE=DATE:20170605
DTEND;VALUE=DATE:20170606
DTSTAMP:20260424T190028
CREATED:20161012T203033Z
LAST-MODIFIED:20161207T205255Z
UID:10004162-1496620800-1496707199@www.rockford.edu
SUMMARY:BSMS Spring Degree Award Date
DESCRIPTION:View the full Academic Calendar 2016-17
URL:https://www.rockford.edu/calendar-item/bsms-spring-degree-award-date/
LOCATION:IL
CATEGORIES:Academic Calendar,Campus Wide Event (Public)
END:VEVENT
BEGIN:VEVENT
DTSTART;TZID=America/Chicago:20170607T180000
DTEND;TZID=America/Chicago:20170607T200000
DTSTAMP:20260424T190028
CREATED:20170517T161816Z
LAST-MODIFIED:20170523T212442Z
UID:10007036-1496858400-1496865600@www.rockford.edu
SUMMARY:Young Alumni Gathering
DESCRIPTION:Join us for a gathering of alumni and friends! Enjoy a night of fun with fellow alumni and Dr. Fulcomer\, as he shares exciting progress and plans for the university. We’d love to see you there! \nCall 815-394-5111 or email Alumni@rockford.edu for more information or to RSVP!
URL:https://www.rockford.edu/calendar-item/young-alumni-gathering/
LOCATION:Owly Oop Sports Pub\, 305 South Madison Street\, Rockford\, IL\, 61104\, United States
CATEGORIES:Alumni,Campus Wide Event (Public)
GEO:42.266771;-89.092668
X-APPLE-STRUCTURED-LOCATION;VALUE=URI;X-ADDRESS=Owly Oop Sports Pub 305 South Madison Street Rockford IL 61104 United States;X-APPLE-RADIUS=500;X-TITLE=305 South Madison Street:geo:-89.092668,42.266771
END:VEVENT
BEGIN:VEVENT
DTSTART;VALUE=DATE:20170619
DTEND;VALUE=DATE:20170701
DTSTAMP:20260424T190028
CREATED:20161012T203033Z
LAST-MODIFIED:20161207T205254Z
UID:10004257-1497830400-1498867199@www.rockford.edu
SUMMARY:MAT Summer Camp 06/19/17 - 06/30/17
DESCRIPTION:View the full Academic Calendar 2016-17
URL:https://www.rockford.edu/calendar-item/mat-summer-camp-061917-063017/
LOCATION:IL
CATEGORIES:Academic Calendar,Campus Wide Event (Public)
END:VEVENT
BEGIN:VEVENT
DTSTART;VALUE=DATE:20170626
DTEND;VALUE=DATE:20170627
DTSTAMP:20260424T190028
CREATED:20161117T174403Z
LAST-MODIFIED:20161207T205254Z
UID:10004178-1498435200-1498521599@www.rockford.edu
SUMMARY:BSMS Spring Session 4 Grades Due
DESCRIPTION:View the full Academic Calendar 2016-17
URL:https://www.rockford.edu/calendar-item/bsms-spring-session-4-grades-due/
LOCATION:IL
CATEGORIES:Academic Calendar,Campus Wide Event (Public)
END:VEVENT
END:VCALENDAR