BEGIN:VCALENDAR
VERSION:2.0
PRODID:-//Rockford University - ECPv6.15.20//NONSGML v1.0//EN
CALSCALE:GREGORIAN
METHOD:PUBLISH
X-ORIGINAL-URL:https://www.rockford.edu
X-WR-CALDESC:Events for Rockford University
REFRESH-INTERVAL;VALUE=DURATION:PT1H
X-Robots-Tag:noindex
X-PUBLISHED-TTL:PT1H
BEGIN:VTIMEZONE
TZID:America/Chicago
BEGIN:DAYLIGHT
TZOFFSETFROM:-0600
TZOFFSETTO:-0500
TZNAME:CDT
DTSTART:20160313T080000
END:DAYLIGHT
BEGIN:STANDARD
TZOFFSETFROM:-0500
TZOFFSETTO:-0600
TZNAME:CST
DTSTART:20161106T070000
END:STANDARD
BEGIN:DAYLIGHT
TZOFFSETFROM:-0600
TZOFFSETTO:-0500
TZNAME:CDT
DTSTART:20170312T080000
END:DAYLIGHT
BEGIN:STANDARD
TZOFFSETFROM:-0500
TZOFFSETTO:-0600
TZNAME:CST
DTSTART:20171105T070000
END:STANDARD
BEGIN:DAYLIGHT
TZOFFSETFROM:-0600
TZOFFSETTO:-0500
TZNAME:CDT
DTSTART:20180311T080000
END:DAYLIGHT
BEGIN:STANDARD
TZOFFSETFROM:-0500
TZOFFSETTO:-0600
TZNAME:CST
DTSTART:20181104T070000
END:STANDARD
END:VTIMEZONE
BEGIN:VEVENT
DTSTART;TZID=America/Chicago:20170503T193000
DTEND;TZID=America/Chicago:20170503T210000
DTSTAMP:20260424T202025
CREATED:20161012T203032Z
LAST-MODIFIED:20170124T211658Z
UID:10004153-1493839800-1493845200@www.rockford.edu
SUMMARY:Spring Choral Concert
DESCRIPTION:Spring Concert\nWed\, May 3\, 2017 at 7:30 pm\nMaddox Theatre\, Clark Arts Center\nTickets are free but required\n815.226.4100 to reserve\nFree will donations accepted at the door \nMusic for the season featuring: Rockford University’ s Regent Singers\, Women’ s Ensemble\, and Vocal Collective.
URL:https://www.rockford.edu/calendar-item/spring-choral-concert/
LOCATION:IL
CATEGORIES:Campus Wide Event (Public),PA Performance
ORGANIZER;CN="Box Office":MAILTO:boxoffice@rockford.edu
END:VEVENT
BEGIN:VEVENT
DTSTART;TZID=America/Chicago:20170504T110000
DTEND;TZID=America/Chicago:20170504T160000
DTSTAMP:20260424T202025
CREATED:20170424T145536Z
LAST-MODIFIED:20170426T180343Z
UID:10007017-1493895600-1493913600@www.rockford.edu
SUMMARY:Athletics car wash for GiGi’s Playhouse
DESCRIPTION:The Rockford University Student-Athlete Advisory Committee invites you to get your car washed on Thursday\, May 4\, between 11 a.m. and 4 p.m. in Parking Lot A. Car washes will cost $5. All proceeds and donations will benefit Gigi’s Playhouse Rockford. \nGigi’s Playhouse is the only worldwide network of down syndrome achievement centers\, changing lives through free\, results-driven programs for individuals of all ages\, their families and communities.
URL:https://www.rockford.edu/calendar-item/athletics-car-wash-gigis-playhouse/
LOCATION:Rockford University\, 5050 E. State St. \, Rockford\, IL\, 61108\, United States
CATEGORIES:Campus Wide Event (Public)
ORGANIZER;CN="Student Involvement and Orientation":MAILTO:LKeller@Rockford.edu
GEO:42.2640342;-89.0197305
X-APPLE-STRUCTURED-LOCATION;VALUE=URI;X-ADDRESS=Rockford University 5050 E. State St.  Rockford IL 61108 United States;X-APPLE-RADIUS=500;X-TITLE=5050 E. State St.:geo:-89.0197305,42.2640342
END:VEVENT
BEGIN:VEVENT
DTSTART;VALUE=DATE:20170505
DTEND;VALUE=DATE:20170506
DTSTAMP:20260424T202025
CREATED:20161012T203032Z
LAST-MODIFIED:20161208T220311Z
UID:10004252-1493942400-1494028799@www.rockford.edu
SUMMARY:Last Day of Classes
DESCRIPTION:View the full Academic Calendar 2016-17
URL:https://www.rockford.edu/calendar-item/last-day-of-classes-2/
LOCATION:IL
CATEGORIES:Academic Calendar,Campus Wide Event (Public)
END:VEVENT
BEGIN:VEVENT
DTSTART;VALUE=DATE:20170508
DTEND;VALUE=DATE:20170514
DTSTAMP:20260424T202025
CREATED:20161012T203032Z
LAST-MODIFIED:20180327T163711Z
UID:10004154-1494201600-1494719999@www.rockford.edu
SUMMARY:Final Exam Period
DESCRIPTION:View the full Academic Calendar 2016-17 \nFinal exams begin on Monday May 8\, 2017 and go through Saturday May 13\, 2017.\n View the full Spring 2017 exam schedule.
URL:https://www.rockford.edu/calendar-item/final-exam-period-050817-051217/
LOCATION:IL
CATEGORIES:Academic Calendar,Campus Wide Event (Public)
END:VEVENT
BEGIN:VEVENT
DTSTART;VALUE=DATE:20170513
DTEND;VALUE=DATE:20170514
DTSTAMP:20260424T202025
CREATED:20161012T203032Z
LAST-MODIFIED:20171115T163626Z
UID:10004155-1494633600-1494719999@www.rockford.edu
SUMMARY:Commencement/Degree Award Date
DESCRIPTION:View the full Academic Calendar 2016-17 \nBaccalaureate\nSaturday\, May 13\, 2017 10:00 a.m.\n Fisher Memorial Chapel\, Rockford University Campus \nBaccalaureate is an interfaith prayer experience open to all graduates and their families. Graduates should wear their caps and gowns. The approximate length of Baccalaureate is 50 minutes. Please call 815.226.4039 or e-mailscheduling@rockford.edu to reserve a place for you and all family members who will be joining you. This is a wonderful way to begin your special graduation day. \nAll graduates and their families are to park in visitor lots A\, B and C on campus for the Pre-Commencement events. Other parking lots on campus will be reserved for faculty\, event staff\, etc. \nCommencement Ceremony\nSaturday\, May 13\, 2017\n 2:00 p.m. (procession beginning at 1:45 p.m.)\n Coronado Performing Arts Center \nMore information on Rockford University 163rd Commencement Ceremony. \nParking for the Coronado Performing Arts Center (CPAC) is available at various downtown locations. For additional information and driving directions\, please visit the CPAC website: http://www.coronadopac.org/plan/parkingdirections/
URL:https://www.rockford.edu/calendar-item/baccalaureatecommencementdegree-award-date/
LOCATION:IL
CATEGORIES:Academic Calendar,Campus Wide Event (Public)
END:VEVENT
BEGIN:VEVENT
DTSTART;VALUE=DATE:20170514
DTEND;VALUE=DATE:20170515
DTSTAMP:20260424T202025
CREATED:20161117T173819Z
LAST-MODIFIED:20161207T205300Z
UID:10004302-1494720000-1494806399@www.rockford.edu
SUMMARY:All final grades due in Registrar's Office
DESCRIPTION:View the full Academic Calendar 2016-17
URL:https://www.rockford.edu/calendar-item/all-final-grades-due-in-registrars-office-2/
LOCATION:IL
CATEGORIES:Academic Calendar,Campus Wide Event (Public)
END:VEVENT
BEGIN:VEVENT
DTSTART;VALUE=DATE:20170515
DTEND;VALUE=DATE:20170516
DTSTAMP:20260424T202025
CREATED:20161012T203032Z
LAST-MODIFIED:20161207T205259Z
UID:10004156-1494806400-1494892799@www.rockford.edu
SUMMARY:MBA/Off Campus Summer Sessions begin
DESCRIPTION:View the full Academic Calendar 2016-17
URL:https://www.rockford.edu/calendar-item/mbaoff-campus-summer-sessions-begin/
LOCATION:IL
CATEGORIES:Academic Calendar,Campus Wide Event (Public)
END:VEVENT
BEGIN:VEVENT
DTSTART;VALUE=DATE:20170519
DTEND;VALUE=DATE:20170520
DTSTAMP:20260424T202025
CREATED:20161012T203033Z
LAST-MODIFIED:20161207T205258Z
UID:10004157-1495152000-1495238399@www.rockford.edu
SUMMARY:Spring Degree Award Date Posting Deadline
DESCRIPTION:View the full Academic Calendar 2016-17
URL:https://www.rockford.edu/calendar-item/spring-degree-award-date-posting-deadline/
LOCATION:IL
CATEGORIES:Academic Calendar,Campus Wide Event (Public)
END:VEVENT
BEGIN:VEVENT
DTSTART;VALUE=DATE:20170522
DTEND;VALUE=DATE:20170523
DTSTAMP:20260424T202025
CREATED:20161117T174011Z
LAST-MODIFIED:20161207T205258Z
UID:10004176-1495411200-1495497599@www.rockford.edu
SUMMARY:BSMS Spring Session 3 Grades Due
DESCRIPTION:View the full Academic Calendar 2016-17
URL:https://www.rockford.edu/calendar-item/bsms-spring-session-3-grades-due/
LOCATION:IL
CATEGORIES:Academic Calendar,Campus Wide Event (Public)
END:VEVENT
BEGIN:VEVENT
DTSTART;VALUE=DATE:20170527
DTEND;VALUE=DATE:20170528
DTSTAMP:20260424T202025
CREATED:20161012T203033Z
LAST-MODIFIED:20161207T205257Z
UID:10004158-1495843200-1495929599@www.rockford.edu
SUMMARY:BSMS Spring Session 4 Ends
DESCRIPTION:View the full Academic Calendar 2016-17
URL:https://www.rockford.edu/calendar-item/bsms-spring-session-4-ends/
LOCATION:IL
CATEGORIES:Academic Calendar,Campus Wide Event (Public)
END:VEVENT
BEGIN:VEVENT
DTSTART;VALUE=DATE:20170529
DTEND;VALUE=DATE:20170530
DTSTAMP:20260424T202025
CREATED:20161012T203033Z
LAST-MODIFIED:20161207T205256Z
UID:10004159-1496016000-1496102399@www.rockford.edu
SUMMARY:BSMS Summer Session 1 Begins
DESCRIPTION:View the full Academic Calendar 2016-17
URL:https://www.rockford.edu/calendar-item/bsms-summer-session-1-begins/
LOCATION:IL
CATEGORIES:Academic Calendar,Campus Wide Event (Public)
END:VEVENT
BEGIN:VEVENT
DTSTART;VALUE=DATE:20170529
DTEND;VALUE=DATE:20170530
DTSTAMP:20260424T202025
CREATED:20161012T203033Z
LAST-MODIFIED:20161207T205257Z
UID:10004160-1496016000-1496102399@www.rockford.edu
SUMMARY:Memorial Day Holiday-No classes\, offices closed
DESCRIPTION:View the full Academic Calendar 2016-17
URL:https://www.rockford.edu/calendar-item/memorial-day-holiday-no-classes-offices-closed/
LOCATION:IL
CATEGORIES:Academic Calendar,Campus Wide Event (Public)
END:VEVENT
BEGIN:VEVENT
DTSTART;VALUE=DATE:20170530
DTEND;VALUE=DATE:20170531
DTSTAMP:20260424T202025
CREATED:20161012T203033Z
LAST-MODIFIED:20161207T205255Z
UID:10004161-1496102400-1496188799@www.rockford.edu
SUMMARY:Regular Summer Session begins
DESCRIPTION:View the full Academic Calendar 2016-17
URL:https://www.rockford.edu/calendar-item/regular-summer-session-begins/
LOCATION:IL
CATEGORIES:Academic Calendar,Campus Wide Event (Public)
END:VEVENT
END:VCALENDAR