BEGIN:VCALENDAR
VERSION:2.0
PRODID:-//Rockford University - ECPv6.15.19//NONSGML v1.0//EN
CALSCALE:GREGORIAN
METHOD:PUBLISH
X-ORIGINAL-URL:https://www.rockford.edu
X-WR-CALDESC:Events for Rockford University
REFRESH-INTERVAL;VALUE=DURATION:PT1H
X-Robots-Tag:noindex
X-PUBLISHED-TTL:PT1H
BEGIN:VTIMEZONE
TZID:America/Chicago
BEGIN:DAYLIGHT
TZOFFSETFROM:-0600
TZOFFSETTO:-0500
TZNAME:CDT
DTSTART:20210314T080000
END:DAYLIGHT
BEGIN:STANDARD
TZOFFSETFROM:-0500
TZOFFSETTO:-0600
TZNAME:CST
DTSTART:20211107T070000
END:STANDARD
BEGIN:DAYLIGHT
TZOFFSETFROM:-0600
TZOFFSETTO:-0500
TZNAME:CDT
DTSTART:20220313T080000
END:DAYLIGHT
BEGIN:STANDARD
TZOFFSETFROM:-0500
TZOFFSETTO:-0600
TZNAME:CST
DTSTART:20221106T070000
END:STANDARD
BEGIN:DAYLIGHT
TZOFFSETFROM:-0600
TZOFFSETTO:-0500
TZNAME:CDT
DTSTART:20230312T080000
END:DAYLIGHT
BEGIN:STANDARD
TZOFFSETFROM:-0500
TZOFFSETTO:-0600
TZNAME:CST
DTSTART:20231105T070000
END:STANDARD
BEGIN:DAYLIGHT
TZOFFSETFROM:-0600
TZOFFSETTO:-0500
TZNAME:CDT
DTSTART:20240310T080000
END:DAYLIGHT
BEGIN:STANDARD
TZOFFSETFROM:-0500
TZOFFSETTO:-0600
TZNAME:CST
DTSTART:20241103T070000
END:STANDARD
BEGIN:DAYLIGHT
TZOFFSETFROM:-0600
TZOFFSETTO:-0500
TZNAME:CDT
DTSTART:20250309T080000
END:DAYLIGHT
BEGIN:STANDARD
TZOFFSETFROM:-0500
TZOFFSETTO:-0600
TZNAME:CST
DTSTART:20251102T070000
END:STANDARD
END:VTIMEZONE
BEGIN:VEVENT
DTSTART;TZID=America/Chicago:20220425T170000
DTEND;TZID=America/Chicago:20220425T180000
DTSTAMP:20260420T062706
CREATED:20220412T141612Z
LAST-MODIFIED:20220419T154720Z
UID:10008073-1650906000-1650909600@www.rockford.edu
SUMMARY:New Graduate Toast
DESCRIPTION:The Rockford University Alumni Office would like to celebrate our graduates\, and welcome them as our newest alumni on Monday\, April 25\, 2022\, following the Last Lecture. \nLight hors d’oeuvres and refreshments will be served\, and President Fulcomer will lead a toast to celebrate the accomplishments of our graduates. Celebrate with your classmates and learn more on how the Rockford University Alumni Office and Office of Career Development can assist you before and after graduation. Each attendee will also receive a free gift. This is a FREE event to all members of the Class of 2022\, including both undergraduate and graduate students\, but we ask all graduates planning to attend to register here: https://docs.google.com/forms/d/1-uifJTmiuS7Sw34vWVavwnYYOKFBrZzrzkqHMzIH9K8/edit \nQuestions? Please contact alumni@rockford.edu
URL:https://www.rockford.edu/calendar-item/new-graduate-toast/
LOCATION:Rockford University Johnson Alumni Center\, 5050 East State Street\, Rockford\, IL\, 61108\, United States
CATEGORIES:Alumni,Campus Wide Event (Public)
ATTACH;FMTTYPE=image/png:https://www.rockford.edu/wp-content/uploads/2022/04/grad-toast-4.png
END:VEVENT
BEGIN:VEVENT
DTSTART;TZID=America/Chicago:20220826T160000
DTEND;TZID=America/Chicago:20220826T200000
DTSTAMP:20260420T062706
CREATED:20220729T203324Z
LAST-MODIFIED:20220826T153329Z
UID:10008083-1661529600-1661544000@www.rockford.edu
SUMMARY:Alumni Reception & Fall Kickoff
DESCRIPTION:  \n \n  \nFriday\, August 26\, 2022\nRockford University Fall Kickoff\n4-5 p.m.: Alumni & Family Reception in Johnson Alumni Center\n4-8 p.m.: Fall Kickoff on the Quad \n  \n  \nRegistration is now closed.
URL:https://www.rockford.edu/calendar-item/alumni-reception-fall-kickoff/
LOCATION:Rockford University\, 5050 E. State St. \, Rockford\, IL\, 61108\, United States
CATEGORIES:Alumni
GEO:42.2640342;-89.0197305
X-APPLE-STRUCTURED-LOCATION;VALUE=URI;X-ADDRESS=Rockford University 5050 E. State St.  Rockford IL 61108 United States;X-APPLE-RADIUS=500;X-TITLE=5050 E. State St.:geo:-89.0197305,42.2640342
END:VEVENT
BEGIN:VEVENT
DTSTART;TZID=America/Chicago:20230218T173000
DTEND;TZID=America/Chicago:20230218T190000
DTSTAMP:20260420T062706
CREATED:20230111T210030Z
LAST-MODIFIED:20230130T210531Z
UID:10008286-1676741400-1676746800@www.rockford.edu
SUMMARY:Just Imagine: Gala 2023
DESCRIPTION:The university will host its annual gala in Regents Hall\, this year entitled Just Imagine: Gala 2023. Please join us for this event—that celebrates the legacy of alumni and friends from many walks of life—and together with your support—raise funds for student scholarships. \nCocktails | 5:30 p.m.\nDinner & Program | 7:00 p.m.\nBusiness Attire \nMore Information/Registration: https://www.rockford.edu/gala/ \n  \n 
URL:https://www.rockford.edu/calendar-item/just-imagine-gala-2023/
LOCATION:Regents Hall – Burpee Student Center\, 5050 E. State St. \, Rockford\, IL\, 61108\, United States
CATEGORIES:Alumni
ATTACH;FMTTYPE=image/jpeg:https://www.rockford.edu/wp-content/uploads/2023/01/Gala-1.jpg
GEO:42.2640342;-89.0197305
X-APPLE-STRUCTURED-LOCATION;VALUE=URI;X-ADDRESS=Regents Hall – Burpee Student Center 5050 E. State St.  Rockford IL 61108 United States;X-APPLE-RADIUS=500;X-TITLE=5050 E. State St.:geo:-89.0197305,42.2640342
END:VEVENT
BEGIN:VEVENT
DTSTART;TZID=America/Chicago:20230427T110000
DTEND;TZID=America/Chicago:20230427T230000
DTSTAMP:20260420T062706
CREATED:20230414T211611Z
LAST-MODIFIED:20230421T160654Z
UID:10008294-1682593200-1682636400@www.rockford.edu
SUMMARY:Day of Giving 2023 Celebration
DESCRIPTION:On April 27 we will celebrate our 9th Annual Day of Giving\, where all Regents come together to celebrate the amazing things happening at Rockford University. \nJoin us by making your gift of any size\, sharing on social media\, and stopping by our Day of Giving Celebration from 11 am – 1 pm outside the Johnson Alumni Center. Students\, faculty\, staff\, alumni\, and friends are all welcome! \nLEARN MORE/MAKE A GIFT\nFaculty/Staff Payroll Deduction Form HERE. (Any gifts made in advance and gifts already being made monthly for April will count toward Day of Giving and each donor will receive their tickets for our drawings during the Day of Giving Celebration.) \nCompetitions & Incentives: \n• Everyone is welcomed to join us from 11 am – 1 pm outside our Johnson Alumni Center for FREE food\, t-shirts to the first 50 guests\, pictures with Reggie\, time with the therapy dogs\, and anyone who makes a gift of any size is entered for both our pick-a-prize opportunity and our pick-a-pie opportunity (more details below)! We hope to see you there! \n• Every donor will be entered to win a $100 gift card from the Rockford University Spirit Shop \n• Make a gift of $25 or more to receive an entry to win TWO free tickets to our 2024 Gala \n• Donate a gift of at least $25 to receive your own Rockford University Blue-Blocker Glasses \n• Donate a gift of at least $75 to receive your own pair of Rockford University coasters \n• Sign up as an advocate\, and generate 5 gifts of any size from sharing on social\, receive your own Rockford University “Rolling R” t-shirt \nPICK-A-PRIZE & PICK-A-PIE DETAILS \nJoin us from 11 am – 1 pm outside the Johnson Alumni Center (or stop by our office any time if you can’t make the event) and make a gift of any size to receive one ticket for our Pick-A-Prize opportunity and Pick-A-Pie Opportunity. An additional entry is available for each $25 increment given. For the Pick-A-Prize\, you can place your ticket in the basket of any of the below prizes to have a chance at winning that prize. Each winning ticket will be drawn at the end of the business day (5p.m.) and all winners will be notified. For the Pick-A-Pie\, you can place your ticket in the basket of which EC member you would like to see get a (good-hearted) pie in the face during the End of Year Bash on Friday\, April 28. \nPick-A-Prize Options (THANK YOU to all our generous faculty/staff prize donors. Interested in donating a prize? Please contact Nicole Riley at NRiley@rockford.edu): \n\nMake Ice Cream in the Chemistry Lab\, Donated by Deb Breiter\nA Homemade Heart-Shaped Cake\, Donated by Kristen Clarke\nA Basket of Homemade Baked Goods by Brian Fisher\, Donated by Todd Fisher-Free\nA Historic Tour of Rockford\, Donated by Catherine Forslund\nA Homemade Chocolate Chocolate Chip Cheesecake\, Donated by James Marshall\nA Handmade Crocheted Scarf\, Donated by Jessica Morris\nA Handmade Crocheted Bag or Wallet\, Donated by Jen Ocampo\nA Salsa Dancing Lesson\, Donated by Luis Romero\nA Faculty/Staff/or Student Reserved Parking Space\, Donated by Advancement\n\nDon’t forget to follow us on Facebook for updates throughout the day\, including fun giveaways when we hit certain milestones!
URL:https://www.rockford.edu/calendar-item/day-of-giving-2023/
LOCATION:Rockford University\, 5050 E. State St. \, Rockford\, IL\, 61108\, United States
CATEGORIES:Alumni,Campus Wide Event (Public)
ATTACH;FMTTYPE=image/png:https://www.rockford.edu/wp-content/uploads/2023/04/DOG-2023-Banner.png
GEO:42.2640342;-89.0197305
X-APPLE-STRUCTURED-LOCATION;VALUE=URI;X-ADDRESS=Rockford University 5050 E. State St.  Rockford IL 61108 United States;X-APPLE-RADIUS=500;X-TITLE=5050 E. State St.:geo:-89.0197305,42.2640342
END:VEVENT
BEGIN:VEVENT
DTSTART;TZID=America/Chicago:20230501T113000
DTEND;TZID=America/Chicago:20230501T130000
DTSTAMP:20260420T062706
CREATED:20230412T153606Z
LAST-MODIFIED:20230412T154208Z
UID:10008293-1682940600-1682946000@www.rockford.edu
SUMMARY:May Day Tea
DESCRIPTION:May Day celebrations were a yearly tradition held for almost a century. You are invited to attend and listen to stories from past May Day Queens and alumni about their days at Rockford College/University. \nPlease contact Lauren Prchal in Advancement at (815)394.5190 or Lprchal@rockford.edu to RSVP.
URL:https://www.rockford.edu/calendar-item/may-day-tea-2/
LOCATION:University Club of Rockford\, 945 North Main Street\, Rockford
CATEGORIES:Alumni,Campus Wide Event (Public)
END:VEVENT
BEGIN:VEVENT
DTSTART;TZID=America/Chicago:20230504T170000
DTEND;TZID=America/Chicago:20230504T190000
DTSTAMP:20260420T062706
CREATED:20230421T174631Z
LAST-MODIFIED:20230421T174631Z
UID:10008297-1683219600-1683226800@www.rockford.edu
SUMMARY:Spring Mixer Networking Event
DESCRIPTION:Spring Mixer Networking Event for the Puri School of Business. MBA\, BSMS\, BSAS\, BSHS\, and Alumni are all invited. Free food\, free drinks\, free gifts\, and music.
URL:https://www.rockford.edu/calendar-item/spring-mixer-networking-event/
LOCATION:Puri School of Business\, 5100 East State St\, Rockford\, IL\, 61108\, United States
CATEGORIES:Alumni,Campus Wide Event (Public)
ATTACH;FMTTYPE=image/png:https://www.rockford.edu/wp-content/uploads/2023/04/Spring-Mixer-Networking-Event-PSOB.png
ORGANIZER;CN="Student Involvement and Orientation":MAILTO:LKeller@Rockford.edu
GEO:42.264752;-89.018728
X-APPLE-STRUCTURED-LOCATION;VALUE=URI;X-ADDRESS=Puri School of Business 5100 East State St Rockford IL 61108 United States;X-APPLE-RADIUS=500;X-TITLE=5100 East State St:geo:-89.018728,42.264752
END:VEVENT
BEGIN:VEVENT
DTSTART;TZID=America/Chicago:20230508T160000
DTEND;TZID=America/Chicago:20230508T180000
DTSTAMP:20260420T062706
CREATED:20230420T140932Z
LAST-MODIFIED:20230420T140945Z
UID:10008296-1683561600-1683568800@www.rockford.edu
SUMMARY:Grad Toast & Cap Decorating
DESCRIPTION:All graduating students are invited to join us outside the spirit shop to decorate your caps during Regalia pick up with free supplies provided by the alumni office! Local cap-decorating expert\, Sale Delgado\, will be present to assist with decorating and will also have pre-decorated options available for purchase. \nThen\, take a pause from decorating to join us for a toast with Interim President Patricia Lynott at 5 p.m. in forrest cool lounge to celebrate your accomplishments. Participants can still pick up regalia after the toast and finish decorating their cap until 6 p.m. \nWe hope to see you there! Please RSVP by emailing alumni@rockford.edu by Friday\, May 5.
URL:https://www.rockford.edu/calendar-item/grad-toast-cap-decorating/
LOCATION:Blanche Walker Burpee Student Center\, 5050 East State St.\, Rockford\, IL\, 61108\, United States
CATEGORIES:Alumni,Campus Wide Event (Public),Commencement
ATTACH;FMTTYPE=image/png:https://www.rockford.edu/wp-content/uploads/2023/04/GRAD-TOAST.png
GEO:42.2696337;-89.0184645
X-APPLE-STRUCTURED-LOCATION;VALUE=URI;X-ADDRESS=Blanche Walker Burpee Student Center 5050 East State St. Rockford IL 61108 United States;X-APPLE-RADIUS=500;X-TITLE=5050 East State St.:geo:-89.0184645,42.2696337
END:VEVENT
BEGIN:VEVENT
DTSTART;TZID=America/Chicago:20230615T120000
DTEND;TZID=America/Chicago:20230615T200000
DTSTAMP:20260420T062706
CREATED:20230418T212146Z
LAST-MODIFIED:20230418T212146Z
UID:10008295-1686830400-1686859200@www.rockford.edu
SUMMARY:Regents Golf Playday
DESCRIPTION:Rockford University will host its annual Regents Golf Playday to support our student-athletes and NCAA athletic programs that drive the success of nearly 30% of our undergraduate community. \nMore than 150 alumni and friends will join us for an afternoon of fun and fundraising at Aldeen Golf Club.
URL:https://www.rockford.edu/calendar-item/regents-golf-playday/
LOCATION:Aldeen Golf Club\, 1902 Reid Farm Rd\, Rockford\, IL\, 61107\, United States
CATEGORIES:Alumni,Campus Wide Event (Public)
END:VEVENT
BEGIN:VEVENT
DTSTART;TZID=America/Chicago:20230701T093000
DTEND;TZID=America/Chicago:20230701T110000
DTSTAMP:20260420T062706
CREATED:20230530T144123Z
LAST-MODIFIED:20230530T144123Z
UID:10008299-1688203800-1688209200@www.rockford.edu
SUMMARY:Dog Days of Summer
DESCRIPTION:Pack up your pup and join us for the first ever Dog Days of Summer hosted by Rockford University! Grab a donut\, cup of coffee\, and campus map and set out on a walk around the beautiful campus around RU. \nMaps will include both paved paths and non-paved paths so all will be able to participate in this event! Check in at the Rockford University Johnson Alumni Center at 9:30 a.m. to pick up a map and a free gift! \nParticipants are encouraged to email Natali Monaghan at nmonaghan@rockford.edu with any questions. Walk-Ins are always welcome! \nAll Dogs must be leashed and be updated on all vaccines. Don’t have a dog? You are still welcome to join us and enjoy a walk around campus.
URL:https://www.rockford.edu/calendar-item/dog-days-of-summer/
LOCATION:Rockford University\, 5050 E. State St. \, Rockford\, IL\, 61108\, United States
CATEGORIES:Alumni,Campus Wide Event (Public)
ATTACH;FMTTYPE=image/png:https://www.rockford.edu/wp-content/uploads/2023/05/Dog-Days-of-Summer-Postcard-Screenshot.png
GEO:42.2640342;-89.0197305
X-APPLE-STRUCTURED-LOCATION;VALUE=URI;X-ADDRESS=Rockford University 5050 E. State St.  Rockford IL 61108 United States;X-APPLE-RADIUS=500;X-TITLE=5050 E. State St.:geo:-89.0197305,42.2640342
END:VEVENT
BEGIN:VEVENT
DTSTART;TZID=America/Chicago:20240210T180000
DTEND;TZID=America/Chicago:20240210T220000
DTSTAMP:20260420T062706
CREATED:20240112T171207Z
LAST-MODIFIED:20240112T171207Z
UID:10008357-1707588000-1707602400@www.rockford.edu
SUMMARY:Gala 2024 Cocktails & Compositions
DESCRIPTION:Join us as we celebrate our students and turn the page on the Howard Colman Library. Enjoy a wide variety of food at stations throughout the library inspired by literary classics from J.R.R. Tolkien\, the Brothers Grimm\, and more! Experience student and faculty performances of poetry\, plays\, and performance pieces and engage with our living library of extraordinary people. \nSee the attached invitation for more details. \nSpecial $50 price for Rockford University faculty and staff. Contact Lauren Prchal at LPrchal@rockford.edu with questions.
URL:https://www.rockford.edu/calendar-item/gala-2024-cocktails-compositions/
LOCATION:Howard Colman Library\, 5050 E. State St. \, Rockford\, IL\, 61108\, United States
CATEGORIES:Alumni,Campus Wide Event (Public)
ATTACH;FMTTYPE=image/jpeg:https://www.rockford.edu/wp-content/uploads/2024/01/Gala_2024-invite-FNL-TO-PRINT_Page_1-1-scaled.jpg
GEO:42.2640342;-89.0197305
X-APPLE-STRUCTURED-LOCATION;VALUE=URI;X-ADDRESS=Howard Colman Library 5050 E. State St.  Rockford IL 61108 United States;X-APPLE-RADIUS=500;X-TITLE=5050 E. State St.:geo:-89.0197305,42.2640342
END:VEVENT
BEGIN:VEVENT
DTSTART;TZID=America/Chicago:20240606T120000
DTEND;TZID=America/Chicago:20240606T190000
DTSTAMP:20260420T062706
CREATED:20240325T164717Z
LAST-MODIFIED:20240325T164717Z
UID:10008366-1717675200-1717700400@www.rockford.edu
SUMMARY:Regents Golf Playday 2024
DESCRIPTION:Playing in the Regents Golf Playday supports the overall experience of Rockford University’s student-athletes. \n2024 Regents Golf Playday\nThursday\, June 6\, 2024 \nAldeen Golf Club\n1902 Reid Farm Road\nRockford\, IL 61107 \nRegistration opens with buffet lunch service: 12:00 p.m.\nShotgun start: 12:45 p.m.\nDinner & awards program: 5:30 p.m.
URL:https://www.rockford.edu/calendar-item/regents-golf-playday-2024/
LOCATION:Aldeen Golf Club\, 1902 Reid Farm Rd\, Rockford\, IL\, 61107\, United States
CATEGORIES:Alumni,Campus Wide Event (Public)
END:VEVENT
END:VCALENDAR